BEGIN:VCALENDAR
VERSION:2.0
PRODID:-//SRIP Tovarne Prihodnosti - ECPv6.6.0.1//NONSGML v1.0//EN
CALSCALE:GREGORIAN
METHOD:PUBLISH
X-ORIGINAL-URL:https://ctop.ijs.si
X-WR-CALDESC:Events for SRIP Tovarne Prihodnosti
REFRESH-INTERVAL;VALUE=DURATION:PT1H
X-Robots-Tag:noindex
X-PUBLISHED-TTL:PT1H
BEGIN:VTIMEZONE
TZID:Europe/Ljubljana
BEGIN:DAYLIGHT
TZOFFSETFROM:+0100
TZOFFSETTO:+0200
TZNAME:CEST
DTSTART:20250330T010000
END:DAYLIGHT
BEGIN:STANDARD
TZOFFSETFROM:+0200
TZOFFSETTO:+0100
TZNAME:CET
DTSTART:20251026T010000
END:STANDARD
BEGIN:DAYLIGHT
TZOFFSETFROM:+0100
TZOFFSETTO:+0200
TZNAME:CEST
DTSTART:20260329T010000
END:DAYLIGHT
BEGIN:STANDARD
TZOFFSETFROM:+0200
TZOFFSETTO:+0100
TZNAME:CET
DTSTART:20261025T010000
END:STANDARD
END:VTIMEZONE
BEGIN:VEVENT
DTSTART;TZID=Europe/Ljubljana:20250703T080000
DTEND;TZID=Europe/Ljubljana:20251106T170000
DTSTAMP:20260421T215344
CREATED:20250703T084634Z
LAST-MODIFIED:20250703T084634Z
UID:15977-1751529600-1762448400@ctop.ijs.si
SUMMARY:SIQ usposabljanja poletje / jesen 2025
DESCRIPTION:Slovenski institut za kakovost in meroslovje nudi aktualna znanja\, izmenjavo izkušenj in strokovno podporo pri iskanju praktičnih rešitev iz delovnega okolja njihovih udeležencev. Z uveljavljenimi predavatelji ter mednarodnim povezovanjem ostajajo vodilni na področjih kakovosti in odličnosti. \nVljudno vas vabimo k udeležbi na spodaj navedenih usposabljanjih\, ki bodo potekala v juliju\, avgustu in septembru 2025. \nZa vsa izobraževanja velja popust za člane/nečlane: \n\nčlani\, ki so imetniki SIQ certifikata 15% popust na kotizacijo\,\nčlani\, ki niso imetniki SIQ certifikata 5% popust na kotizacijo\,\n\nPopusti\, odobreni s strani SIQ\, se med seboj ne seštevajo. Popusti veljajo le za izobraževanja\, ki trajajo vsaj 7 pedagoških ur. \nZa dodatne informacije in prijavo sledite povezavam. \nAVTOMOBILSKA INDUSTRIJA \n\n\n\nNivojske presoje LPA (Layered Process Audits)\n02. 07. 2025 (1 dan)\n\n\nTečaj za notranje presojevalce sistema vodenja kakovosti v avtomobilski industriji IATF 16949:2016\n08. – 09. 07. 2025 (2 dni) \n \n\n\nOdobritev proizvodnega procesa in izdelka VDA 2 (PPA)\n10. 07. 2025 (1 dan)\n\n\nAIAG & VDA FMEA (1. izdaja\, 2019) – design FMEA\n28. 08. 2025 (1 dan)\n\n\n\n  \nPROIZVODNJA IN TEHNIČNA ZAKONODAJA \n\n\n\nVodja projektov vitkosti | Lean Manager\n25. 09. – 11. 12. 2025 (7 dni)\n\n\nKako v praksi izdelati oceno tveganja za serijski ali unikaten proizvod\n18. 09. 2025 (1 dan)\n\n\n\n  \n KAKOVOST \n\n\n\nFSC in veriga sledljivosti CoC v praksi\n01. 07. 2025 (1 dan)\n\n\nSmernice za presojanje sistemov vodenja ISO 19011:2018 v praksi\n03. 07. 2025 (1 dan)\n\n\nE-tečaj za notranje presojevalce sistema vodenja kakovosti ISO 9001:2015\n08. – 09. 07. 2025 (2 dni)\n\n\nTečaj za notranje presojevalce sistema vodenja kakovosti ISO 9001:2015 v socialnovarstvenih organizacijah\n09. – 10. 09. 2025 (2 dni) \n \n\n\n\n  \nOKOLJE \n\n\n\nE-seminar: Sistem ravnanja z okoljem ISO 14001:2015 – praktični napotki\n10. 07. 2025 (1 dan)\n\n\nTečaj za notranje presojevalce sistema ravnanja z okoljem ISO 14001:2015\n27. – 28. 08. 2025 (2 dni) \n \n\n\nKako izdelati načrt gospodarjenja z odpadki?\n03. 09. 2025 (1 dan)\n\n\nE-seminar: Praktični napotki za ravnanje z odpadki v industriji\n04. 09. 2025 (1 dan)\n\n\nKaj pričakovati na inšpekcijskem pregledu inšpektorja za okolje\n11. 09. 2025 (1 dan)\n\n\nIzračun ogljičnega odtisa izdelka\n24. 09. 2025 (1 dan)\n\n\nUsposabljanje za skrbnike sistema ravnanja z okoljem ISO 14001:2015\n29. 09. – 01. 10. 2025 (3 dni)\n\n\n\n  \nENERGIJA \n\n\n\nTečaj za notranje presojevalce sistema upravljanja z energijo ISO 50001:2018 \n \n09. – 10. 06. 2025 (2 dni) IZVEDBA ZAGOTOVLJENA\n\n\n\n  \nVARNOST IN ZDRAVJE PRI DELU \n\n\n\nTečaj za notranje presojevalce sistema vodenja varnosti in zdravja pri delu ISO 45001:2018\n02. – 03. 07. 2025 (2 dni) IZVEDBA ZAGOTOVLJENA\n\n\nUsposabljanje odgovornih oseb za varnost skladiščnih regalov (PRSES)\n21. 08. 2025 (1 dan)\n\n\nUsposabljanje za skrbnike sistema vodenja varnosti in zdravja pri delu ISO 45001:2018\n15. – 17. 09. 2025 (3 dni) \n \n\n\nUpravljanje sistema varnosti in zdravja pri delu ter varovanja okolja (HSE) v praksi organizacije\n24. – 25. 09. 2025 (2 dni) \n \n\n\n\n  \nVAROVANJE INFORMACIJ IN NEPREKINJENO POSLOVANJE \n\n\n\nTečaj za notranje presojevalce sistema vodenja kakovosti ISO 9001:2015 ter sistema upravljanja informacijske varnosti ISO/IEC 27001:2022\n01. – 03. 07. 2025 (3 dni) \n \n\n\nE-seminar: Osnove varstva osebnih podatkov – kaj morate vedeti o GDPR in ZVOP-2\n04. 07. 2025 (1 dan) \n \n\n\nUsposabljanje pooblaščene osebe za varstvo podatkov | Data Protection Officer – DPO\n08. in 09. 07. 2025 (2 dni) IZVEDBA ZAGOTOVLJENA\n\n\nE-delavnica: Varnost v finančnih institucijah – predstavitev Uredbe o digitalni odpornosti finančnega sektorja (DORA)\n10. 07. 2025 (1 dan)\n\n\nInformacijska varnost v odnosih z dobavitelji\n19. – 20. 08. 2025 (2 dni)\n\n\nVrednotenje uspešnosti ISMS\n21. – 22. 08. 2025 (2 dni)\n\n\nE-seminar: Sistem upravljanja neprekinjenega poslovanja ISO 22301:2019 za zavezance NIS2 in DORA – zakaj ga vzpostaviti in prednosti vzpostavitve\n08. 09. 2025 (1 dan)\n\n\nSpecialistični integrirani program upravljanja incidentov informacijske varnosti\, neprekinjenosti poslovanja in okrevanja po katastrofi | Incident Manager\n11. – 26. 09. 2025 (6 dni) \n \n\n\nUpravljanje incidentov informacijske varnosti (Incident Management)\n11. – 12. 09. 2025 (2 dni)\n\n\nUpravljanje informacijskih varnostnih incidentov\n15. – 16. 09. 2025 (2 dni)\n\n\nUpravljanje kontinuitete poslovanja (Business Continuity)\n18. – 19. 09. 2025 (2 dni)\n\n\nObnovitveni tečaj za managerje in vodilne presojevalce po zahtevah standardov ISO/IEC 27001:2022 in ISO/IEC 27002:2022\n22. – 23. 09. 2025 (2 dni) \n \n\n\nOkrevanje po katastrofi (Disaster Recovery)\n25. – 26. 09. 2025 (2 dni)\n\n\nUsposabljanje za managerje sistema upravljanja informacijske varnosti ISO/IEC 27001:2022 | Information security manager\n29. 09. – 02. 10. 2025 (4 dni)\n\n\n\n  \nUMETNA INTELIGENCA | AI \n\n\n\nMicrosoft Copilot v praksi: Kako z umetno inteligenco povečamo produktivnost v Microsoft Wordu\, Excelu\, PowerPointu\, Teamsih in Outlooku\n29. 08. 2025 (1 dan) \n \n\n\nUporaba umetne inteligence (UI) ChatGPT v podjetju za učinkovitejše delo | Začetna delavnica\n09. 09. 2025 (1 dan) \n \n\n\nUporaba orodij umetne inteligence (UI) za kadrovske strokovnjake\n17. 09. 2025 (1 dan)\n\n\n\n  \nINTENZIVNA USPOSABLJANJA IN ŠOLE \n\n\n\nVodja projektov vitkosti | Lean Manager\n25. 09. – 11. 12. 2025 (7 dni)\n\n\nSpecialistični integrirani program upravljanja incidentov informacijske varnosti\, neprekinjenosti poslovanja in okrevanja po katastrofi | Incident Manager\n11. – 26. 09. 2025 (6 dni) \n \n\n\nStrokovnjak za trajnostno upravljanje | Sustainability Management Expert \n \n30. 09. – 06. 11. 2025 (6 dni)\n\n\n\n  \n  \nCelotna ponudba izobraževalnih programov SIQ>> \n  \nIndividualna izobraževanja \nIzobraževanja iz ponudbe izvedemo po meri vaše organizacije na naši ali vaši lokaciji\, v spletni ali hibridni obliki.  \nPošljite povpraševanje za zaključene skupine>>
URL:https://ctop.ijs.si/dogodek/siq-usposabljanja-poletje-jesen-2025/
ATTACH;FMTTYPE=image/jpeg:https://ctop.ijs.si/wp-content/uploads/2025/07/izo_linkedin1.jpg
END:VEVENT
BEGIN:VEVENT
DTSTART;TZID=Europe/Ljubljana:20251021T080000
DTEND;TZID=Europe/Ljubljana:20260212T170000
DTSTAMP:20260421T215344
CREATED:20251021T092759Z
LAST-MODIFIED:20251119T184716Z
UID:16346-1761033600-1770915600@ctop.ijs.si
SUMMARY:SIQ usposabljanja jesen 2025 / zima 2026
DESCRIPTION:Slovenski institut za kakovost in meroslovje nudi aktualna znanja\, izmenjavo izkušenj in strokovno podporo pri iskanju praktičnih rešitev iz delovnega okolja njihovih udeležencev. Z uveljavljenimi predavatelji ter mednarodnim povezovanjem ostajajo vodilni na področjih kakovosti in odličnosti. \nVljudno vas vabimo k udeležbi na spodaj navedenih usposabljanjih\, ki bodo potekala v juliju\, avgustu in septembru 2025. \nZa vsa izobraževanja velja popust za člane/nečlane: \n\nčlani\, ki so imetniki SIQ certifikata 15% popust na kotizacijo\,\nčlani\, ki niso imetniki SIQ certifikata 5% popust na kotizacijo\,\n\nPopusti\, odobreni s strani SIQ\, se med seboj ne seštevajo. Popusti veljajo le za izobraževanja\, ki trajajo vsaj 7 pedagoških ur. \nZa dodatne informacije in prijavo sledite povezavam: \n  \n5. november 2025    Priprava medicinskega laboratorija na akreditacijo SIST EN ISO 15189:2023 \n17. in 18. november 2025 Tečaj za notranje presojevalce sistema vodenja kakovosti v laboratoriju ISO/IEC 17025:2017  \n  \n20. januar 2026 Integriteta podatkov v laboratorijski dejavnosti | NOVOST \n4. februar 2026 Obvladovanje merilne opreme \n5. februar 2026 Skladnost informacijske podpore in zagotavljanje neprekinjenega poslovanja v laboratorijih po zahtevah ISO/IEC 17025:2015 in ISO/IEC 15189:2022 \n12. februar 2026 Validacija računalniških sistemov v laboratorijski dejavnosti | NOVOST  \n  \n  \nCelotna ponudba izobraževalnih programov SIQ>> \n  \nIndividualna izobraževanja \nIzobraževanja iz ponudbe izvedemo po meri vaše organizacije na naši ali vaši lokaciji\, v spletni ali hibridni obliki.  \nPošljite povpraševanje za zaključene skupine>>
URL:https://ctop.ijs.si/dogodek/siq-usposabljanja-jesen-2025-zima-2026/
ATTACH;FMTTYPE=image/jpeg:https://ctop.ijs.si/wp-content/uploads/2025/10/siq1.jpg
END:VEVENT
BEGIN:VEVENT
DTSTART;TZID=Europe/Ljubljana:20251106T090000
DTEND;TZID=Europe/Ljubljana:20251106T130000
DTSTAMP:20260421T215344
CREATED:20251022T094126Z
LAST-MODIFIED:20251117T205358Z
UID:16403-1762419600-1762434000@ctop.ijs.si
SUMMARY:Prvi slovenski dan kvantnega računalništva
DESCRIPTION:Rudolfovo – Znanstveno in tehnološko središče Novo mesto vabi na Prvi slovenski dan kvantnega računalništva\, ki bo v četrtek\, 6. novembra 2025\, od 9. do 13. ure na Rudolfovem – Znanstvenem in tehnološkem središču Novo mesto\, v prostoru LabTOP\, Podbreznik 15\, 8000 Novo mesto. \nForum bo predstavil trenutno stanje na področju kvantnega računalništva\, vključno z zmogljivostmi kvantnih računalnikov\, ki so danes dostopni na trgu\, primeri njihove uporabe v znanosti in industriji ter predlogom slovenske strategije razvoja kvantnih tehnologij. \nKot govorce bodo gostili dr. Nicholasa Chancellorja (Newcastle University School of Computing)\, Anamarijo Meglič (MVZI)\, dr. Romana Kužela (Rudolfovo)\, doc. dr. Bojana Žunkoviča (Rudolfovo in FRI\, UL)\, Marjana Beltrama (AtomQL)\, dr. Jako Vodeba (IJS)\, prof. dr. Roka Žitka (IJS in FMF\, UL) ter dr. Matyasa Koniorczykija (HUN-REN Wigner Research Centre for Physics). \nDogodek bo odlična priložnost za poglobitev strokovnega znanja o kvantnem računalništvu doma in po svetu\, za mreženje strokovnjakov ter za večjo prepoznavnost Mednarodnega leta kvantne znanosti in tehnologije\, Svetovnega dneva znanosti za mir in razvoj ter slovenskega Meseca znanosti. \nSvojo prisotnost na forumu potrdite s prijavo na povezav TUKAJ\, saj je število mest v dvorani omejeno. \nVabilo s programom>>
URL:https://ctop.ijs.si/dogodek/prvi-slovenski-dan-kvantnega-racunalnistva/
ATTACH;FMTTYPE=image/jpeg:https://ctop.ijs.si/wp-content/uploads/2025/10/Posnetek-zaslona-2025-10-22-112438.jpg
END:VEVENT
END:VCALENDAR