BEGIN:VCALENDAR
VERSION:2.0
PRODID:-//SRIP Tovarne Prihodnosti - ECPv6.6.0.1//NONSGML v1.0//EN
CALSCALE:GREGORIAN
METHOD:PUBLISH
X-ORIGINAL-URL:https://ctop.ijs.si
X-WR-CALDESC:Events for SRIP Tovarne Prihodnosti
REFRESH-INTERVAL;VALUE=DURATION:PT1H
X-Robots-Tag:noindex
X-PUBLISHED-TTL:PT1H
BEGIN:VTIMEZONE
TZID:Europe/Ljubljana
BEGIN:DAYLIGHT
TZOFFSETFROM:+0100
TZOFFSETTO:+0200
TZNAME:CEST
DTSTART:20250330T010000
END:DAYLIGHT
BEGIN:STANDARD
TZOFFSETFROM:+0200
TZOFFSETTO:+0100
TZNAME:CET
DTSTART:20251026T010000
END:STANDARD
BEGIN:DAYLIGHT
TZOFFSETFROM:+0100
TZOFFSETTO:+0200
TZNAME:CEST
DTSTART:20260329T010000
END:DAYLIGHT
BEGIN:STANDARD
TZOFFSETFROM:+0200
TZOFFSETTO:+0100
TZNAME:CET
DTSTART:20261025T010000
END:STANDARD
END:VTIMEZONE
BEGIN:VEVENT
DTSTART;TZID=Europe/Ljubljana:20251021T080000
DTEND;TZID=Europe/Ljubljana:20260212T170000
DTSTAMP:20260421T191125
CREATED:20251021T092759Z
LAST-MODIFIED:20251119T184716Z
UID:16346-1761033600-1770915600@ctop.ijs.si
SUMMARY:SIQ usposabljanja jesen 2025 / zima 2026
DESCRIPTION:Slovenski institut za kakovost in meroslovje nudi aktualna znanja\, izmenjavo izkušenj in strokovno podporo pri iskanju praktičnih rešitev iz delovnega okolja njihovih udeležencev. Z uveljavljenimi predavatelji ter mednarodnim povezovanjem ostajajo vodilni na področjih kakovosti in odličnosti. \nVljudno vas vabimo k udeležbi na spodaj navedenih usposabljanjih\, ki bodo potekala v juliju\, avgustu in septembru 2025. \nZa vsa izobraževanja velja popust za člane/nečlane: \n\nčlani\, ki so imetniki SIQ certifikata 15% popust na kotizacijo\,\nčlani\, ki niso imetniki SIQ certifikata 5% popust na kotizacijo\,\n\nPopusti\, odobreni s strani SIQ\, se med seboj ne seštevajo. Popusti veljajo le za izobraževanja\, ki trajajo vsaj 7 pedagoških ur. \nZa dodatne informacije in prijavo sledite povezavam: \n  \n5. november 2025    Priprava medicinskega laboratorija na akreditacijo SIST EN ISO 15189:2023 \n17. in 18. november 2025 Tečaj za notranje presojevalce sistema vodenja kakovosti v laboratoriju ISO/IEC 17025:2017  \n  \n20. januar 2026 Integriteta podatkov v laboratorijski dejavnosti | NOVOST \n4. februar 2026 Obvladovanje merilne opreme \n5. februar 2026 Skladnost informacijske podpore in zagotavljanje neprekinjenega poslovanja v laboratorijih po zahtevah ISO/IEC 17025:2015 in ISO/IEC 15189:2022 \n12. februar 2026 Validacija računalniških sistemov v laboratorijski dejavnosti | NOVOST  \n  \n  \nCelotna ponudba izobraževalnih programov SIQ>> \n  \nIndividualna izobraževanja \nIzobraževanja iz ponudbe izvedemo po meri vaše organizacije na naši ali vaši lokaciji\, v spletni ali hibridni obliki.  \nPošljite povpraševanje za zaključene skupine>>
URL:https://ctop.ijs.si/dogodek/siq-usposabljanja-jesen-2025-zima-2026/
ATTACH;FMTTYPE=image/jpeg:https://ctop.ijs.si/wp-content/uploads/2025/10/siq1.jpg
END:VEVENT
BEGIN:VEVENT
DTSTART;VALUE=DATE:20260101
DTEND;VALUE=DATE:20270101
DTSTAMP:20260421T191125
CREATED:20251224T102851Z
LAST-MODIFIED:20251224T103140Z
UID:16726-1767225600-1798761599@ctop.ijs.si
SUMMARY:Program SIQ izobraževanj 2026
DESCRIPTION:Slovenski institut za kakovost in meroslovje nudi aktualna znanja\, izmenjavo izkušenj in strokovno podporo pri iskanju praktičnih rešitev iz delovnega okolja njihovih udeležencev. Z uveljavljenimi predavatelji ter mednarodnim povezovanjem ostajajo vodilni na področjih kakovosti in odličnosti. \nVljudno vas vabimo k udeležbi na spodaj navedenih usposabljanjih\, ki bodo potekala v januarju\, februarju in marcu 2026. \nZa vsa izobraževanja velja popust za člane/nečlane: \n\nčlani\, ki so imetniki SIQ certifikata 15% popust na kotizacijo\,\nčlani\, ki niso imetniki SIQ certifikata 5% popust na kotizacijo\,\n\nPopusti\, odobreni s strani SIQ\, se med seboj ne seštevajo. Popusti veljajo le za izobraževanja\, ki trajajo vsaj 7 pedagoških ur. \nker verjamemo\, da si boste v vaši organizaciji tudi v novem letu prizadevali k razvoju kompetenc vaših zaposlenih\, smo že pripravili program izobraževanj za leto 2026.
URL:https://ctop.ijs.si/dogodek/program-siq-izobrazevanj-2026/
ATTACH;FMTTYPE=image/jpeg:https://ctop.ijs.si/wp-content/uploads/2025/10/siq1.jpg
END:VEVENT
BEGIN:VEVENT
DTSTART;TZID=Europe/Ljubljana:20260129T080000
DTEND;TZID=Europe/Ljubljana:20260129T170000
DTSTAMP:20260421T191125
CREATED:20260126T120316Z
LAST-MODIFIED:20260126T140841Z
UID:16819-1769673600-1769706000@ctop.ijs.si
SUMMARY:Dan najboljše prakse
DESCRIPTION:Tradicionalna strokovna konferenca Dan najboljše prakse bo že 14. leto zapored potekala na Gospodarski zbornici Slovenije in v ospredje ponovno postavila izmenjavo dobrih praks. V četrtek\, 29. januarja 2026\, boste lahko prisluhnili navdihujočim predavanjem strokovnjakov s področja digitalizacije\, podatkovne analitike in umetne inteligence ter spremljali okroglo mizo z vodilnimi predstavniki industrije. \n  \nKonferenca je namenjena strokovnjakom\, odločevalcem iz podjetij in vsem\, ki ste vpeti v procese nenehnega izboljševanja na področju proizvodnje\, razvoja in iskanja novih tehnoloških rešitev. \nDogodek bo osredotočen na uporabo podatkov in umetne inteligence za večjo učinkovitost\, prihranke in nove poslovne priložnosti v industriji. Predstavljeni bodo številni primeri dobrih praks\, ki dokazujejo\, kako lahko podjetja z učinkovito rabo podatkov\, avtomatizacijo in naprednimi analitičnimi orodji povečajo produktivnost\, zmanjšajo stroške ter izboljšajo svoje poslovne rezultate. \nPridružite se nam in si zagotovite vpogled v najnovejše trende in rešitve\, ki bodo podprle vaš napredek v svetu industrije. \nPrijava je obvezna. \n  \nSPLOŠNI POGOJI \nKotizacija znaša 140 EUR + DDV in poleg programa vključuje še prehrano ter osvežilne napitke. \nPopusti: \na)  10 % popusta za člane Gospodarske zbornice Slovenije\, \nb) 20 % popusta za člane sodelujočih zbornic (Zbornica elektroindustrije\, Združenje za informatiko in telekomunikacije\, Združenje kemijske industrije\, Združenje kovinske industrije\, Združenje kovinskih materialov in nekovin\, Združenje za papirno in papirno predelovalno industrijo) in SRIP Tovarne prihodnosti\, \nc)  20 % popust za drugega in tretjega udeleženca iz istega podjetja.
URL:https://ctop.ijs.si/dogodek/dan-najboljse-prakse/
ATTACH;FMTTYPE=image/png:https://ctop.ijs.si/wp-content/uploads/2026/01/1.-Banner-DNP_950x534.png
END:VEVENT
END:VCALENDAR