BEGIN:VCALENDAR
VERSION:2.0
PRODID:-//SRIP Tovarne Prihodnosti - ECPv6.6.0.1//NONSGML v1.0//EN
CALSCALE:GREGORIAN
METHOD:PUBLISH
X-WR-CALNAME:SRIP Tovarne Prihodnosti
X-ORIGINAL-URL:https://ctop.ijs.si
X-WR-CALDESC:Events for SRIP Tovarne Prihodnosti
REFRESH-INTERVAL;VALUE=DURATION:PT1H
X-Robots-Tag:noindex
X-PUBLISHED-TTL:PT1H
BEGIN:VTIMEZONE
TZID:Europe/Ljubljana
BEGIN:DAYLIGHT
TZOFFSETFROM:+0100
TZOFFSETTO:+0200
TZNAME:CEST
DTSTART:20260329T010000
END:DAYLIGHT
BEGIN:STANDARD
TZOFFSETFROM:+0200
TZOFFSETTO:+0100
TZNAME:CET
DTSTART:20261025T010000
END:STANDARD
END:VTIMEZONE
BEGIN:VEVENT
DTSTART;VALUE=DATE:20260101
DTEND;VALUE=DATE:20270101
DTSTAMP:20260421T155639
CREATED:20251224T102851Z
LAST-MODIFIED:20251224T103140Z
UID:16726-1767225600-1798761599@ctop.ijs.si
SUMMARY:Program SIQ izobraževanj 2026
DESCRIPTION:Slovenski institut za kakovost in meroslovje nudi aktualna znanja\, izmenjavo izkušenj in strokovno podporo pri iskanju praktičnih rešitev iz delovnega okolja njihovih udeležencev. Z uveljavljenimi predavatelji ter mednarodnim povezovanjem ostajajo vodilni na področjih kakovosti in odličnosti. \nVljudno vas vabimo k udeležbi na spodaj navedenih usposabljanjih\, ki bodo potekala v januarju\, februarju in marcu 2026. \nZa vsa izobraževanja velja popust za člane/nečlane: \n\nčlani\, ki so imetniki SIQ certifikata 15% popust na kotizacijo\,\nčlani\, ki niso imetniki SIQ certifikata 5% popust na kotizacijo\,\n\nPopusti\, odobreni s strani SIQ\, se med seboj ne seštevajo. Popusti veljajo le za izobraževanja\, ki trajajo vsaj 7 pedagoških ur. \nker verjamemo\, da si boste v vaši organizaciji tudi v novem letu prizadevali k razvoju kompetenc vaših zaposlenih\, smo že pripravili program izobraževanj za leto 2026.
URL:https://ctop.ijs.si/dogodek/program-siq-izobrazevanj-2026/
ATTACH;FMTTYPE=image/jpeg:https://ctop.ijs.si/wp-content/uploads/2025/10/siq1.jpg
END:VEVENT
BEGIN:VEVENT
DTSTART;TZID=Europe/Ljubljana:20260305T090000
DTEND;TZID=Europe/Ljubljana:20260306T160000
DTSTAMP:20260421T155639
CREATED:20260226T084416Z
LAST-MODIFIED:20260226T084841Z
UID:16861-1772701200-1772812800@ctop.ijs.si
SUMMARY:Izobraževanje: Informacijska varnost
DESCRIPTION:Zakona ZInfv‑1 in NIS 2 od organizacij zahtevata\, da okrepijo informacijsko varnost in prepoznajo morebitna tveganja v povezavi do dobaviteljev. Ker je ravno dobavna veriga pogosto najranljivejši del sistema\, vas vabimo na izobraževanje: Informacijska varnost v odnosih z dobavitelji skladno z ZInfv-1 in NIS 2. Tekom programa boste osvojili prakse za nadzor dobaviteljev\, upravljanje tveganj in zaščito podatkov – od prvih pogajanj do konca sodelovanja. Na izobraževanju boste izvedeli\, kako: \n\npreveriti\, ali vaši dobavitelji izpolnjujejo varnostne zahteve\,\nobvladovati tveganja v kompleksnih dobavnih verigah\,\nizbrati prave ukrepe za strojno\, programsko opremo in oblak\,\nzagotoviti skladnost ter zaščito ključnih podatkov.\n\n\n\n\nPrijavite se in zaščitite svoje poslovanje!\n\n\n​⏰ 2 dni (9:00 – 16:00)  \n📆 5. – 6. marec 2026 \n📢 Mag. Davorin Kacian \n🔗Prijava na povezavi\n\n\n\nZa vsa izobraževanja velja popust za člane/nečlane: \n\nčlani\, ki so imetniki SIQ certifikata 15% popust na kotizacijo\,\nčlani\, ki niso imetniki SIQ certifikata 5% popust na kotizacijo\,\n\nPopusti\, odobreni s strani SIQ\, se med seboj ne seštevajo. Popusti veljajo le za izobraževanja\, ki trajajo vsaj 7 pedagoških ur.
URL:https://ctop.ijs.si/dogodek/izobrazevanje-informacijska-varnost/
LOCATION:SIQ Slovenski institut za kakovost in meroslovje\, Ljubljana\, Mašera-Spasićeva ulica 10\, Ljubljana\, 1000\, Slovenia
ATTACH;FMTTYPE=image/jpeg:https://ctop.ijs.si/wp-content/uploads/2025/10/siq1.jpg
END:VEVENT
END:VCALENDAR