BEGIN:VCALENDAR
VERSION:2.0
PRODID:-//SRIP Tovarne Prihodnosti - ECPv6.6.0.1//NONSGML v1.0//EN
CALSCALE:GREGORIAN
METHOD:PUBLISH
X-WR-CALNAME:SRIP Tovarne Prihodnosti
X-ORIGINAL-URL:https://ctop.ijs.si
X-WR-CALDESC:Events for SRIP Tovarne Prihodnosti
REFRESH-INTERVAL;VALUE=DURATION:PT1H
X-Robots-Tag:noindex
X-PUBLISHED-TTL:PT1H
BEGIN:VTIMEZONE
TZID:Europe/Ljubljana
BEGIN:DAYLIGHT
TZOFFSETFROM:+0100
TZOFFSETTO:+0200
TZNAME:CEST
DTSTART:20220327T010000
END:DAYLIGHT
BEGIN:STANDARD
TZOFFSETFROM:+0200
TZOFFSETTO:+0100
TZNAME:CET
DTSTART:20221030T010000
END:STANDARD
END:VTIMEZONE
BEGIN:VEVENT
DTSTART;TZID=Europe/Ljubljana:20220404T170000
DTEND;TZID=Europe/Ljubljana:20220404T193000
DTSTAMP:20260425T223000
CREATED:20220404T121033Z
LAST-MODIFIED:20220404T121033Z
UID:8500-1649091600-1649100600@ctop.ijs.si
SUMMARY:Konferenca: Do digitalne transformacije podjetij z naprednimi digitalnimi tehnologijami
DESCRIPTION:Vabilo na konferenco \n»Do digitalne transformacije podjetij z naprednimi digitalnimi tehnologijami« \nPredstavitev javnega razpisa za digitalno preobrazbo gospodarstva in primerov dobrih praks integracije naprednih digitalnih tehnologij v poslovne modele po industrijskih sektorjih \nTehnološki park Ljubljana | 4. april 2022 | ob 17. uri \n17.00–17.15         Uvodni nagovor \nminister za gospodarski razvoj in tehnologijo Zdravko Počivalšek \n17.15–17.25         Na poti do napredne regulacije virtualnih valut \ngeneralni direktor Finančne uprave Republike Slovenije mag. Ivan Simič  \n17.25–17.35         Kako dopolnjevati napredne digitalne tehnologije za večjo učinkovitost transformacije in možne uporabe umetne inteligence v industriji \nBlaž Fortuna\, Institut Jožef Štefan \n17.35–17.50         Predstavitev Javnega razpisa »Digitalna preobrazba Gospodarstva« \n17.50–18.00         Odmor za kavo \n18.00–19.00         Predstavitve po industrijah \n18.00–18.15         Živilskopredelovalna in prehrambna industrija \n18.15–18. 30         Energetska učinkovitost \n18.30–18.45         Mobilnost \n18.45–19.00         Informacijska infrastruktura \n19.00–19.30         Mreženje \nUdeležba na dogodku je brezplačna\, vendar je potrebna predhodna prijava na nena.dokuzov@gov.si\, in sicer do 4. aprila 2022 oziroma do zapolnitve mest.
URL:https://ctop.ijs.si/dogodek/konferenca-do-digitalne-transformacije-podjetij-z-naprednimi-digitalnimi-tehnologijami/
LOCATION:Tehnološki park Ljubljana
CATEGORIES:Konferenca
ATTACH;FMTTYPE=image/webp:https://ctop.ijs.si/wp-content/uploads/2022/04/blog21.jpg1_.webp
ORGANIZER;CN="MINISTRSTVO ZA GOSPODARSKI RAZVOJ IN TEHNOLOGIJO / MINISTRY OF ECONOMIC DEVELOPMENT AND TECHNOLOGY":MAILTO:metka.urbas@gov.si
END:VEVENT
BEGIN:VEVENT
DTSTART;VALUE=DATE:20220406
DTEND;VALUE=DATE:20220409
DTSTAMP:20260425T223000
CREATED:20220309T075345Z
LAST-MODIFIED:20220309T075345Z
UID:8288-1649203200-1649462399@ctop.ijs.si
SUMMARY:7th Annual Smart Manufacturing Summit
DESCRIPTION:Vabimo\, da se pridružite na konferenci o pametni proizvodnji v Barceloni v Španiji\, ki bo potekal od 6. do 8. aprila. Tokratna izvedba se bo osredotočila na sprostitev vrednosti industrije 4.0 za zmanjšanje operativnih in kapitalskih stroškov ter povečanje dobičkonosnosti z izkoriščanjem prednosti AI\, robotike\, IoT in drugih pametnih tehnologij. \nHibridni dogodek bo združil strokovnjake za proizvodnjo in robotiko iz različnih industrij\, da bi razpravljali o novih poteh\, ki so jih odprle nedavne inovacije\, in o najnovejših trendih v industriji\, ki omogočajo prebojne poslovne rezultate. Prisotni bodo vodilni strokovnjaki iz svetovnih blagovnih znamk\, ki bodo delili svoje izkušnje in razpravljali o izzivih in priložnostih za premostitev digitalnih ciljev za naslednjo generacijo proizvodne odličnosti. \nOgledate si lahko tudi utrinke iz pretekle izvedbe konference. \n \nDodatne informacije in prijava
URL:https://ctop.ijs.si/dogodek/7th-annual-smart-manufacturing-summit/
LOCATION:Hotel Catalonia Barcelona Plaza\, Plaça d'Espanya\, 6-8\, Barcelona\, 08014\, Španija
CATEGORIES:Konferenca
ATTACH;FMTTYPE=image/jpeg:https://ctop.ijs.si/wp-content/uploads/2022/03/830469e545e37212a1e902d2775ef529b3b3e89e0b92d68365b9f9bc0d7197fa-rimg-w1200-h423-gmir1.jpg
END:VEVENT
BEGIN:VEVENT
DTSTART;TZID=Europe/Ljubljana:20220407T091500
DTEND;TZID=Europe/Ljubljana:20220407T173000
DTSTAMP:20260425T223000
CREATED:20220309T101234Z
LAST-MODIFIED:20220309T101234Z
UID:8297-1649322900-1649352600@ctop.ijs.si
SUMMARY:Metromeet 2022
DESCRIPTION:METROMEET je edinstven dogodek in najpomembnejša konferenca v sektorju industrijskega dimenzijskega meroslovja. \nV okviru dogodka boste pridobili informacije o najnovejših tehnoloških dosežkih\, napredku v sektorju in vzpostavljen bo forum za razpravo o meroslovju in njegovem razvoju v hitro spreminjajoči se industriji. \nDogodek bo strokovnjakom v sektorju pokazal najnovejše delovne metode in formule\, ki izboljšujejo vaš industrijski proces in produktivnost vašega podjetja. V dveh dneh vam bodo vodilni v sektorju industrijskega meroslovja pokazali\, kako izboljšati kakovost svojega izdelka in učinkovitost njegove proizvodnje. \nProgram in PRIJAVA\n 
URL:https://ctop.ijs.si/dogodek/metromeet-2022/
CATEGORIES:Konferenca
ATTACH;FMTTYPE=image/png:https://ctop.ijs.si/wp-content/uploads/2022/03/Capture.png
END:VEVENT
BEGIN:VEVENT
DTSTART;TZID=Europe/Ljubljana:20220420T090000
DTEND;TZID=Europe/Ljubljana:20220420T150000
DTSTAMP:20260425T223000
CREATED:20220321T080652Z
LAST-MODIFIED:20220321T080652Z
UID:8340-1650445200-1650466800@ctop.ijs.si
SUMMARY:M & Q Konferenca za tehnične preglednike
DESCRIPTION:Član SRIP ToP\, podjetje Lotrič d.o.o. vas vabi na dogodek v živo z naslovom M & Q Konferenca za tehnične preglednike. \nKdaj?\nČetrtek\, 20. april 2022\n9.00–15.00 ure \nKje?\nRadisson Blu\, BTC\nBratislavska ulica 8\, 1000 Ljubljana \nIzpostavljene teme\n• Kaj nas čaka na področju tehničnih pregledov? Robert Jerončič\, sekretar\, Direktorat za kopenski promet\, Ministrstvo za infrastrukturo\n• Tehnologija električnih vozil. Sašo Marinč\, inštruktor za tehnično usposabljanje\, Porsche Slovenija\n• Kako naj šola odgovarja na potrebe podjetij v avtoservisni dejavnosti? Alojzij Kokalj\, vodja Šolski center Škofja Loka\, MIC\n• Kontrolni organi in akreditacija. Marko Verbovšek\, vodja področja akreditiranja kontrolnih organov\, Slovenska akreditacija\n• Pregled in razlaga certifikata. Jure Thaler\, direktor razvoja\, LOTRIČ Metrology\n• Predstavitev akcijskega načrta za uspešno izvedeno notranjo presojo. Primož Hafner\, tehnični direktor\, LOTRIČ Metrology \nPrijavite se na www.lotric.si/znanje/m-q-konferenca/. \nPrijave na konferenco zbirajo do petka\, 15. 4. 2022 oziroma do zasedenosti razpoložljivih mest.\nZa dodatna vprašanja vam je na voljo Tamara Meglič\, prodajna predstavnica področja Mobilnost | E: tamara.meglic@lotric.si | M: 031 696 628
URL:https://ctop.ijs.si/dogodek/m-q-konferenca-za-tehnicne-preglednike/
LOCATION:Radisson Blu\, BTC\, Bratislavska cesta 8\, Ljubljana\, 1000\, Slovenija
CATEGORIES:Konferenca
ATTACH;FMTTYPE=image/png:https://ctop.ijs.si/wp-content/uploads/2022/03/Lotric_metrology_dogodek.png
END:VEVENT
BEGIN:VEVENT
DTSTART;VALUE=DATE:20220426
DTEND;VALUE=DATE:20220430
DTSTAMP:20260425T223000
CREATED:20220222T102211Z
LAST-MODIFIED:20220222T102249Z
UID:8174-1650931200-1651276799@ctop.ijs.si
SUMMARY:LASER - World of Photonics
DESCRIPTION:LASER World of PHOTONICS je vodilna svetovna platforma za lasersko in fotonično industrijo. Sejem za fotonične komponente\, sisteme in aplikacije postavlja standarde že od leta 1973 – v velikosti\, raznolikosti in ustreznosti. To je edini kraj\, ki predstavlja kombinacijo raziskav\, tehnologije in aplikacij. Ker se ukvarja s ključno tehnologijo\, dogodek obravnava tudi druge pomembne industrijske sektorje\, kot so obdelava materialov\, merjenje\, testiranje in pregled\, optični prenos podatkov in laserji v medicini. Posebni pomen dogodka je posledica njegove edinstvene kombinacije uporabnikov\, proizvajalcev laserskih virov in dobaviteljev sistemov. \n \nWorld of QUANTUM ponuja industrijskim in znanstvenim akterjem s tega zelo dinamičnega področja tehnologije platformo za izmenjavo in mreženje. Vzporedno z Laser World of Photonics od 26. do 29. aprila 2022 bo World of QUANTUM tudi naredil vizualen poudarek na tematiko s svojim načinom razporeditve dvorane\, izposojenim iz kvantne fizike. Aplikacijske okrogle mize\, bodo posebej prilagojene startupom in veliko število stojnic vodilnih svetovnih podjetij in znanstvenih inštitutov iz kvantnih tehnologij bo dalo obiskovalcem možnost\, da izvejo izčrpne informacije o trenutnih trendih in vizijah za prihodnost. \nZa dodatne informacije in prijavo obiščite https://world-of-photonics.com/
URL:https://ctop.ijs.si/dogodek/laser-world-of-photonics/
LOCATION:Messe München\, Messegelände\, München\, 81823\, Nemčija
CATEGORIES:Konferenca
ATTACH;FMTTYPE=image/jpeg:https://ctop.ijs.si/wp-content/uploads/2022/02/LASER2019_SocialMedia_Logo1.jpg
END:VEVENT
END:VCALENDAR