BEGIN:VCALENDAR
VERSION:2.0
PRODID:-//SRIP Tovarne Prihodnosti - ECPv6.6.0.1//NONSGML v1.0//EN
CALSCALE:GREGORIAN
METHOD:PUBLISH
X-ORIGINAL-URL:https://ctop.ijs.si
X-WR-CALDESC:Events for SRIP Tovarne Prihodnosti
REFRESH-INTERVAL;VALUE=DURATION:PT1H
X-Robots-Tag:noindex
X-PUBLISHED-TTL:PT1H
BEGIN:VTIMEZONE
TZID:Europe/Ljubljana
BEGIN:DAYLIGHT
TZOFFSETFROM:+0100
TZOFFSETTO:+0200
TZNAME:CEST
DTSTART:20220327T010000
END:DAYLIGHT
BEGIN:STANDARD
TZOFFSETFROM:+0200
TZOFFSETTO:+0100
TZNAME:CET
DTSTART:20221030T010000
END:STANDARD
END:VTIMEZONE
BEGIN:VEVENT
DTSTART;VALUE=DATE:20220531
DTEND;VALUE=DATE:20220603
DTSTAMP:20260425T173612
CREATED:20220112T103809Z
LAST-MODIFIED:20220112T103831Z
UID:8000-1653955200-1654214399@ctop.ijs.si
SUMMARY:Avstrijsko-slovensko HPC srečanje 2022
DESCRIPTION:Vabimo vas\, k udeležbi na srečanju ASHPC22 – avstrijsko-slovenskega srečanja HPC 2022\, ki bo potekalo v Seeblickhotelu Grundlsee (Avstrija)\, 31. maja – 2. junija 2022. Možna bo tudi udeležba preko spleta. \n  \n \n  \nASHPC22 nadaljuje tradicijo letnih avstrijskih srečanj HPC\, ki so potekala med 2015 in 2020\, in prvega avstrijsko-slovenskega srečanja HPC v letu 2021: Združevanje znanstvenikov in tehnikov z ozadjem in zanimanjem za superračunalništvo. HPC deluje na mejah računsko izvedljivih problemov in pomaga pri osvajanju novega ozemlja znanosti. Spoznavanje trenutnih omejitev in izmenjava idej o reševanju teh vprašanj je ključnega pomena za nadaljnji razvoj znanstvene in tehnološke konkurenčnosti. ASHPC22 je odlična priložnost za predstavitev in spoznavanje najnovejših rezultatov raziskav ter izmenjavo idej med uporabniki in ponudniki HPC virov. \nOddaja povzetkov za prihajajoča predavanja in promocijski material za ASHPC22 je možna. Razmislite o predložitvi povzetka o svojem delu in strokovnem znanju v zvezi z visokozmogljivim računalništvom (HPC). Natančneje\, to lahko vključuje aplikacije HPC\, raziskave o HPC grozdih\, sistemski inženiring (shramba\, programska oprema\, omrežje itd.) in katero koli drugo temo\, povezano s HPC. Svoj povzetek lahko pošljete preko https://www.ashpc.at/abstract-submission.  \nRok za oddajo povzetka je 16. januar 2022\, obvestilo o potrditvi pa boste prejeli do 16. februarja 2022. \nPrijava za ASHPC22 in delavnico EuroHPC Access and Hands-On je možna na https://www.ashpc.at/registration. Rok za prijavo je 24. februar 2022. \nZa dodatne informacije obiščite https://www.ashpc.at/.
URL:https://ctop.ijs.si/dogodek/avstrijsko-slovensko-hpc-srecanje-2022/
CATEGORIES:Konferenca
ATTACH;FMTTYPE=image/jpeg:https://ctop.ijs.si/wp-content/uploads/2022/01/v617batch2-kul-05-technology1-scaled.jpg
END:VEVENT
BEGIN:VEVENT
DTSTART;TZID=Europe/Ljubljana:20220602T090000
DTEND;TZID=Europe/Ljubljana:20220602T130000
DTSTAMP:20260425T173612
CREATED:20220601T172715Z
LAST-MODIFIED:20220601T172715Z
UID:8836-1654160400-1654174800@ctop.ijs.si
SUMMARY:Digital Industries Innovation Day 2022
DESCRIPTION:Pridružite se 2. junija ob 9. uri v ljubljanskem hotelu Four Points by Sheraton Ljubljana Mons (Pot za Brdom 4) na konferenci Digital Industries Innovation Day 2022\, na kateri vam bodo predstavili novosti in rešitve s področij digitalizacije\, digitalnih storitev\, digitalnih rešitev za energetsko učinkovitost\, industrijske avtomatizacije\, pogonske tehnike\, industrijskih komunikacij in procesne instrumentacije. Vljudno vabljeni!\n\nČe udeležbe na dogodku še niste potrdili\, to storite najkasneje do srede 25. maja na e-naslov patricia.spec@siemens.com. Udeležba na konferenci je za vas in sodelavce iz vašega podjetja seveda brezplačna\, vendar pa je možna samo ob predhodni prijavi\, ki nam omogoča ustrezno načrtovanje dogodka.
URL:https://ctop.ijs.si/dogodek/digital-industries-innovation-day-2022/
CATEGORIES:Konferenca
ATTACH;FMTTYPE=image/jpeg:https://ctop.ijs.si/wp-content/uploads/2022/06/5f55c3a6-6e0c-489e-84d2-7cd6e02557df_Siemens-TIA-Visual_CMYK_large1.jpeg
END:VEVENT
BEGIN:VEVENT
DTSTART;TZID=Europe/Ljubljana:20220602T090000
DTEND;TZID=Europe/Ljubljana:20220602T170000
DTSTAMP:20260425T173612
CREATED:20220601T170218Z
LAST-MODIFIED:20220601T170218Z
UID:8828-1654160400-1654189200@ctop.ijs.si
SUMMARY:Mednarodna konferenca 'Energetska učinkovitost malih in srednje velikih podjetij za zeleno prihodnost'
DESCRIPTION:Za zeleni prehod je ena izmed ključnih aktivnosti tudi izboljšanje energetske učinkovitosti  in upravljanja z energijo. \nNa konferenci bodo ob predstavitvah rezultatov EU Horizon 2020 projekta  SMEmPOWER  (https://smempower.com/) predstavili primere dobrih praks s področja energetske učinkovitosti\, prav tako novosti na področju zakonodaje\, kot so \nCeloviti nacionalni energetski in podnebni načrt Republike Slovenije (NEPN)\, Slovenska strategija pametne specializacije\, ki je v prenovi ter Slovenske industrijske strategije 2021-2030 in ukrepe\, ki omogočajo različne instrumente podpore MSPjem.  Z vami bo tudi prof. Grigoris Papagiannes\, projektni koordinator\, Šola za elektrotehniko in računalništvo Univerza Aristotel v Solunu\, iz Grčije. \n \n  \nHibridna konferenca: v živo in predvajanje v živo preko ZOOM platforme s simultanim prevajanjem SI-ANG\, ANG-SI \nPrijave na konferenco: https://www.stajerskagz.si/izdelek/mednarodna-konferenca-o-energetski-ucinkovitosti-v-msp-jih-zelena-prihodnost/
URL:https://ctop.ijs.si/dogodek/mednarodna-konferenca-energetska-ucinkovitost-malih-in-srednje-velikih-podjetij-za-zeleno-prihodnost/
CATEGORIES:Konferenca
ATTACH;FMTTYPE=image/jpeg:https://ctop.ijs.si/wp-content/uploads/2022/06/waiting-room-with-monitors-1160x6531-1.jpg
END:VEVENT
BEGIN:VEVENT
DTSTART;TZID=Europe/Ljubljana:20220603T090000
DTEND;TZID=Europe/Ljubljana:20220603T160000
DTSTAMP:20260425T173612
CREATED:20220516T120542Z
LAST-MODIFIED:20220516T120542Z
UID:8676-1654246800-1654272000@ctop.ijs.si
SUMMARY:21. Okoljski dan gospodarstva
DESCRIPTION:Člane SRIPa ToP vljudno vabimo na tradicionalni 21. Okoljski dan gospodarstva\, ki bo po dvoletnem premoru ponovno potekal v živo dne 3. junija 2022\, ob 9:00 v Hotelu Rikli\, na Bledu. \nV okviru “trajnostnega ravnanja z okoljem”\, kot ene od horizontalnih tem SRIPa Tovarne prihodnosti\, bomo na dogodku podelili Potrdila za področje trajnostnega ravnanja z okoljem v okviru SRIP Tovarne prihodnosti – Srednje in malo za podnebno nevtralno. V pilotnem projektu so sodelovala tri podjetja SRIP ToP. Razkrijemo jih v petek\, 3. junija 2022 na Bledu v hotelu Rikli. \nKotizacije ni. \nProgram in prijava >>>
URL:https://ctop.ijs.si/dogodek/21-okoljski-dan-gospodarstva/
LOCATION:Hotel Rikli\, Bled\, Cankarjeva cesta 4\, 4260 Bled
CATEGORIES:Konferenca
ATTACH;FMTTYPE=image/png:https://ctop.ijs.si/wp-content/uploads/2022/05/program_21.png
END:VEVENT
BEGIN:VEVENT
DTSTART;VALUE=DATE:20220627
DTEND;VALUE=DATE:20220630
DTSTAMP:20260425T173612
CREATED:20220419T064620Z
LAST-MODIFIED:20220419T064620Z
UID:8582-1656288000-1656547199@ctop.ijs.si
SUMMARY:Konferenca o industrijskih tehnologijah prihodnosti IndTech22
DESCRIPTION:Evropska komisija vse\, ki jih zanimajo industrijske tehnologije prihodnosti in se želijo povezati s ključnimi raziskovalnimi organizacijami\, industrijskimi akterji in oblikovalci politik\, obvešča\, da bo med 27. in 29. junijem v Grenoblu v Franciji konferenca IndTech2022. Ta konferenca je organizirana na dve leti. Glavne teme letošnje konference bodo osredotočene na zeleni in digitalni prehod industrije.\n \nTeme razprav na konferenci bodo: zeleni in digitalni prehod\, krožnost in trajnostnost\, umetna inteligenca za proizvodnjo\, tehnologije osredotočene na človeka\, nastajajoče prelomne tehnologije\, mladi na področju znanosti in tehnologij. \nPredvidene so razprave o izzivih za evropsko industrijo po pandemiji covida 19 ter predstavitev prvih rezultatov razpisov programa Obzorje Evropa in razprava o razpisih v letih 2023 in 2024. \nSpletna stran konference: https://indtech2022.eu/home
URL:https://ctop.ijs.si/dogodek/konferenca-o-industrijskih-tehnologijah-prihodnosti-indtech22/
CATEGORIES:Konferenca
ATTACH;FMTTYPE=image/png:https://ctop.ijs.si/wp-content/uploads/2022/04/8353875409-86fc593bd61.png
END:VEVENT
END:VCALENDAR