BEGIN:VCALENDAR
VERSION:2.0
PRODID:-//SRIP Tovarne Prihodnosti - ECPv6.6.0.1//NONSGML v1.0//EN
CALSCALE:GREGORIAN
METHOD:PUBLISH
X-ORIGINAL-URL:https://ctop.ijs.si
X-WR-CALDESC:Events for SRIP Tovarne Prihodnosti
REFRESH-INTERVAL;VALUE=DURATION:PT1H
X-Robots-Tag:noindex
X-PUBLISHED-TTL:PT1H
BEGIN:VTIMEZONE
TZID:Europe/Ljubljana
BEGIN:DAYLIGHT
TZOFFSETFROM:+0100
TZOFFSETTO:+0200
TZNAME:CEST
DTSTART:20230326T010000
END:DAYLIGHT
BEGIN:STANDARD
TZOFFSETFROM:+0200
TZOFFSETTO:+0100
TZNAME:CET
DTSTART:20231029T010000
END:STANDARD
END:VTIMEZONE
BEGIN:VEVENT
DTSTART;TZID=Europe/Ljubljana:20230306T110000
DTEND;TZID=Europe/Ljubljana:20230306T120000
DTSTAMP:20260424T163653
CREATED:20230220T093827Z
LAST-MODIFIED:20230220T093852Z
UID:12037-1678100400-1678104000@ctop.ijs.si
SUMMARY:Deepening competencies in the EU - SKILLS on the AGENDA
DESCRIPTION:Slovensko gospodarsko in raziskovalno združenje (SBRA) vas v sodelovanju s predstavništvi raziskovalnih pisarn iz Cipra\, Madžarske\, Litve in Poljske vljudno vabi na spletni dogodek Deepening competencies in the EU – SKILLS on the AGENDA\, ki bo 6. marca 2023\, od 11.00 do 12.30. \nCilj spletnega dogodka je predstaviti aktivnosti EU na področju izboljšanja veščin. Pričeli bodo s predstavitvijo iniciative »Pakt za spretnosti«\, ki je eden od vodilnih ukrepov Evropske agende za spretnosti ter predstavitvijo priložnosti za sodelovanje različnih organizacij. Pakt za spretnosti je prvi in najnovejši ukrep v novi pobudi »Skills Agenda for Europe«\, njegov cilj pa je združiti javne in zasebne organizacije ter jih spodbuditi k konkretnim zavezam k izpopolnjevanju in usposabljanju odraslih. \nKer so spretnosti eden od gradnikov Nove evropske inovacijske agende\, so povabili tudi Evropski inštitut za inovacije in tehnologijo (EIT)\, ki bo prispeval izvajanjem ciljev inovacijske agende s podporo razvoja visokotehnoloških talentov v obdobju treh let v vseh državah članicah\, v višini enega milijona evrov. \nProsijo\, da se na dogodek prijavite najkasneje do petka\, 3. marca 2023 do 14.00. \nPrijave na konferenco zbirajo na tej spletni strani\, program konference pa je na voljo na tej povezavi. \nKonferenca je brezplačna\, potekala bo v angleškem jeziku. \nLepo vabljeni!
URL:https://ctop.ijs.si/dogodek/deepening-competencies-in-the-eu-skills-on-the-agenda/
CATEGORIES:Konferenca
ATTACH;FMTTYPE=image/png:https://ctop.ijs.si/wp-content/uploads/2023/02/6_march_2023_background1.png
END:VEVENT
END:VCALENDAR