BEGIN:VCALENDAR
VERSION:2.0
PRODID:-//SRIP Tovarne Prihodnosti - ECPv6.6.0.1//NONSGML v1.0//EN
CALSCALE:GREGORIAN
METHOD:PUBLISH
X-WR-CALNAME:SRIP Tovarne Prihodnosti
X-ORIGINAL-URL:https://ctop.ijs.si
X-WR-CALDESC:Events for SRIP Tovarne Prihodnosti
REFRESH-INTERVAL;VALUE=DURATION:PT1H
X-Robots-Tag:noindex
X-PUBLISHED-TTL:PT1H
BEGIN:VTIMEZONE
TZID:Europe/Ljubljana
BEGIN:DAYLIGHT
TZOFFSETFROM:+0100
TZOFFSETTO:+0200
TZNAME:CEST
DTSTART:20230326T010000
END:DAYLIGHT
BEGIN:STANDARD
TZOFFSETFROM:+0200
TZOFFSETTO:+0100
TZNAME:CET
DTSTART:20231029T010000
END:STANDARD
END:VTIMEZONE
BEGIN:VEVENT
DTSTART;VALUE=DATE:20230606
DTEND;VALUE=DATE:20230610
DTSTAMP:20260424T115152
CREATED:20230124T104800Z
LAST-MODIFIED:20230124T104800Z
UID:11717-1686009600-1686355199@ctop.ijs.si
SUMMARY:Mednarodna konferenca EuCNC 2023
DESCRIPTION:Vabljeni na mednarodno konferenco EuCNC 2023\, ki bo potekala skupaj s 6G Summitom od 6-9. junija 2023 v Gothenburgu na Švedskem. Vsebine konference so pomembne za mnoge člane\, še posebno za sodelujoče v različnih Horizon projektih\, ki se ukvarjajo s komunikacijskimi tehnologijami na področjih pametnih mest\, IoT\, industrije 4.0 in mobilnosti. \nVsi\, ki želite sodelovati s svojimi prispevki\, vabljeni da se odzovete na spodnje razpise – več o rokih si lahko preberete v nadaljevanju. \nV okviru konference so poleg samih raziskovalnih prispevkov in razstavnih panojev prisotni tudi zelo pomembni in znani govorci\, ki so prav tako vključeni v aktualne okrogle mize. \nVeč podrobnosti v nadaljevanju prispevka v angleškem jeziku 👉 \n****************************************** \nCall for Papers\, Posters\, Workshops\, Special Sessions\, Tutorials and Demos \n2023 EuCNC & 6G Summit\, https://www.eucnc.eu\, is the 32nd edition of a successful series of a conference in the field of telecommunications\, sponsored by IEEE Communications Society\, European Association on Antennas and Propagation\, and European Association for Signal Processing\, and supported by the European Commission and the Finnish 6G Flagship Programme. \nThe conference focuses on various aspects of Beyond 5G/6G communications systems and networks\, including cloud and virtualisation solutions\, management technologies\, hardware components and microelectronic technologies\, and vertical application areas.  It targets to bring together researchers from all over the world to present the latest research results\, and it is one of the main venues for demonstrating the results of research projects\, especially from successive European RDI programmes. The local organizer is Chalmers University of Technology\, and the conference venue is The Swedish Exhibition & Congress Centre in Gothenburg\, Sweden. \n  \nWe invite you and your colleagues to submit a paper and/or poster to the conference\, as well as proposals for workshops\, special sessions and tutorials\, the key dates being: \n\n2023 Jan 27 – Papers submission for regular oral sessions\n2023 Jan 27 – Proposals for workshops\, special sessions and tutorials\n2023 Mar 10 – Deadline for submission of extended abstracts for posters\n2023 Mar 10 – Notification of acceptance of workshops\, special sessions and tutorials\n2023 Apr 03 – Notification of acceptance of papers and posters\n2023 Apr 14 – Final paper submission\n\n  \nThe conference will include: \n\nregular sessions with papers from the open call (to be submitted to IEEE Xplore)\, the call being available at https://eucnc.eu/call-for-papers;\nworkshops\, the call being available at https://eucnc.eu/call-for-workshops;\nspecial sessions\, the call being available at https://eucnc.eu/call-for-special-sessions;\nposter sessions\, the call being available at https://eucnc.eu/call-for-posters;\ntutorials\, the call being available at https://eucnc.eu/call-for-tutorials;\npanels; https://eucnc.eu/panels;\nkeynote talks; https://eucnc.eu/keynotes;\ndemos and exhibitions\, the call being available at https://eucnc.eu/call-for-exhibitors-demos;\ntechnical pitches at coffee breaks by exhibitors.\n\n  \nInformation is also available in social media\, and important updates will be also announced there. \n  \nThe conference is intended to be held for in-person attendance; however\, given the COVID-19 pandemic\, the conference format may change\, since safety and well-being of all conference participants is our top priority.  The conference has a not-for-profit organisation\, hence\, registration fees are as low as possible and all surplus will be made available in grants.  Best Papers and Booth Awards will be granted. Accepted and presented papers for regular sessions will be published in the Conference Proceedings and submitted to IEEE Xplore and other Abstracting and Indexing (A&I) databases.
URL:https://ctop.ijs.si/dogodek/mednarodna-konferenca-eucnc-2023/
LOCATION:Gothenburg\, Švedska\, Gothenburg\, Švedska
CATEGORIES:Konferenca
ATTACH;FMTTYPE=image/png:https://ctop.ijs.si/wp-content/uploads/2023/01/eucnc.png
END:VEVENT
BEGIN:VEVENT
DTSTART;VALUE=DATE:20230611
DTEND;VALUE=DATE:20230614
DTSTAMP:20260424T115152
CREATED:20230419T132920Z
LAST-MODIFIED:20230419T132920Z
UID:12670-1686441600-1686700799@ctop.ijs.si
SUMMARY:EuroNanoForum
DESCRIPTION:Vabljeni na brezplačni EuroNanoForum bo potekal od 11. do 13. junija 2023 v Lundu na Švedskem. \nForum ponuja priložnost za razpravo o spremembah v okviru zelenega dogovora\, dvojnega prehoda in odpornosti naših družb in gospodarstev. Te spremembe so ključnega pomena za to\, kako lahko evropski raziskovalni programi\, zlasti Cluster Digital\, Industry and Space\, te spremembe poslabšajo. \nNapredni materiali in nanotehnologije se obravnavajo kot ena sama ključna omogočitvena tehnologija za naslednjih 5 let. Danes tehnologije niso več obravnavane same po sebi (»ključni dejavniki«). Namesto tega je poudarek na globalni konkurenci industrij\, ki jih poganjajo nove tehnologije po vsem svetu\, in na dodani vrednosti\, ki državljanom omogoča aktivno podporo le teh\, saj spreminjajo njihovo vsakdanje življenje. \nGlede na to bi moral biti namen raziskav in inovacij za napredne materiale in nanotehnologije v ospredju razprav na plenarnih in vseh vzporednih zasedanjih. Vzporedna srečanja so zato v veliki meri namenjena razpravi o spodnjih izzivih: \n\nAdvanced Materials and Manufacturing for a sustainable and resilient Europe\nGraphene & 2D Materials – From fundamental science to industrial applications\nGreen Energy – Materials for a sustainable energy sector\nSemiconductors and new materials for future chips\nEuropean Infrastructures – From fundamental science to industrial applications\nSafe and Sustainable by Design – How to create prosperity under the SSbD framework\nHuman Brain Project – Enabler for Neuro-derived technologies\nNanomedicine – Nanomaterials to achieve innovation in healthcare\nQuantum Technologies – Europe’s major role\n\nUdeležba je brezplačna. \nDodatne informacije in prijave
URL:https://ctop.ijs.si/dogodek/euronanoforum/
CATEGORIES:Konferenca
ATTACH;FMTTYPE=image/jpeg:https://ctop.ijs.si/wp-content/uploads/2023/04/Toppbild20NY_31-scaled.jpg
END:VEVENT
BEGIN:VEVENT
DTSTART;VALUE=DATE:20230615
DTEND;VALUE=DATE:20230616
DTSTAMP:20260424T115152
CREATED:20230531T090856Z
LAST-MODIFIED:20230531T090856Z
UID:12930-1686787200-1686873599@ctop.ijs.si
SUMMARY:Dobre prakse PAMETNIH TOVARN
DESCRIPTION:Na dogodkih Dobre prakse pametnih tovarn gostijo proizvodna podjetja in ponudnike naprednih tehnoloških rešitev\, ki iz prve roke predstavljajo dobre prakse s področja uvajanja IT rešitev za podporo proizvodnje\, digitalne evolucije pri optimizaciji proizvodnje\, pametne avtomatizacije\, vitke proizvodnje\, robotizacije\, optimizacije procesov\, uvajanja rešitev industrije 4.0\, digitalnega dvojčka\, pomembnosti organizacijske kulture na poti do digitalizacije\, industrijskega omrežja 5G\, uporabe umetne inteligence\, prilagajanja operacij strojev in robotov v realnem času\, kibernetske varnosti\, prediktivnega vzdrževanja\, interneta stvari\, … \nDogodek bo potekal v Kristalni palači v BTC\, Ameriška ulica 8\, Ljubljana. \nKotizacija za udeležbo na dogodku 15. junija (Kristalna palača v BTC\, Ljubljana) znaša 125 EUR + ddv. \nV primeru 3 ali več udeležencev iz enega podjetja vam pripada 10% skupinski popust na ceno kotizacij za udeležbo na dogodku. \nS prijavo na dogodek ste obenem prijavljeni tudi na ogled proizvodnje Danfossa Trate v Ljubljani. Število mest za ogled proizvodnje so omejena in imajo prednost tisti\, ki se prijavijo prej. \nDodatne informacije in prijava
URL:https://ctop.ijs.si/dogodek/dobre-prakse-pametnih-tovarn-2/
CATEGORIES:Konferenca
ATTACH;FMTTYPE=image/png:https://ctop.ijs.si/wp-content/uploads/2022/06/Dobre-prakse-pametnih-tovarn_CADCAM1.png
END:VEVENT
BEGIN:VEVENT
DTSTART;TZID=Europe/Ljubljana:20230620T090000
DTEND;TZID=Europe/Ljubljana:20230620T170000
DTSTAMP:20260424T115152
CREATED:20230531T071855Z
LAST-MODIFIED:20230531T071855Z
UID:12910-1687251600-1687280400@ctop.ijs.si
SUMMARY:5. nacionalna konferenca o internacionalizaciji slovenskega gospodarstva: GREENOVATED IN SLOVENIA
DESCRIPTION:Glede na izjemen pomen vpetosti slovenskega gospodarstva v mednarodne tokove tudi letos organiziramo nacionalno konferenco o internacionalizaciji slovenskega gospodarstva\, tokrat že peto po vrsti. V središče pozornosti postavljamo »Greenovated in Slovenia«\, saj želimo poudariti pomen zelenih in inovativnih prebojnih rešitev\, ki jih ustvarjajo naša podjetja za višje pozicioniranje na tujih trgih. \nUdeležence bosta nagovorila gostitelja\, Tanja Fajon\, podpredsednica vlade in ministrica za zunanje in evropske zadeve in Matjaž Han\, minister za gospodarstvo\, turizem in šport. \nPridružite se nam 20. junija 2023 v Mariboru\, ko bomo z odličnimi sogovorniki spregovorili o trendih mednarodnega poslovanja\, o prepoznavnosti\, izzivih in priložnostih za izvozno usmerjeno slovensko gospodarstvo. Nastopajoči iz javnega in zasebnega sektorja bodo predstavili\, kako se lahko podjetja bolj izrazito vključujejo v mednarodne programe in projekte mednarodnega razvojnega sodelovanja ter kje so priložnosti za zelene\, inovativne in visokotehnološke rešitve v svetu. \nUdeleženci bodo imeli možnost individualnih srečanj z ekonomskimi svetovalci in poslovnimi klubi na tujih trgih. \nUdeležba je brezplačna. \nPrijave so možne do 16. junija 2023. \nOdjavite se lahko do najkasneje 17. junija 2023 na spletni platformi B2match. Po tem roku vam bomo\, v primeru neudeležbe brez pravočasne odjave\, zaračunali 80\,00€ na udeleženca organizacijskih stroškov. \nDodatne informacije in prijava
URL:https://ctop.ijs.si/dogodek/5-nacionalna-konferenca-o-internacionalizaciji-slovenskega-gospodarstva-greenovated-in-slovenia/
CATEGORIES:Konferenca
ATTACH;FMTTYPE=image/jpeg:https://ctop.ijs.si/wp-content/uploads/2023/05/8315259627-17b968fcf21.jpg
END:VEVENT
BEGIN:VEVENT
DTSTART;VALUE=DATE:20230621
DTEND;VALUE=DATE:20230622
DTSTAMP:20260424T115152
CREATED:20230403T151559Z
LAST-MODIFIED:20230403T151559Z
UID:12400-1687305600-1687391999@ctop.ijs.si
SUMMARY:MQ Konferenca
DESCRIPTION:MQ konferenca za trajnostno voditeljstvo je namenjena hitrejšemu uveljavljanju znanj\, praks in veščin inovativnega voditeljstva\, utemeljenega na kodeksu etike in trajnosti slovenskega managementa. \nIz lanskega dogodka: \n“Z ekipo je vedno vse v redu\, z vodji pa ni. V ekipi smo se veliko pogovarjali\, kako bi kakšno stvar naredili\, vse je bilo dovoljeno. Pri pogovoru. Ampak ko prideš do odločitve\, kako bomo nekaj naredili\, potem ni več demokracije. Absolutno ne\, tako smo se dogovorili in tako bomo naredili. Se je pa treba ves čas zavedati\, da ne veš vsega. In tu je spet ego: če misliš\, da vse veš\, si bedak\,” je dejal Igor Mervič\, prejemnik priznanja za življenjsko delo 2022. \nTudi letos bo z nami Tomaž Kavčič. Tomaž predstavlja četrto generacijo gostincev v družini\, zato njegove jedi izhajajo iz spominov na otroštvo\, na zapuščino none in mame\, in spoštovanja tradicije Vipavske doline. Nono ga je naučil\, kaj so dobre lokalne surovine\, zato jih Tomaž še vedno nakupuje sam. Pri njihovi pripravi jih skrbno in z velikim občutkom za kreativnost pripravi tako\, da nastane estetska umetnina\, ki spominja na dela slavnih kubistov. A čeprav so pri njem goveja juha\, jota\, potica ali štrudelj razstavljeni in sestavljeni v povsem drugačno obliko\, vino pa je lahko hrustljavo\, je na prvem mestu še vedno okus\, ki ostaja osnoven.
URL:https://ctop.ijs.si/dogodek/mq-konferenca/
CATEGORIES:Konferenca
ATTACH;FMTTYPE=image/jpeg:https://ctop.ijs.si/wp-content/uploads/2023/04/601.jpg
END:VEVENT
END:VCALENDAR