BEGIN:VCALENDAR
VERSION:2.0
PRODID:-//SRIP Tovarne Prihodnosti - ECPv6.6.0.1//NONSGML v1.0//EN
CALSCALE:GREGORIAN
METHOD:PUBLISH
X-ORIGINAL-URL:https://ctop.ijs.si
X-WR-CALDESC:Events for SRIP Tovarne Prihodnosti
REFRESH-INTERVAL;VALUE=DURATION:PT1H
X-Robots-Tag:noindex
X-PUBLISHED-TTL:PT1H
BEGIN:VTIMEZONE
TZID:Europe/Ljubljana
BEGIN:DAYLIGHT
TZOFFSETFROM:+0100
TZOFFSETTO:+0200
TZNAME:CEST
DTSTART:20230326T010000
END:DAYLIGHT
BEGIN:STANDARD
TZOFFSETFROM:+0200
TZOFFSETTO:+0100
TZNAME:CET
DTSTART:20231029T010000
END:STANDARD
END:VTIMEZONE
BEGIN:VEVENT
DTSTART;TZID=Europe/Ljubljana:20230914T090000
DTEND;TZID=Europe/Ljubljana:20230914T130000
DTSTAMP:20260424T072827
CREATED:20230725T074021Z
LAST-MODIFIED:20230725T074021Z
UID:13200-1694682000-1694696400@ctop.ijs.si
SUMMARY:EU nepovratno financiranje obrambnih zmogljivosti
DESCRIPTION:Slovenija in njeni različni potencialni deležniki v obrambnih projektih še nekaj let nazaj niso bili preveč aktivni\, niti uspešni\, niti mednarodno prepoznavni. V letu 2021 so bili različni slovenski subjekti v EDF razpisih najuspešnejši od vseh EU držav\, če to merimo z udeležbo s številom mednarodnih obrambnih projektov (tudi 2 koordinatorstvi!)\, financiranih prek Evropskega obrambnega sklada (EDF). V teku je nov razpis EDF\, zato ga v polnosti predstavljamo z namenom\, da ohranimo omenjeno uspešnost\, predstavili pa bomo tudi zanimivo in kompleksno obrambno inovacijsko shemo (EUDIS)\, ki je novost. \nNovost obrambnega dne pa je tudi okrogla miza na aktualno temo\, ki da lahko udeležencem poleg bolj tehničnih napotkov in izkušenj glede EDF razpisa tudi jasnejšo sliko o obrambno-varnostni situaciji v svetu\, EU in Sloveniji v tej zvezi.\nKonferenca je brezplačna\, potekala bo v slovenskem in angleškem jeziku. \nPrijave na konferenco zbirajo na na tej spletni strani\, program konference pa je na voljo na tej povezavi. \nLepo vabljeni!
URL:https://ctop.ijs.si/dogodek/eu-nepovratno-financiranje-obrambnih-zmogljivosti/
CATEGORIES:Konferenca
ATTACH;FMTTYPE=image/png:https://ctop.ijs.si/wp-content/uploads/2023/07/ozadje1.png
END:VEVENT
BEGIN:VEVENT
DTSTART;TZID=Europe/Ljubljana:20230920T080000
DTEND;TZID=Europe/Ljubljana:20230921T170000
DTSTAMP:20260424T072827
CREATED:20230705T090344Z
LAST-MODIFIED:20230705T090344Z
UID:13104-1695196800-1695315600@ctop.ijs.si
SUMMARY:Konferenca SIDO 2023
DESCRIPTION:vljudno vabljeni na tradicionalno francosko konferenco SIDO 2023 s predavanji\, okroglimi mizami in delavnicami\, ki bodo potekala v Lyonu 20. in 21. septembra 2023. Dogodek poteka v soorganizaciji projekta Enterprise Europe Network (EEN) Slovenia. \nMed udeleženci bodo ponudniki tehnoloških rešitev\, raziskovalni laboratoriji\, podjetja in drugi deležniki\, ki se ukvarjajo s področji robotike\, interneta stvari\, umetne inteligence in razširjene resničnosti. \nVzporedno bodo potekala brezplačna dvostranska srečanja SIDO Brokerage Event 2023 za sklepanje sodelovanj in iskanje projektnih partnerjev v fizični in virtualni obliki (teden dni kasneje). \n  \nDodatne informacije in prijava:\n–    SIDO 2023: https://www.sido-lyon.com/en\n–    SIDO Brokerage Event 2023: https://sido-2023.b2match.io/home \n–    VABILO
URL:https://ctop.ijs.si/dogodek/konferenca-sido-2023/
LOCATION:Cité internationale – Centre de Congrès de Lyon\, 50 quai Charles de Gaulle\, 69463 Lyon
CATEGORIES:Konferenca
ATTACH;FMTTYPE=image/webp:https://ctop.ijs.si/wp-content/uploads/2023/07/Logos-SIDOLyon-2023-FR.jpg1_.webp
END:VEVENT
BEGIN:VEVENT
DTSTART;TZID=Europe/Ljubljana:20230927T090000
DTEND;TZID=Europe/Ljubljana:20230927T130000
DTSTAMP:20260424T072827
CREATED:20230919T072303Z
LAST-MODIFIED:20230919T072303Z
UID:13400-1695805200-1695819600@ctop.ijs.si
SUMMARY:Poslovna konferenca Izvozniki 2023
DESCRIPTION:Medijska hiša Delo tudi letos nadaljuje večmesečno poslovno kampanjo Izvozniki 2023 z naslovom Izvozna podjetja v novih globalnih ekosistemih. Kampanjo bomo končali s poslovno konferenco\, ki bo v sredo\, 27. septembra\, v Ljubljani. \nV kompleksnih okoliščinah kot so danes\, so se tudi slovenska podjetja\, še posebej izvozniki\, znašli pred izjemnimi negotovostmi in tveganji ter s tem povezanimi velikimi operativnimi in strateškimi izzivi. \nStatistični podatki za zadnje desetletje kažejo\, da tradicionalna mednarodna trgovina proizvodov in storitev sicer raste\, vendar v deležu BDP stagnira. Izrazito pa narašča mednarodna menjava digitalnih storitev. \nVse bolj torej govorimo o novem obdobju globalizacije oziroma o digitalni globalizaciji. Na kaj vse morajo biti pozorna slovenska podjetja\, da se bodo lahko pravočasno povezovala še v času nastajanja novih verig vrednosti v mednarodnih in internacionaliziranih nacionalnih inovacijskih sistemih? \nO vseh teh izzivih se bomo pogovarjali z uveljavljenimi sogovorniki. \n\n\n\n\n\nKomu je konferenca namenjena\n\nVsem\, ki potrebujejo jasne in uporabne servisne informacije pri izvoznih in drugih mednarodnih gospodarskih dejavnostih\, ključnih v kompleksnem sodobnem času. Čeprav so teme konference onkraj ustaljenih okvirjev\, so v nasprotju z drugimi sorodnimi dogodki trdno zasidrane v poslovnih izzivih\, s katerimi se dnevno soočajo slovenska podjetja. Dodana vrednost so govorniki\, ki so na svojem področju uspešni in relevantni ter ga odlično poznajo tudi iz prakse. \n\n\n\n\n\nOgled poslovne konference\n\nOžji krog občinstva si bo lahko dogodek ogledal v prostorih Gospodarske zbornice Slovenije. Pri tem je potrebna predhodna potrditev prejetega e-vabila. \nDogajanje bomo prenašali tudi v živo na spletni strani delo.si v rubriki Izvozniki 2023. Predhodna prijava za ogled spletnega prenosa dogodka ni potrebna. \nDodatne informacije>>
URL:https://ctop.ijs.si/dogodek/poslovna-konferenca-izvozniki-2023/
CATEGORIES:Konferenca
ATTACH;FMTTYPE=image/jpeg:https://ctop.ijs.si/wp-content/uploads/2023/09/izvozniki.jpg
END:VEVENT
END:VCALENDAR