BEGIN:VCALENDAR
VERSION:2.0
PRODID:-//SRIP Tovarne Prihodnosti - ECPv6.6.0.1//NONSGML v1.0//EN
CALSCALE:GREGORIAN
METHOD:PUBLISH
X-WR-CALNAME:SRIP Tovarne Prihodnosti
X-ORIGINAL-URL:https://ctop.ijs.si
X-WR-CALDESC:Events for SRIP Tovarne Prihodnosti
REFRESH-INTERVAL;VALUE=DURATION:PT1H
X-Robots-Tag:noindex
X-PUBLISHED-TTL:PT1H
BEGIN:VTIMEZONE
TZID:Europe/Ljubljana
BEGIN:DAYLIGHT
TZOFFSETFROM:+0100
TZOFFSETTO:+0200
TZNAME:CEST
DTSTART:20230326T010000
END:DAYLIGHT
BEGIN:STANDARD
TZOFFSETFROM:+0200
TZOFFSETTO:+0100
TZNAME:CET
DTSTART:20231029T010000
END:STANDARD
END:VTIMEZONE
BEGIN:VEVENT
DTSTART;TZID=Europe/Ljubljana:20231027T093000
DTEND;TZID=Europe/Ljubljana:20231027T140000
DTSTAMP:20260424T060031
CREATED:20231004T072508Z
LAST-MODIFIED:20231004T072508Z
UID:13452-1698399000-1698415200@ctop.ijs.si
SUMMARY:Kako se spopasti z aktualnimi grožnjami v kibernetskem prostoru?
DESCRIPTION:Kibernetska varnost je pomembna tema\, ki zadeva vse\, ki uporabljajo internet in digitalne tehnologije pri svojem poslovanju. Kibernetski napadi lahko povzročijo veliko poslovno škodo podjetjem in organizacijam\, tako materialno kot nematerialno\, ne glede na njihovo lastništvo. Zato je potrebno biti vedno na preži in se nenehno izobraževati o najboljših načinih zaščite svojega poslovanje. Na dogodku bodo udeleženci izvedeli več o aktualnih izzivih\, najnovejših grožnjah ter dobrih praksah\, ki naslavljajo te izzive. \nKonferenca je namenjena vsem\, ki se ukvarjajo z varnostjo informacijskih sistemov in podatkov v malih\, srednjih in velikih podjetjih ter zaposlenim v javnih ustanovah in organizacijah\, ki se srečujejo s problemi zaščite v kibernetskem prostoru. Predstavljeni bodo najnovejši trendi in razvoj na področju kibernetske varnosti\, kot so napredni napadi\, ranljivosti\, incidenti\, nova zakonodaja in standardi ter primeri iz prakse. Udeleženci bodo imeli priložnost izmenjati izkušnje in mnenja s strokovnjaki ter navezati nove stike. \nDogodek je brezplačen za vse udeležence! \nPRIJAVA NA DOGODEK\nDodatne informacije
URL:https://ctop.ijs.si/dogodek/kako-se-spopasti-z-aktualnimi-groznjami-v-kibernetskem-prostoru/
CATEGORIES:Konferenca
ATTACH;FMTTYPE=image/png:https://ctop.ijs.si/wp-content/uploads/2023/10/cyber_security.png
END:VEVENT
END:VCALENDAR