BEGIN:VCALENDAR
VERSION:2.0
PRODID:-//SRIP Tovarne Prihodnosti - ECPv6.6.0.1//NONSGML v1.0//EN
CALSCALE:GREGORIAN
METHOD:PUBLISH
X-ORIGINAL-URL:https://ctop.ijs.si
X-WR-CALDESC:Events for SRIP Tovarne Prihodnosti
REFRESH-INTERVAL;VALUE=DURATION:PT1H
X-Robots-Tag:noindex
X-PUBLISHED-TTL:PT1H
BEGIN:VTIMEZONE
TZID:Europe/Ljubljana
BEGIN:DAYLIGHT
TZOFFSETFROM:+0100
TZOFFSETTO:+0200
TZNAME:CEST
DTSTART:20240331T010000
END:DAYLIGHT
BEGIN:STANDARD
TZOFFSETFROM:+0200
TZOFFSETTO:+0100
TZNAME:CET
DTSTART:20241027T010000
END:STANDARD
END:VTIMEZONE
BEGIN:VEVENT
DTSTART;VALUE=DATE:20240129
DTEND;VALUE=DATE:20240203
DTSTAMP:20260424T001454
CREATED:20231213T183606Z
LAST-MODIFIED:20231213T190714Z
UID:13774-1706486400-1706918399@ctop.ijs.si
SUMMARY:LEAN Slovenija 2024
DESCRIPTION:Začnite leto 2024 na spodbuden in zelo pozitiven način. Okrepite svoje osebne kompetence in povečajte zmogljivosti svoje organizacije na področju izvajanja sprememb\, podjetnega inoviranja ter razvoja. \nUdeležite se celotnega tedna dogodkov s širšim timom. Navežite stike z zanimivimi ljudmi\, ki bi jih sicer težko spoznali. Prepoznajte nove poslovne priložnosti. \n  \nPRAKTIKUM podjetnosti in INOVIRANJA\nPON – 29. 1. 2024 (9.00 – 16.00) \nTri konkretne in zelo poučne simulacije\, po katerih udeleženci spremenite poglede na kreiranje novih izdelkov in storitev. \nPrebrati vse o avtu in o cestno prometnih predpisih je koristno\, a pravo učenje se začne\, ko dejansko vozimo. Učenje je najbolj učinkovito v varnem okolju\, ki nam ga omogoči inštruktor. Delanje napak med učenjem ni usodno in nam pomaga razumeti\, česa ne smemo početi v resničnem svetu. \nV poslovnem svetu velja enako načelo. Na voljo so nam simulacije za razvoj novih izdelkov in storitev po vitkih metodah\, ki omogočajo intenzivno praktično učenje. ‘Vitko’ tukaj pomeni minimaliziranje nepotrebnih korakov in procesov oziroma minimalno balasta. \n  \nAVTONOMNO INOVIRANJE S POMOČJO GEN-AI ORODIJ\nTOR – 30. 1. 2024 (9.00 – 16.00) \nSte že zaznali\, kako GenAI (generativna umetna inteligenca) spreminja pravila igre? \nTa tehnologija naj bi našo učinkovitost dvignila precej bolj od vseh ključnih dosedanjih prebojnih tehnologij\, med njimi so to parni stroj\, elektrika\, internet. Hkrati naj bi vodila do povsem novih rešitev. \nMorda se soočate z izzivi okornih procesov ali iščete boljše pristope za uresničevanje poslovnih ambicij? \nNa delavnici “Avtonomno inoviranje” boste raziskali\, kako lahko s spretno uporabo GenAI orodij temeljito preoblikujemo načine inoviranja in razvoja\, vse od (1) postavljanja strategij\, prek (2) kreiranja priložnosti do (3) preverjanja tveganj in (4) izvedbe novih izdelkov in storitev. \n  \nKONFERENČNA DNEVA – IZDELČNA PODJETJA in STORITVENA PODJETJA\nSRE – 31. 1. 2024 (9.00 – 16.00) in ČET – 1. 2. 2024 (9.00 – 16.00) \nKonferenca združuje aktualne globalne in domače izkušnje vitkega inoviranja in razvoja. Prepletena je z učenjem\, deljenjem in povezovanjem. \nLetos prvič organiziramo dva konferenčna dneva: sreda je fokusirana na industrijska/izdelčna podjetja\, četrtek pa na storitvena podjetja oz. organizacije. \nZačnite leto 2024 na spodbuden in zelo pozitiven način. Okrepite svoje osebne kompetence in povečajte zmogljivosti svoje organizacije na področju izvajanja sprememb\, podjetnega inoviranja ter razvoja. \nUdeležite se konference in celotnega tedna dogodkov s širšim timom. Navežite stike z zanimivimi ljudmi\, ki bi jih sicer težko spoznali. Prepoznajte nove poslovne priložnosti. \n  \nDVIG ZAVZETOSTI INOVACIJSKIH TIMOV\nPET – 2. 2. 2024 (9.00 – 16.00) \nZa vsak večji izziv potrebujemo tim raznolikih in zavzetih posameznikov. \nBolj je situacija kompleksna in zahtevna\, več stvari gre lahko narobe\, bolj vsakodnevno zavzet tim potrebujemo. \nZavzetost je spremenljiva in lahko jo sistematično in aktivno razvijamo. Še najhitreje jo ubijemo. \nDelavnica razkriva praktične poti za izboljšanje timskih procesov s poudarkom na timih pri inoviranju in razvoju. \n\nDodatne informacije in prijava>>
URL:https://ctop.ijs.si/dogodek/lean-slovenija-2024-postati-boljsi/
CATEGORIES:Delavnica,Konferenca
ATTACH;FMTTYPE=image/png:https://ctop.ijs.si/wp-content/uploads/2023/12/postati_boljsi.png
END:VEVENT
BEGIN:VEVENT
DTSTART;TZID=Europe/Ljubljana:20240212T090000
DTEND;TZID=Europe/Ljubljana:20240212T150000
DTSTAMP:20260424T001454
CREATED:20240123T134554Z
LAST-MODIFIED:20240123T134554Z
UID:14075-1707728400-1707750000@ctop.ijs.si
SUMMARY:Slovensko-nemški forum o umetni inteligenci
DESCRIPTION:Vljudno vas vabimo na Slovensko-nemški forum o umetni inteligenci\, ki ga Združenje za informatiko in telekomunikacije in Zbornica elektroindustrije skupaj organiziramo v sodelovanju z Veleposlaništvom Zvezne republike Nemčije v Ljubljani in Slovensko-nemško gospodarsko zbornico (AHK Slovenija). \nNa dogodku se bodo vizionarji in strokovnjaki za umetno inteligenco srečali z vodilnimi gospodarstveniki in političnimi odločevalci v Sloveniji in Nemčiji. \nNamen dogodka je spodbuditi izmenjavo znanja na področju umetne inteligence in hkrati prikazati primere dobrih praks\, ki se že izvajajo v vsakdanjem poslovnem življenju. Čas bomo posvetili tudi vprašanju o regulaciji UI in vlogi\, ki jo pri tem igra podporno okolje. \nZa pester spremljevalni program pa bo poskrbela Nemška turistična organizacija (DZT)\, ki bo imela v preddverju DZT kotiček\, v katerem boste z VR očali in aplikacijo V objemu nemške narave raziskovali turistične znamenitosti Nemčije kot počitniške destinacije. \nDogodek bo namenjen tudi druženju in izmenjavi mnenj. Udeležba na dogodku je za člane GZS brezplačna. Število mest je omejeno\, zato je potrebna predhodna registracija. \nDodatne informacije in prijava
URL:https://ctop.ijs.si/dogodek/slovensko-nemski-forum-o-umetni-inteligenci/
CATEGORIES:Konferenca
ATTACH;FMTTYPE=image/png:https://ctop.ijs.si/wp-content/uploads/2024/01/Final20-20AI20Forum20banner_1920x1215px1.png
END:VEVENT
END:VCALENDAR