BEGIN:VCALENDAR
VERSION:2.0
PRODID:-//SRIP Tovarne Prihodnosti - ECPv6.6.0.1//NONSGML v1.0//EN
CALSCALE:GREGORIAN
METHOD:PUBLISH
X-WR-CALNAME:SRIP Tovarne Prihodnosti
X-ORIGINAL-URL:https://ctop.ijs.si
X-WR-CALDESC:Events for SRIP Tovarne Prihodnosti
REFRESH-INTERVAL;VALUE=DURATION:PT1H
X-Robots-Tag:noindex
X-PUBLISHED-TTL:PT1H
BEGIN:VTIMEZONE
TZID:Europe/Ljubljana
BEGIN:DAYLIGHT
TZOFFSETFROM:+0100
TZOFFSETTO:+0200
TZNAME:CEST
DTSTART:20220327T010000
END:DAYLIGHT
BEGIN:STANDARD
TZOFFSETFROM:+0200
TZOFFSETTO:+0100
TZNAME:CET
DTSTART:20221030T010000
END:STANDARD
END:VTIMEZONE
BEGIN:VEVENT
DTSTART;VALUE=DATE:20220922
DTEND;VALUE=DATE:20220923
DTSTAMP:20260425T143236
CREATED:20220906T055117Z
LAST-MODIFIED:20220906T055117Z
UID:9591-1663804800-1663891199@ctop.ijs.si
SUMMARY:Audax Expo:22
DESCRIPTION:Audax Expo:22 je strokovni dogodek\, ki ga ne smete zamuditi\, če ste kakorkoli vpeti v razvoj izdelkov ali digitalno preobrazbo podjetja. Izkoristite brezplačno prijavo in odkrijte\, kaj tehnologije\, kot so CAD\, CAM\, PLM in IoT ponujajo vašemu podjetju. \nPoznavanje najnovejših tehnologij in funkcionalnosti v najnovejših verzijah inženirske programske opreme podjetjem ponuja priložnost\, da ohranijo korak pred konkurenco. \nOd izkušenj industrijskih podjetij do podrobnih vpogledov v tehnologijo \nNa Audax Expo:22 se bodo s predavanji in predstavitvami posvetili prav tej tematiki. Vabijo vas\, da se jim pridružite v četrtek\, 22.9.2022\, v Modri dvorani Kongresnega centra Celje\, kjer boste lahko prisluhnili: \n\npraktičnim predavanjem predstavnikov podjetij Iskra Pio in Mebor\,\npoglobljenim vpogledom v sodobne inženirske koncepte\, kot so PLM in MBD in\npregledu funkcionalnosti zadnjih verzij inženirske programske opreme.\n\nNa dogodku bodo tudi demonstracijska mesta\, kjer boste lahko spoznavali številne druge tehnologije. Med drugim bodo predstaviljena interaktivna delovna navodila v obogateni resničnosti in povsem novi 3D tiskalnik Origin One.  \nPodroben program dogodka si oglejte na tej povezavi. \nKdo ne sme zamuditi Audax Expo:22? \nAudax Expo:22 je nepogrešljiv strokovni dogodek za vse uporabnike programske opreme\, vodje konstrukcije\, vodje razvoja in druge inženirje\, ki so kakorkoli vpeti v razvoj izdelkov in digitalno preobrazbo podjetja. \nUdeležba na Audax Expo:22 je brezplačna\, a je število mest omejeno. Vabimo vas\, da si svoje mesto zagotovite pravočasno in se udeležite inženirskega dogodka letošnje jeseni.
URL:https://ctop.ijs.si/dogodek/audax-expo22/
CATEGORIES:Konferenca
ATTACH;FMTTYPE=image/jpeg:https://ctop.ijs.si/wp-content/uploads/2022/09/audax02-xx-630f33aa78380-630f33aa7abe81.jpg
END:VEVENT
END:VCALENDAR