BEGIN:VCALENDAR
VERSION:2.0
PRODID:-//SRIP Tovarne Prihodnosti - ECPv6.6.0.1//NONSGML v1.0//EN
CALSCALE:GREGORIAN
METHOD:PUBLISH
X-WR-CALNAME:SRIP Tovarne Prihodnosti
X-ORIGINAL-URL:https://ctop.ijs.si
X-WR-CALDESC:Events for SRIP Tovarne Prihodnosti
REFRESH-INTERVAL;VALUE=DURATION:PT1H
X-Robots-Tag:noindex
X-PUBLISHED-TTL:PT1H
BEGIN:VTIMEZONE
TZID:Europe/Ljubljana
BEGIN:DAYLIGHT
TZOFFSETFROM:+0100
TZOFFSETTO:+0200
TZNAME:CEST
DTSTART:20220327T010000
END:DAYLIGHT
BEGIN:STANDARD
TZOFFSETFROM:+0200
TZOFFSETTO:+0100
TZNAME:CET
DTSTART:20221030T010000
END:STANDARD
END:VTIMEZONE
BEGIN:VEVENT
DTSTART;VALUE=DATE:20220927
DTEND;VALUE=DATE:20220929
DTSTAMP:20260425T125820
CREATED:20220727T193959Z
LAST-MODIFIED:20220727T193959Z
UID:9202-1664236800-1664409599@ctop.ijs.si
SUMMARY:European Manufacturing Conference
DESCRIPTION:Evropsko proizvodno konferenco soorganizirajo Evropsko združenje tovarn prihodnosti (EFFRA)\, EIT Manufacturing in ManuFuture – trije proizvodni akterji s skupnim prepričanjem\, da je sodelovanje ključ do ustvarjanja ugodnega okolja za spopadanje z najbolj perečimi proizvodnimi izzivi današnja industrija. \nKonferenca bo združila oblikovalce politik\, industrijske sektorje in ključne družbene deležnike za navzkrižno izmenjavo idej o ljudeh\, tehnologiji in inovacijah. V dveh dneh konference bodo glavni izzivi in ​​priložnosti tega kritičnega zgodovinskega časa analizirani s temami\, kot so:  \n\nTekmovalnost\nOdpornost\nZelena in krožna proizvodnja\nObdelava materiala\nSektorske spremembe\nPovezljivost\, podatki\, AI in 5G v proizvodnji\nMedsebojni odnosi med nacionalnimi in evropskimi instrumenti financiranja\nDelovna mesta in spretnosti\n\nPoleg razprave o relevantnih trendih bosta konferenca in večerni sprejem dobra priložnost za mreženje in odkrivanje skupnih interesov in možnosti za reševanje proizvodnih izzivov. \nZa dodatne informacije obiščite spletno stran konference.
URL:https://ctop.ijs.si/dogodek/european-manufacturing-conference/
CATEGORIES:Konferenca
ATTACH;FMTTYPE=image/jpeg:https://ctop.ijs.si/wp-content/uploads/2022/07/save_the_date1.jpg
END:VEVENT
END:VCALENDAR