BEGIN:VCALENDAR
VERSION:2.0
PRODID:-//SRIP Tovarne Prihodnosti - ECPv6.6.0.1//NONSGML v1.0//EN
CALSCALE:GREGORIAN
METHOD:PUBLISH
X-WR-CALNAME:SRIP Tovarne Prihodnosti
X-ORIGINAL-URL:https://ctop.ijs.si
X-WR-CALDESC:Events for SRIP Tovarne Prihodnosti
REFRESH-INTERVAL;VALUE=DURATION:PT1H
X-Robots-Tag:noindex
X-PUBLISHED-TTL:PT1H
BEGIN:VTIMEZONE
TZID:Europe/Ljubljana
BEGIN:DAYLIGHT
TZOFFSETFROM:+0100
TZOFFSETTO:+0200
TZNAME:CEST
DTSTART:20220327T010000
END:DAYLIGHT
BEGIN:STANDARD
TZOFFSETFROM:+0200
TZOFFSETTO:+0100
TZNAME:CET
DTSTART:20221030T010000
END:STANDARD
END:VTIMEZONE
BEGIN:VEVENT
DTSTART;TZID=Europe/Ljubljana:20220930T093000
DTEND;TZID=Europe/Ljubljana:20220930T120000
DTSTAMP:20260425T125820
CREATED:20220921T075526Z
LAST-MODIFIED:20220921T075526Z
UID:10784-1664530200-1664539200@ctop.ijs.si
SUMMARY:Konferenca o trajnostnem poročanju – nefinančno poročanje 2022
DESCRIPTION:Vljudno vas vabimo na konferenco v petek\, 30. septembra\, kjer bomo predstavili različne pristope\, orodja in izkušnje za pripravo nefinančnih – trajnostnih poročil podjetij. \nDogodek se bo pričel ob 9:30 in bo potekal v dvorani A\, na GZS\, I nadstropje Dimičeva 13\, Ljubljana. \nTaksonomija\, GRI\, POR\, ESG so pojmi s katerimi se podjetja vse pogosteje srečujejo. Nekatera večja podjetja so poleg finančnih letnih poročil zavezana tudi k pripravi nefinančnih\, trajnostnih poročil. Z vprašanji vezanimi na nefinančno poročanje se srečujejo tudi manjša in srednja podjetja. \nZavezanci\, pristopi\, prakse in izkušnje. Kdo je zavezan k poročanju? Kako poročati? S katerimi obstoječimi in novimi orodji si podjetja lahko pomagajo? Kako naj se podjejta povezujejo po svojih dobavnih in vrednostnih verigah? Na ta in druga vprašanja bomo odgovarjali s pomočjo strokovnjakov na naši konferenci. \n\n\n\n9:30\nUvodni pozdrav\n\n\n\n9:35 – 10:30\nKaj imajo skupnega: trajnostno poročanje\, zeleno financiranje in podnebne spremembe? \nEU taksonomija in njen vpliv na nefinančna letna poročila\nVanesa Čanji\, Fit media\n\n\n10:30 -10:50\nStandardi GRI – pomoč za celovito poročanje o trajnostnem razvoju in dosežkih organizacije\nBlanka Kaker\, SiQ\n\n\n10:50 – 11:10\nGreen Star – Certifikat za uvajanje trajnostnih (ESG) vidikov in podnebnega ukrepanja v podjetju\nŽiga Čebulj\, CER\n\n\n11:10-11:25\nPOR – Kemija in trajnostno poročanje\nRomana Benčina\, GZS\n\n\n11:25- \n11:40\nNadgradnja sistemov ravnanja z okoljem in energijo za pripravo trajnostnega poročila – izkušnje z ESG poročanjem\nSimona Lesar\, GZS\n\n\n\nKonferenca je namenjena podjetjem\, ki se srečujejo z nefinančnim\, trajnostnim poročanjem\, tako večja podjejta\, ki so k temu zavezana neposredno oziroma kot srednja in mala podjetja\, ki se posredno srečujejo s pripravo določenih podatkov zaradi svojih vpetosti v verigah vrednosti večjih podjetij. Po strokovnem delu vas vabimo na druženje in izmenjavo medsebojnih informacij in izkušenj! \nKonferenco organiziramo v okviru projekta SPOT svetovanje Osrednjeslovenske regije.\nUdeležba je brezplačna\, vendar je predhodna prijava\, preko spodnje spletne prijavnice obvezna. Število mest je omejeno. \nVljudno vabljeni!
URL:https://ctop.ijs.si/dogodek/konferenca-o-trajnostnem-porocanju-nefinancno-porocanje-2022/
CATEGORIES:Konferenca
ATTACH;FMTTYPE=image/jpeg:https://ctop.ijs.si/wp-content/uploads/2022/09/Zajeta20slika_v11.jpg
END:VEVENT
END:VCALENDAR