BEGIN:VCALENDAR
VERSION:2.0
PRODID:-//SRIP Tovarne Prihodnosti - ECPv6.6.0.1//NONSGML v1.0//EN
CALSCALE:GREGORIAN
METHOD:PUBLISH
X-WR-CALNAME:SRIP Tovarne Prihodnosti
X-ORIGINAL-URL:https://ctop.ijs.si
X-WR-CALDESC:Events for SRIP Tovarne Prihodnosti
REFRESH-INTERVAL;VALUE=DURATION:PT1H
X-Robots-Tag:noindex
X-PUBLISHED-TTL:PT1H
BEGIN:VTIMEZONE
TZID:Europe/Ljubljana
BEGIN:DAYLIGHT
TZOFFSETFROM:+0100
TZOFFSETTO:+0200
TZNAME:CEST
DTSTART:20230326T010000
END:DAYLIGHT
BEGIN:STANDARD
TZOFFSETFROM:+0200
TZOFFSETTO:+0100
TZNAME:CET
DTSTART:20231029T010000
END:STANDARD
END:VTIMEZONE
BEGIN:VEVENT
DTSTART;VALUE=DATE:20230606
DTEND;VALUE=DATE:20230610
DTSTAMP:20260424T132101
CREATED:20230124T104800Z
LAST-MODIFIED:20230124T104800Z
UID:11717-1686009600-1686355199@ctop.ijs.si
SUMMARY:Mednarodna konferenca EuCNC 2023
DESCRIPTION:Vabljeni na mednarodno konferenco EuCNC 2023\, ki bo potekala skupaj s 6G Summitom od 6-9. junija 2023 v Gothenburgu na Švedskem. Vsebine konference so pomembne za mnoge člane\, še posebno za sodelujoče v različnih Horizon projektih\, ki se ukvarjajo s komunikacijskimi tehnologijami na področjih pametnih mest\, IoT\, industrije 4.0 in mobilnosti. \nVsi\, ki želite sodelovati s svojimi prispevki\, vabljeni da se odzovete na spodnje razpise – več o rokih si lahko preberete v nadaljevanju. \nV okviru konference so poleg samih raziskovalnih prispevkov in razstavnih panojev prisotni tudi zelo pomembni in znani govorci\, ki so prav tako vključeni v aktualne okrogle mize. \nVeč podrobnosti v nadaljevanju prispevka v angleškem jeziku 👉 \n****************************************** \nCall for Papers\, Posters\, Workshops\, Special Sessions\, Tutorials and Demos \n2023 EuCNC & 6G Summit\, https://www.eucnc.eu\, is the 32nd edition of a successful series of a conference in the field of telecommunications\, sponsored by IEEE Communications Society\, European Association on Antennas and Propagation\, and European Association for Signal Processing\, and supported by the European Commission and the Finnish 6G Flagship Programme. \nThe conference focuses on various aspects of Beyond 5G/6G communications systems and networks\, including cloud and virtualisation solutions\, management technologies\, hardware components and microelectronic technologies\, and vertical application areas.  It targets to bring together researchers from all over the world to present the latest research results\, and it is one of the main venues for demonstrating the results of research projects\, especially from successive European RDI programmes. The local organizer is Chalmers University of Technology\, and the conference venue is The Swedish Exhibition & Congress Centre in Gothenburg\, Sweden. \n  \nWe invite you and your colleagues to submit a paper and/or poster to the conference\, as well as proposals for workshops\, special sessions and tutorials\, the key dates being: \n\n2023 Jan 27 – Papers submission for regular oral sessions\n2023 Jan 27 – Proposals for workshops\, special sessions and tutorials\n2023 Mar 10 – Deadline for submission of extended abstracts for posters\n2023 Mar 10 – Notification of acceptance of workshops\, special sessions and tutorials\n2023 Apr 03 – Notification of acceptance of papers and posters\n2023 Apr 14 – Final paper submission\n\n  \nThe conference will include: \n\nregular sessions with papers from the open call (to be submitted to IEEE Xplore)\, the call being available at https://eucnc.eu/call-for-papers;\nworkshops\, the call being available at https://eucnc.eu/call-for-workshops;\nspecial sessions\, the call being available at https://eucnc.eu/call-for-special-sessions;\nposter sessions\, the call being available at https://eucnc.eu/call-for-posters;\ntutorials\, the call being available at https://eucnc.eu/call-for-tutorials;\npanels; https://eucnc.eu/panels;\nkeynote talks; https://eucnc.eu/keynotes;\ndemos and exhibitions\, the call being available at https://eucnc.eu/call-for-exhibitors-demos;\ntechnical pitches at coffee breaks by exhibitors.\n\n  \nInformation is also available in social media\, and important updates will be also announced there. \n  \nThe conference is intended to be held for in-person attendance; however\, given the COVID-19 pandemic\, the conference format may change\, since safety and well-being of all conference participants is our top priority.  The conference has a not-for-profit organisation\, hence\, registration fees are as low as possible and all surplus will be made available in grants.  Best Papers and Booth Awards will be granted. Accepted and presented papers for regular sessions will be published in the Conference Proceedings and submitted to IEEE Xplore and other Abstracting and Indexing (A&I) databases.
URL:https://ctop.ijs.si/dogodek/mednarodna-konferenca-eucnc-2023/
LOCATION:Gothenburg\, Švedska\, Gothenburg\, Švedska
CATEGORIES:Konferenca
ATTACH;FMTTYPE=image/png:https://ctop.ijs.si/wp-content/uploads/2023/01/eucnc.png
END:VEVENT
END:VCALENDAR