BEGIN:VCALENDAR
VERSION:2.0
PRODID:-//SRIP Tovarne Prihodnosti - ECPv6.6.0.1//NONSGML v1.0//EN
CALSCALE:GREGORIAN
METHOD:PUBLISH
X-ORIGINAL-URL:https://ctop.ijs.si
X-WR-CALDESC:Events for SRIP Tovarne Prihodnosti
REFRESH-INTERVAL;VALUE=DURATION:PT1H
X-Robots-Tag:noindex
X-PUBLISHED-TTL:PT1H
BEGIN:VTIMEZONE
TZID:Europe/Ljubljana
BEGIN:DAYLIGHT
TZOFFSETFROM:+0100
TZOFFSETTO:+0200
TZNAME:CEST
DTSTART:20230326T010000
END:DAYLIGHT
BEGIN:STANDARD
TZOFFSETFROM:+0200
TZOFFSETTO:+0100
TZNAME:CET
DTSTART:20231029T010000
END:STANDARD
END:VTIMEZONE
BEGIN:VEVENT
DTSTART;VALUE=DATE:20230611
DTEND;VALUE=DATE:20230614
DTSTAMP:20260424T132228
CREATED:20230419T132920Z
LAST-MODIFIED:20230419T132920Z
UID:12670-1686441600-1686700799@ctop.ijs.si
SUMMARY:EuroNanoForum
DESCRIPTION:Vabljeni na brezplačni EuroNanoForum bo potekal od 11. do 13. junija 2023 v Lundu na Švedskem. \nForum ponuja priložnost za razpravo o spremembah v okviru zelenega dogovora\, dvojnega prehoda in odpornosti naših družb in gospodarstev. Te spremembe so ključnega pomena za to\, kako lahko evropski raziskovalni programi\, zlasti Cluster Digital\, Industry and Space\, te spremembe poslabšajo. \nNapredni materiali in nanotehnologije se obravnavajo kot ena sama ključna omogočitvena tehnologija za naslednjih 5 let. Danes tehnologije niso več obravnavane same po sebi (»ključni dejavniki«). Namesto tega je poudarek na globalni konkurenci industrij\, ki jih poganjajo nove tehnologije po vsem svetu\, in na dodani vrednosti\, ki državljanom omogoča aktivno podporo le teh\, saj spreminjajo njihovo vsakdanje življenje. \nGlede na to bi moral biti namen raziskav in inovacij za napredne materiale in nanotehnologije v ospredju razprav na plenarnih in vseh vzporednih zasedanjih. Vzporedna srečanja so zato v veliki meri namenjena razpravi o spodnjih izzivih: \n\nAdvanced Materials and Manufacturing for a sustainable and resilient Europe\nGraphene & 2D Materials – From fundamental science to industrial applications\nGreen Energy – Materials for a sustainable energy sector\nSemiconductors and new materials for future chips\nEuropean Infrastructures – From fundamental science to industrial applications\nSafe and Sustainable by Design – How to create prosperity under the SSbD framework\nHuman Brain Project – Enabler for Neuro-derived technologies\nNanomedicine – Nanomaterials to achieve innovation in healthcare\nQuantum Technologies – Europe’s major role\n\nUdeležba je brezplačna. \nDodatne informacije in prijave
URL:https://ctop.ijs.si/dogodek/euronanoforum/
CATEGORIES:Konferenca
ATTACH;FMTTYPE=image/jpeg:https://ctop.ijs.si/wp-content/uploads/2023/04/Toppbild20NY_31-scaled.jpg
END:VEVENT
END:VCALENDAR