BEGIN:VCALENDAR
VERSION:2.0
PRODID:-//SRIP Tovarne Prihodnosti - ECPv6.6.0.1//NONSGML v1.0//EN
CALSCALE:GREGORIAN
METHOD:PUBLISH
X-WR-CALNAME:SRIP Tovarne Prihodnosti
X-ORIGINAL-URL:https://ctop.ijs.si
X-WR-CALDESC:Events for SRIP Tovarne Prihodnosti
REFRESH-INTERVAL;VALUE=DURATION:PT1H
X-Robots-Tag:noindex
X-PUBLISHED-TTL:PT1H
BEGIN:VTIMEZONE
TZID:Europe/Ljubljana
BEGIN:DAYLIGHT
TZOFFSETFROM:+0100
TZOFFSETTO:+0200
TZNAME:CEST
DTSTART:20230326T010000
END:DAYLIGHT
BEGIN:STANDARD
TZOFFSETFROM:+0200
TZOFFSETTO:+0100
TZNAME:CET
DTSTART:20231029T010000
END:STANDARD
END:VTIMEZONE
BEGIN:VEVENT
DTSTART;TZID=Europe/Ljubljana:20231114T080000
DTEND;TZID=Europe/Ljubljana:20231114T153000
DTSTAMP:20260424T060200
CREATED:20231101T113655Z
LAST-MODIFIED:20231101T113655Z
UID:13563-1699948800-1699975800@ctop.ijs.si
SUMMARY:GoDigital 2023
DESCRIPTION:Konferenca GoDigital 2023 je največja neodvisna poslovna konferenca na področju digitalizacije v Sloveniji. Letos bo potekala 14. novembra 2023\, na Brdu pri Kranju. \nGostila bo tako domače kot tuje strokovnjake. Rdeča nit konference GoDigital 2023 – Vaši podatki\, vaša super moč! bo\, kako izkoristiti moč podatkov in umetne inteligence za ustvarjanje poslovne vrednosti? \nPodatki so življenjska sila gospodarstva in gonilo inovacij. Lahko ugotovimo\, da so v današnjem poslovnem svetu že ključni za uspešnost podjetij in organizacij. Podatki prinašajo priložnosti za podjetja\, ki se jih še ne zavedamo v celoti. Podjetja lahko z njimi pridobijo dragocene informacije o svojih strankah\, izdelkih in storitvah ter na podlagi tega izboljšajo svoje poslovanje ter sprejemajo prave odločitve. \nDigitalni podatki so pomembni za inovativnost podjetij\, saj lahko na njihovi podlagi razvijajo nove izdelke\, storitve in poslovne modele. So ključni pri uvajanju trajnostnega poslovanja\, krožnih poslovnih modelov\, digitalnega potnega lista. \n\n\n\n\nNaučili smo se\, tudi skozi ChatGPT\, kakšno transformacijsko moč predstavlja umetna inteligenca v družbi in kakšne nevarnosti prinaša. Enako velja za podjetja – umetna inteligenca z vašimi podatki omogoča doseganje še pred kratkim nepredstavljivih ravni digitalnega poslovanja\, inovativnosti in konkurenčnosti. \nVsaka organizacija mora razmisliti in narediti načrt\, kako uporabiti podatke za inoviranje in ustvarjanje poslovne vrednosti. \nBodite v koraku s časom – udeležite se konference GoDigital 2023 in izkoristite vašo super moč! \nNa konferenci bomo tokrat že drugič podelili tudi nagrado GoDigital za najboljši digitalni projekt leta. \nNa konferenci\, ki je namenjena poslovnim in digitalnim odločevalcem\, pričakujemo preko 400 udeležencev\, tako z zasebnega kot javnega sektorja – tako s strani organizacij\, ki so uporabniki informacijskih rešitev kot tudi predstavnikov IKT sektorja. \nVeč o dogodku in program
URL:https://ctop.ijs.si/dogodek/godigital-2023/
CATEGORIES:Konferenca
ATTACH;FMTTYPE=image/png:https://ctop.ijs.si/wp-content/uploads/2023/11/GoDigital-2023-Eng-800x380px1.png
END:VEVENT
END:VCALENDAR