BEGIN:VCALENDAR
VERSION:2.0
PRODID:-//SRIP Tovarne Prihodnosti - ECPv6.6.0.1//NONSGML v1.0//EN
CALSCALE:GREGORIAN
METHOD:PUBLISH
X-ORIGINAL-URL:https://ctop.ijs.si
X-WR-CALDESC:Events for SRIP Tovarne Prihodnosti
REFRESH-INTERVAL;VALUE=DURATION:PT1H
X-Robots-Tag:noindex
X-PUBLISHED-TTL:PT1H
BEGIN:VTIMEZONE
TZID:Europe/Ljubljana
BEGIN:DAYLIGHT
TZOFFSETFROM:+0100
TZOFFSETTO:+0200
TZNAME:CEST
DTSTART:20240331T010000
END:DAYLIGHT
BEGIN:STANDARD
TZOFFSETFROM:+0200
TZOFFSETTO:+0100
TZNAME:CET
DTSTART:20241027T010000
END:STANDARD
END:VTIMEZONE
BEGIN:VEVENT
DTSTART;VALUE=DATE:20240521
DTEND;VALUE=DATE:20240522
DTSTAMP:20260423T191019
CREATED:20240417T052751Z
LAST-MODIFIED:20240417T052804Z
UID:14458-1716249600-1716335999@ctop.ijs.si
SUMMARY:Dan meroslovja 2024
DESCRIPTION:Urad RS za meroslovje organizira dogodek ob svetovnem dnevu meroslovja\, pri katerem sodeluje tudi sekcija SiMER. Zato vas vabimo\, da si rezervirate 21. maj 2024 in se nam pridružite v Hotelu Maestoso Lipica na Dnevu meroslovja 2024 s krovno temo »Merimo danes za trajnostni jutri«. Tudi letos bodo z nami zanimivi gostje\, ki bodo z nami delili bogate in inovativne razvojne rešitve ter izkušnje na področju meroslovja in meritev za trajnostno prihodnost. \nPodroben program še sledi. \nUdeležba na Dnevu meroslovja 2024 je brezplačna\, vendar se je potrebno prijaviti najkasneje do 20. maja 2024\, na: dogodki.mirs@gov.si. \nVabljeni!
URL:https://ctop.ijs.si/dogodek/dan-meroslovja-2024/
CATEGORIES:Konferenca
ATTACH;FMTTYPE=image/png:https://ctop.ijs.si/wp-content/uploads/2024/04/dan_meroslovja_2024.png
END:VEVENT
END:VCALENDAR