BEGIN:VCALENDAR
VERSION:2.0
PRODID:-//SRIP Tovarne Prihodnosti - ECPv6.6.0.1//NONSGML v1.0//EN
CALSCALE:GREGORIAN
METHOD:PUBLISH
X-WR-CALNAME:SRIP Tovarne Prihodnosti
X-ORIGINAL-URL:https://ctop.ijs.si
X-WR-CALDESC:Events for SRIP Tovarne Prihodnosti
REFRESH-INTERVAL;VALUE=DURATION:PT1H
X-Robots-Tag:noindex
X-PUBLISHED-TTL:PT1H
BEGIN:VTIMEZONE
TZID:Europe/Ljubljana
BEGIN:DAYLIGHT
TZOFFSETFROM:+0100
TZOFFSETTO:+0200
TZNAME:CEST
DTSTART:20240331T010000
END:DAYLIGHT
BEGIN:STANDARD
TZOFFSETFROM:+0200
TZOFFSETTO:+0100
TZNAME:CET
DTSTART:20241027T010000
END:STANDARD
END:VTIMEZONE
BEGIN:VEVENT
DTSTART;VALUE=DATE:20240919
DTEND;VALUE=DATE:20240920
DTSTAMP:20260423T131735
CREATED:20240904T120034Z
LAST-MODIFIED:20240904T120034Z
UID:14925-1726704000-1726790399@ctop.ijs.si
SUMMARY:Arena tehnologij
DESCRIPTION:Tehnologija je opolnomočila človeštvo in ga naredila neskončno boljšega. Ali si znamo predstavljati prvinskega človeka\, brez vsakršnih tehnologij\, ki so nas peljale na naslednjo raven? \nBrez kakršnihkoli zdravil\, brez vsakršnih tehnologij za izdelavo bivališč\, brez zadostne hrane\, brez komunikacij\, brez izobraževanja\, brez varnosti pred zločinci in obrambe pred napadalci\, brez vsakršne mobilnost po vodi\, zraku in kopnem\, brez glasbe\, umetnosti\, zabave\, oblek in obuval\, itd.? Vse to je bilo ustvarjeno skozi tehnološki napredek. Od pisal in papirja… vse do današnjih kvantnih računalnikov in planetarne obrambe proti asteroidom. Boljša tehnologija\, za boljši svet. \nDogodek\, prežet z navdušujočimi inovacijami\, prekipevajočo energijo in vrhunsko glasbo. \nPripravite se na nepozabno izkušnjo\, kjer bomo skupaj slavili izjemne preboje slovenskih tehnoloških podjetij\, razbili mite o podjetniških napakah in na koncu navijali v bitki med DJ-ji. \nDogodek je namenjen vsem—brez omejitev\, ki si želijo doživeti tehnološko prihodnost in uživati v nepozabni zabavi. \n\nDodatne informacije in prijava>>
URL:https://ctop.ijs.si/dogodek/arena-tehnologij/
CATEGORIES:Konferenca
ATTACH;FMTTYPE=image/png:https://ctop.ijs.si/wp-content/uploads/2024/09/3d9bb3_382341a070c547e0b57bcc2447e8ec92mv21.png
ORGANIZER;CN="Tehnolo%C5%A1ki park Ljubljana":MAILTO:info@tp-lj.si
END:VEVENT
END:VCALENDAR