BEGIN:VCALENDAR
VERSION:2.0
PRODID:-//SRIP Tovarne Prihodnosti - ECPv6.6.0.1//NONSGML v1.0//EN
CALSCALE:GREGORIAN
METHOD:PUBLISH
X-ORIGINAL-URL:https://ctop.ijs.si
X-WR-CALDESC:Events for SRIP Tovarne Prihodnosti
REFRESH-INTERVAL;VALUE=DURATION:PT1H
X-Robots-Tag:noindex
X-PUBLISHED-TTL:PT1H
BEGIN:VTIMEZONE
TZID:Europe/Ljubljana
BEGIN:DAYLIGHT
TZOFFSETFROM:+0100
TZOFFSETTO:+0200
TZNAME:CEST
DTSTART:20240331T010000
END:DAYLIGHT
BEGIN:STANDARD
TZOFFSETFROM:+0200
TZOFFSETTO:+0100
TZNAME:CET
DTSTART:20241027T010000
END:STANDARD
END:VTIMEZONE
BEGIN:VEVENT
DTSTART;TZID=Europe/Ljubljana:20240924T080000
DTEND;TZID=Europe/Ljubljana:20240925T170000
DTSTAMP:20260423T131811
CREATED:20240425T091414Z
LAST-MODIFIED:20240626T195048Z
UID:14490-1727164800-1727283600@ctop.ijs.si
SUMMARY:Second Edition of the European Manufacturing Conference
DESCRIPTION:Obveščamo vas o o drugi izdaji evropske konference o proizvodnji European Manufacturing Conference \, ki bo potekala 24. in 25. septembra 2024 v Bruslju. Evropska konferenca o proizvodnji 2024\, ki jo soorganizirajo EIT Manufacturing\, EFFRA (European Factories of the Future Research Association) in ManuFuture\, bo poudarila ključno vlogo raziskav\, razvoja in inovacij pri oblikovanju industrijske prihodnosti Evrope.\n \nDodatne informacije>>
URL:https://ctop.ijs.si/dogodek/second-edition-of-the-european-manufacturing-conference/
LOCATION:Bruselj
CATEGORIES:Konferenca
ATTACH;FMTTYPE=image/png:https://ctop.ijs.si/wp-content/uploads/2024/04/objava.png
END:VEVENT
END:VCALENDAR