BEGIN:VCALENDAR
VERSION:2.0
PRODID:-//SRIP Tovarne Prihodnosti - ECPv6.6.0.1//NONSGML v1.0//EN
CALSCALE:GREGORIAN
METHOD:PUBLISH
X-WR-CALNAME:SRIP Tovarne Prihodnosti
X-ORIGINAL-URL:https://ctop.ijs.si
X-WR-CALDESC:Events for SRIP Tovarne Prihodnosti
REFRESH-INTERVAL;VALUE=DURATION:PT1H
X-Robots-Tag:noindex
X-PUBLISHED-TTL:PT1H
BEGIN:VTIMEZONE
TZID:Europe/Ljubljana
BEGIN:DAYLIGHT
TZOFFSETFROM:+0100
TZOFFSETTO:+0200
TZNAME:CEST
DTSTART:20240331T010000
END:DAYLIGHT
BEGIN:STANDARD
TZOFFSETFROM:+0200
TZOFFSETTO:+0100
TZNAME:CET
DTSTART:20241027T010000
END:STANDARD
END:VTIMEZONE
BEGIN:VEVENT
DTSTART;TZID=Europe/Ljubljana:20241013T080000
DTEND;TZID=Europe/Ljubljana:20241013T170000
DTSTAMP:20260423T115528
CREATED:20241013T120238Z
LAST-MODIFIED:20241013T120519Z
UID:15130-1728806400-1728838800@ctop.ijs.si
SUMMARY:Konferenca: prihodnost b2b prodaje\, ki jo ustvarjamo danes
DESCRIPTION:V hitro spreminjajočem se poslovnem okolju\, kjer je digitalizacija že prešla iz trenda v nujo\, vas vabimo\, da se pridružite konferenci “Prihodnost B2B prodaje\, ki jo ustvarjamo danes: Odklenite izvozni potencial z digitalizacijo”. Namenjena je vsem b2b podjetjem in proizvajalcem\, ki si prizadevajo ostati na čelu konkurenčnosti in uspeha na globalnem trgu. \nSprejetje novih tehnologij\, ki digitalizirajo prodajna in tržna prizadevanja\, bi moralo biti naslednja pomembna točka na seznamu B2B in proizvodnih podjetij. Kljub temu pa številne industrijske\, proizvodne in B2B organizacije še vedno zaostajajo pri uvajanju digitalnih prodajnih procesov in spletnih tržnih kanalov. To potrjujejo tudi podatki SURS\, ki kažejo\, da je po zadnjih dostopnih podatkih zgolj 10 % podjetij prodajalo preko spletne strani v države EU. \nV sklopu letošnje konference bodo naši izjemni gostje naslavljali prav to: \n\nPregled trenutnega stanja in trendov v digitalizaciji prodaje\nNeizkoriščen izvozni potencial\nKako najti pravi mix v poplavi digitalnih orodij\nPodatki kot konkurenčna prednost\nPremiki v B2B prodaji – novi profili prodajalcev\nRazvoj digitalnih kompetenc zaposlenih in zagotavljanje kibernetske varnosti\n\nDogodek je zasnovan kot katalizator za proizvajalce in B2B podjetja\, ki želijo odkriti in izkoristiti neizkoriščen izvozni potencial skozi digitalne kanale in stremi k temu\, da vaše podjetje opremi z nujnim znanjem in orodji za uspeh na globalnih trgih. \nDodatne informacije in prijava>>
URL:https://ctop.ijs.si/dogodek/konferenca-prihodnost-b2b-prodaje-ki-jo-ustvarjamo-danes/
CATEGORIES:Konferenca
ATTACH;FMTTYPE=image/png:https://ctop.ijs.si/wp-content/uploads/2024/10/B2B-Aexus-21.png
END:VEVENT
END:VCALENDAR