BEGIN:VCALENDAR
VERSION:2.0
PRODID:-//SRIP Tovarne Prihodnosti - ECPv6.6.0.1//NONSGML v1.0//EN
CALSCALE:GREGORIAN
METHOD:PUBLISH
X-WR-CALNAME:SRIP Tovarne Prihodnosti
X-ORIGINAL-URL:https://ctop.ijs.si
X-WR-CALDESC:Events for SRIP Tovarne Prihodnosti
REFRESH-INTERVAL;VALUE=DURATION:PT1H
X-Robots-Tag:noindex
X-PUBLISHED-TTL:PT1H
BEGIN:VTIMEZONE
TZID:Europe/Ljubljana
BEGIN:DAYLIGHT
TZOFFSETFROM:+0100
TZOFFSETTO:+0200
TZNAME:CEST
DTSTART:20240331T010000
END:DAYLIGHT
BEGIN:STANDARD
TZOFFSETFROM:+0200
TZOFFSETTO:+0100
TZNAME:CET
DTSTART:20241027T010000
END:STANDARD
END:VTIMEZONE
BEGIN:VEVENT
DTSTART;VALUE=DATE:20241112
DTEND;VALUE=DATE:20241115
DTSTAMP:20260423T105654
CREATED:20240724T120055Z
LAST-MODIFIED:20240724T120055Z
UID:14803-1731369600-1731628799@ctop.ijs.si
SUMMARY:Konferenca: Izzivi trajnostnega razvoja
DESCRIPTION:Na že 5. konferenci “Izzivi trajnostnega razvoja”\, se bomo osredotočili na najnovejše trende in aktualne izzive na področju trajnostnega razvoja\, varstva okolja in trajnosti v dobavnih verigah. \nTudi tokrat bomo imeli priložnost spoznati številne navdihujoče primere dobrih praks\, ki jih slovenske organizacije uspešno uvajajo v svoje poslovne procese. Te zgodbe vas bodo zagotovo navdihnile k še bolj aktivnemu prispevku k trajnostnemu razvoju. \nStrokovna konferenca Izzivi trajnostnega razvoja bo potekala 3 dni. Znanstveno-strokovni prispevki aktivnih udeležencev (avtorjev) bodo razdeljeni v tematske sklope v treh sekcijah. Ob koncu posameznega tematskega sklopa bo potekala tudi okrogla miza z aktualno tematiko. \n\ntorek\, 12. 11. 2024: ENERGIJA PRIHODNOSTI: SODOBNI PRISTOPI\nsreda\, 13. 11. 2024: TRAJNOSTNE INOVACIJE V OSKRBOVALNIH VERIGAH\nčetrtek\, 14. 11. 2024: KROŽNO GOSPODARSTVO\n\nŽelite deliti dobre prakse iz vašega podjetja ali pa ste pri raziskovalnem projektu prišli do zanimivih ugotovitev? Delite znanja in spoznanja s področja trajnosti s širšo javnostjo in prijavite svoj prispevek. \nRok za prijavo prispevkov s povzetki je 20. avgust 2024! \nDodatne informacije>>
URL:https://ctop.ijs.si/dogodek/konferenca-izzivi-trajnostnega-razvoja/
CATEGORIES:Konferenca
ATTACH;FMTTYPE=image/jpeg:https://ctop.ijs.si/wp-content/uploads/2024/07/BB_-Trajnostni-razvoj-1200x628-V2_1-1_o1.jpg
END:VEVENT
END:VCALENDAR