BEGIN:VCALENDAR
VERSION:2.0
PRODID:-//SRIP Tovarne Prihodnosti - ECPv6.6.0.1//NONSGML v1.0//EN
CALSCALE:GREGORIAN
METHOD:PUBLISH
X-ORIGINAL-URL:https://ctop.ijs.si
X-WR-CALDESC:Events for SRIP Tovarne Prihodnosti
REFRESH-INTERVAL;VALUE=DURATION:PT1H
X-Robots-Tag:noindex
X-PUBLISHED-TTL:PT1H
BEGIN:VTIMEZONE
TZID:Europe/Ljubljana
BEGIN:DAYLIGHT
TZOFFSETFROM:+0100
TZOFFSETTO:+0200
TZNAME:CEST
DTSTART:20250330T010000
END:DAYLIGHT
BEGIN:STANDARD
TZOFFSETFROM:+0200
TZOFFSETTO:+0100
TZNAME:CET
DTSTART:20251026T010000
END:STANDARD
END:VTIMEZONE
BEGIN:VEVENT
DTSTART;TZID=Europe/Ljubljana:20250128T090000
DTEND;TZID=Europe/Ljubljana:20250128T130000
DTSTAMP:20260423T074528
CREATED:20250106T175751Z
LAST-MODIFIED:20250106T175751Z
UID:15512-1738054800-1738069200@ctop.ijs.si
SUMMARY:Slovenski info dan EU Sklada za inovacije
DESCRIPTION:Slovensko gospodarsko in raziskovalno združenje (SBRA) v sodelovanju z Ministrstvom za okolje\, podnebje in energijo\, EU agencijo CINEA iz Bruslja\, Evropsko komisijo ter predstavništvom Evropske komisije\, kjer se bo informativni dan tudi odvijal\, 28. januarja 2025 vabijo na Slovenski info dan EU Sklada za inovacije. \nPozivajo\, da se na info dan prijavijo v čim večji meri tisti\, ki resno razmišljajo o prijavi na EU razpis Sklada za inovacije – ti. sklada za razogljičenje evropske industrije. Posebej opozarjamo in vabimo\, da se resni kandidati za prijavo na razpis Sklada za inovacije (glejte prijavnico posebej za ta del)\, ki se je odprl 3. decembra 2024 in zapade 24. aprila 2025\, v naprej prijavijo za individualni razgovor/konzultacijo z našimi govorci – strokovnjaki iz Evropske komisije in CINEA iz Bruslja\, da bomo te individualne konzultacije lažje že v naprej ustrezno razporedili in naredili urnik v posebnem zaprtem prostoru ob konferenčni dvorani. \nKonferenca je brezplačna\, potekala bo v slovenskem in angleškem jeziku. \nPrijave na konferenco zbirajo na tej spletni strani\, program konference pa je na voljo na tej povezavi.
URL:https://ctop.ijs.si/dogodek/slovenski-info-dan-eu-sklada-za-inovacije/
CATEGORIES:Konferenca
ATTACH;FMTTYPE=image/png:https://ctop.ijs.si/wp-content/uploads/2025/01/info_dan_sklad_za_inovacije.png
END:VEVENT
END:VCALENDAR