BEGIN:VCALENDAR
VERSION:2.0
PRODID:-//SRIP Tovarne Prihodnosti - ECPv6.6.0.1//NONSGML v1.0//EN
CALSCALE:GREGORIAN
METHOD:PUBLISH
X-WR-CALNAME:SRIP Tovarne Prihodnosti
X-ORIGINAL-URL:https://ctop.ijs.si
X-WR-CALDESC:Events for SRIP Tovarne Prihodnosti
REFRESH-INTERVAL;VALUE=DURATION:PT1H
X-Robots-Tag:noindex
X-PUBLISHED-TTL:PT1H
BEGIN:VTIMEZONE
TZID:Europe/Ljubljana
BEGIN:DAYLIGHT
TZOFFSETFROM:+0100
TZOFFSETTO:+0200
TZNAME:CEST
DTSTART:20210328T010000
END:DAYLIGHT
BEGIN:STANDARD
TZOFFSETFROM:+0200
TZOFFSETTO:+0100
TZNAME:CET
DTSTART:20211031T010000
END:STANDARD
END:VTIMEZONE
BEGIN:VEVENT
DTSTART;TZID=Europe/Ljubljana:20210506T110000
DTEND;TZID=Europe/Ljubljana:20210506T114500
DTSTAMP:20260423T024838
CREATED:20210430T130423Z
LAST-MODIFIED:20210430T130423Z
UID:5563-1620298800-1620301500@ctop.ijs.si
SUMMARY:Predstavitev EXPO DUBAJ 2020
DESCRIPTION:SRIP Tovarne prihodnosti v sodelovanju s SPIRIT Slovenija vabi na spletno srečanje\, ki bo potekalo v četrtek 6. maja ob 11 uri preko Zoom platforme – registracija TUKAJ. Na srečanju bodo predstavniki SPIRIT Slovenija predstavili podrobnosti glede največjega dogodka za podjetnike EXPO 2020\, ki bo v času od oktobra 2021 do aprila 2022 postavil Dubaj v središče svetovnega dogajanja. \nEXPO 2020 bo največji dogodek letošnjega leta in osrednja poslovna vzletna točka za trge Bližnjega vzhoda\, Južne Azije in Afrike\, na katerih živi več kot tri milijarde ljudi. Prvič v zgodovini bo potekal v eni od arabskih držav\, njegove razsežnosti pa so rekordne\, saj bo na njem sodelovalo največ držav doslej. EXPO 2020 bo v Dubaju potekal pod sloganom Povezovanje idej za prihodnost (Connecting Minds\, Creating the Future)\, nosilne teme razstave pa bodo mobilnost\, priložnost in trajnost. Del slednje bo tudi Slovenija\, ki se bo v Dubaju predstavila v lastnem razstavnem paviljonu s sloganom Slovenia. Green and Smart Experience. Poudarek je na trajnostni\, sodobni in ustvarjalni plati značaja Slovenije. Na rekordni izvedbi svetovne razstave EXPO se bo predstavilo več kot 190 držav\, njihove paviljone in razstavne prostore pa bo obiskalo skupaj več kot 25 milijonov obiskovalcev. \nEXPO 2020 predstavlja izjemno priložnost za predstavitev slovenskih potencialov in naše odprtosti za povezovanje z naprednimi okolji ter je izvrstna platforma za spoznavanje potencialnih partnerjev in soustvarjalcev edinstvenih zgodb\, nastalih v Sloveniji. Ideja je ustvariti živahen utrip v slovenskem paviljonu\, ki bo goste prepričeval z avtentičnimi podobami\, prepričljivimi poslovnimi rešitvami in otipljivimi idejami za soustvarjanje boljšega sveta. Slovenski paviljon bo na razstavi dom slovenskega gospodarstva\, opremljen z vso potrebno infrastrukturo\, ki je potrebna za organizacijo vrhunskih poslovnih srečanj in promocijskih dogodkov. \nSlovenski paviljon\, bo v času od 21. novembra do 4. decembra 2021 oblikovan in predstavljen z osrednjo tematiko Tovarne prihodnosti in razvoj materialov. Udeležba je odlična priložnost za vsa podjetja\, ki si želijo preboj na trg svetovnega merila. Več podobnosti na samem spletnem srečanju\, kjer boste imeli priložnost za diskusijo s predstavniki SPIRIT Slovenija. \nVABILO
URL:https://ctop.ijs.si/dogodek/predstavitev-expo-dubaj-2020/
LOCATION:Online-ZOOM
CATEGORIES:Predstavitveni dogodek
ATTACH;FMTTYPE=image/jpeg:https://ctop.ijs.si/wp-content/uploads/2021/04/Capture.jpg
END:VEVENT
BEGIN:VEVENT
DTSTART;TZID=Europe/Ljubljana:20210527T100000
DTEND;TZID=Europe/Ljubljana:20210527T110000
DTSTAMP:20260423T024838
CREATED:20210526T193557Z
LAST-MODIFIED:20210526T193617Z
UID:5780-1622109600-1622113200@ctop.ijs.si
SUMMARY:Obzorje Evropa: Zdravje
DESCRIPTION:Institut “Jožef Stefan” organizira sklop predstavitev tematskih področij Obzorje Evropa.\nPredstavitev s sklopom ZDRAVJE\, bo potekala v četrtek\, 27. maja 2021\, ob 10:00-11:00 preko spletnega sistema Zoom \n  \nProgram: \n10:00 – 10:25  Predstavitev področja Obzorje Evropa\, steber II\, grozd I: Zdravje; dr. Eva Batista\, MIZŠ \n10:25 – 10:35   Vprašanja \n10:35 – 10:50  Evropska partnerstva s področja: Zdravje; dr. Eva Batista\, MIZŠ \n10:50 – 11:00   Vprašanja in diskusija \n  \nPredstavitev bo potekala v slovenskem jeziku\, preko sistema Zoom\, povezava na dogodek: TUKAJ. \n  \n\nNajava terminov in tem naslednjih predstavitev Obzorje Evropa:  \n\nPodnebje\, energija in mobilnost (4. 6.)\, \nŠiritev udeležbe in krepitev ERA (8.6.)\, \nHrana\, biogospodarstvo\, naravni viri\, kmetijstvo in okolje (10.6.).
URL:https://ctop.ijs.si/dogodek/obzorje-evropa-zdravje/
LOCATION:ON LINE
CATEGORIES:Predstavitveni dogodek
ATTACH;FMTTYPE=image/jpeg:https://ctop.ijs.si/wp-content/uploads/2021/05/Horizon_Europe_Logo_HEADER983x404px_EBG.jpg
ORGANIZER;CN="Institut Jo%C5%BEef Stefan":MAILTO:info@ijs.si
END:VEVENT
END:VCALENDAR