BEGIN:VCALENDAR
VERSION:2.0
PRODID:-//SRIP Tovarne Prihodnosti - ECPv6.6.0.1//NONSGML v1.0//EN
CALSCALE:GREGORIAN
METHOD:PUBLISH
X-ORIGINAL-URL:https://ctop.ijs.si
X-WR-CALDESC:Events for SRIP Tovarne Prihodnosti
REFRESH-INTERVAL;VALUE=DURATION:PT1H
X-Robots-Tag:noindex
X-PUBLISHED-TTL:PT1H
BEGIN:VTIMEZONE
TZID:Europe/Ljubljana
BEGIN:DAYLIGHT
TZOFFSETFROM:+0100
TZOFFSETTO:+0200
TZNAME:CEST
DTSTART:20210328T010000
END:DAYLIGHT
BEGIN:STANDARD
TZOFFSETFROM:+0200
TZOFFSETTO:+0100
TZNAME:CET
DTSTART:20211031T010000
END:STANDARD
END:VTIMEZONE
BEGIN:VEVENT
DTSTART;TZID=Europe/Ljubljana:20211006T130000
DTEND;TZID=Europe/Ljubljana:20211006T140000
DTSTAMP:20260422T123427
CREATED:20210917T182206Z
LAST-MODIFIED:20210917T182206Z
UID:6853-1633525200-1633528800@ctop.ijs.si
SUMMARY:pre-Discover Vienna: Manufacturing Edition Info Session
DESCRIPTION:EIT Manufacturing CLC East in Dunajska poslovna agencija (VBA) organizirata Discover Vienna: Manufacturing Edition\, program za uspešna zagonska podjetja\, ki imajo rešitve na področju proizvodnih tehnologij. \nDunaj je znan po svojem pristopu k oblikovanju enega najbolj bivalnih mest na svetu. Mesto ima dolgoletno zgodovino v proizvodnih inovacijah. Proizvodni sektor z več kot 8.500 podjetji\, ki ustvarijo več kot 12\,3 milijarde EUR prihodkov\, omogoča delovna mesta prihodnosti ter spodbuja rast in inovacije v mestu. \nDiscover Vienna: Manufacturing Edition je namenjen start-up in sacle-up podjetjem v proizvodnem sektorju z geografskim poudarkom na državah srednje in vzhodne Evrope\, ki so del regionalne inovacijske sheme (RIS). \nPridružite se dogodku in pridobite vse potrebne informacije o programu Discover Vienna. \nPRIJAVA
URL:https://ctop.ijs.si/dogodek/pre-discover-vienna-manufacturing-edition-info-session/
CATEGORIES:Predstavitveni dogodek
ATTACH;FMTTYPE=image/jpeg:https://ctop.ijs.si/wp-content/uploads/2021/09/Vienna-Sub-Page-Header1.jpg
END:VEVENT
BEGIN:VEVENT
DTSTART;TZID=Europe/Ljubljana:20211007T150000
DTEND;TZID=Europe/Ljubljana:20211007T180000
DTSTAMP:20260422T123427
CREATED:20211006T082954Z
LAST-MODIFIED:20211006T181725Z
UID:7003-1633618800-1633629600@ctop.ijs.si
SUMMARY:2nd PITCCH Corporate Challenges Launch
DESCRIPTION:7.10.2021 vas vabimo na dogodek Corporate Challenges Launch. Razkrili bodo naslednjih 5 tehnoloških izzivov\, ki so jih sprožili Electrolux\, Mondi\, REPSOL\, SGS in SIGNIFY. Predstavili bodo svoje poslovne izzive\, spregovorili o lastnih odprtih inovacijskih korporativnih strategijah\, delili pričakovanja glede SME rešitev in skupnih projektov ter odgovarjali na vprašanja občinstva. \nELECTROLUX –  #Connectivity\, #Artificial Intelligence \nMONDI –  #Advanced Materials \nREPSOL – #Advanced Materials\, #Industrial Biotechnology \nSGS –  #Advanced Materials\, #Nanotechnology\, #Micro and Nano-electronics\, #Industrial Biotechnology \nSIGNIFY – #Advanced Materials \nMed dogodkom bo predstavljen projekt PITCCH\, ki bo poudaril koristi\, ki jih lahko MSP/zagonska podjetja in tehnološki centri pričakujejo v okviru tega drugega kroga izzivov. \nNa kratko vam bodo predstavili dosežke prvega kroga izzivov in predstavitvi velike korporacije in MSP\, ki trenutno sodelujeta pri PITCCH Open Innovation projektu. \nDogodek je namenjen vsem\, ki se želijo vključiti v priložnosti naprednih tehnologij in iskati projekt za sodelovanje. \nPRIJAVA
URL:https://ctop.ijs.si/dogodek/2nd-pitcch-corporate-challenges-launch/
CATEGORIES:Predstavitveni dogodek
ATTACH;FMTTYPE=image/jpeg:https://ctop.ijs.si/wp-content/uploads/2021/10/1024x512-TW1.jpg
END:VEVENT
BEGIN:VEVENT
DTSTART;TZID=Europe/Ljubljana:20211012T080000
DTEND;TZID=Europe/Ljubljana:20211013T170000
DTSTAMP:20260422T123427
CREATED:20210921T114105Z
LAST-MODIFIED:20210921T114105Z
UID:6871-1634025600-1634144400@ctop.ijs.si
SUMMARY:EU – South MED Cluster Matchmaking Event
DESCRIPTION:Odprte so prijave za dogodek združevanja grozdov EU – South MED\, ki bo potekal od 12. do 13. oktobra 2021 v okviru  „TechDays-Match-Up!“ \, ki ga organizira The next society. Dogodek bodo soorganizirali Evropska komisija\, Naložbena mreža ANIMA\, Ceipiemonte in Evropska platforma za sodelovanje pri grozdih (ECCP). Cilj je olajšati sodelovanje med South-MED in EU inovatorji prek posrednika in podpore grozdov. \nDogodek je odprt za grozde\, organizacije poslovnih mrež in MSP\, ki se želijo vključiti v dejavnosti sodelovanja s South-MED. Udeležence spodbujajo na naslednjih področjih: kmetijstvo in živilska industrija; Ustvarjalne industrije in turizem; Digitalne rešitve; Trajnostna energija in Greentech; Promet in mobilnost. \nRok za prijavo je 22. 9. 2021 \nPRIJAVA >>
URL:https://ctop.ijs.si/dogodek/eu-south-med-cluster-matchmaking-event/
CATEGORIES:Predstavitveni dogodek
ATTACH;FMTTYPE=image/jpeg:https://ctop.ijs.si/wp-content/uploads/2021/09/EU-South-MED.jpg
END:VEVENT
BEGIN:VEVENT
DTSTART;TZID=Europe/Ljubljana:20211012T170000
DTEND;TZID=Europe/Ljubljana:20211012T180000
DTSTAMP:20260422T123427
CREATED:20211006T075014Z
LAST-MODIFIED:20211006T075124Z
UID:6997-1634058000-1634061600@ctop.ijs.si
SUMMARY:Dogodek ob 70-letnici ustanovitve Tehniškega muzeja Slovenije
DESCRIPTION:V torek\, 12. oktobra 2021 ob 17. uri vas vabimo v Tehniški muzej Slovenije v Bistro pri Vrhniki na prireditev\, s katero bodo obeležili 70-letnico ustanovitve muzeja in pospremili občasno razstavo Tehnika za šport\, ki predstavlja presek slovenskih športnih proizvajalcev za aktivnosti na kopnem\, v zraku in vodi. \nProsijo za potrditev udeležbe do petka\, 8. oktobra 2021\, na info@tms.si ali 01 25 15 400.   \nTehniški muzej Slovenije\, ki je nastal s ciljem zbiranja\, varovanja in raziskovanja gradiva\, povezanega z razvojem obrti in industrije na slovenskih tleh\, je bil ustanovljen 3. aprila leta 1951. V desetletjih delovanja smo postali osrednji prostor varovanja in predstavljanja bogate slovenske tehniške dediščine. S predstavitvijo največjih dosežkov slovenskih znanstvenikov ter prikazom najuspešnejših slovenskih industrijskih panog skrbimo za promocijo Slovenije. \nNa občasni razstavi »Tehnika za šport« predstavljamo proizvajalce športne opreme za aktivnosti na kopnem\, v zraku in vodi. Ker smo razstavo zaradi epidemioloških razmer odprli le virtualno\, ji želimo s tem dogodkom posvetiti prav posebno pozornost.
URL:https://ctop.ijs.si/dogodek/dogodek-ob-70-letnici-ustanovitve-tehniskega-muzeja-slovenije/
CATEGORIES:Predstavitveni dogodek
ATTACH;FMTTYPE=image/jpeg:https://ctop.ijs.si/wp-content/uploads/2021/10/Tehnika-za-sport1.jpg
END:VEVENT
BEGIN:VEVENT
DTSTART;TZID=Europe/Ljubljana:20211021T093000
DTEND;TZID=Europe/Ljubljana:20211021T170000
DTSTAMP:20260422T123427
CREATED:20211019T215218Z
LAST-MODIFIED:20211019T215248Z
UID:7151-1634808600-1634835600@ctop.ijs.si
SUMMARY:EE-11 Informativni dan (European Space Agency)
DESCRIPTION:Evropska vesoljska agencija ESA je objavila že drugi RPA razpis\, ki je namenjen le slovenskim podjetjem in inštitucijam. \nPosledično vas vabimo na  EE-11  Information Day dogodek\, namenjenem industriji\, ki bi želela sodelovati pri izgradnji satelita Earth Explorer\, ki se izgrajuje v okviru programa FEO\, pri katerem Slovenija sodeluje. Dogodek bo potekal on-line 21. oktobra\, od 9.30 do 17.00. \nPovezava in dnevni red
URL:https://ctop.ijs.si/dogodek/ee-11-information-day/
CATEGORIES:Predstavitveni dogodek,Webinar
ATTACH;FMTTYPE=image/png:https://ctop.ijs.si/wp-content/uploads/2021/10/Zajeta-1.png
END:VEVENT
BEGIN:VEVENT
DTSTART;TZID=Europe/Ljubljana:20211027T090000
DTEND;TZID=Europe/Ljubljana:20211027T090000
DTSTAMP:20260422T123427
CREATED:20211025T121416Z
LAST-MODIFIED:20211025T121732Z
UID:7219-1635325200-1635325200@ctop.ijs.si
SUMMARY:BLUEAIR spletni dogodek
DESCRIPTION:BLUEAIR lansira dogodek katerega cilj  je zagotoviti katalizator\, ki bo zbral ustrezne zainteresirane strani in zagotavljanje uspešnega zagona projekta z namenom okrepitve institucionalnih zmogljivosti ozemelj ADRION pri opredelitvi skupne politike S3 o Modrem rasti in uskladitev lokalnih pobud s strategijo EUSAIR\, skozi razvoj makroregionalnega S3 o Modri rasti in vzpostavitvi skupnosti inovacij. \nVABILO in PROGRAM >>
URL:https://ctop.ijs.si/dogodek/blueair-spletni-dogodek/
LOCATION:ON LINE
CATEGORIES:Predstavitveni dogodek
ATTACH;FMTTYPE=image/png:https://ctop.ijs.si/wp-content/uploads/2021/10/BLUEAIR-press-release1.png
END:VEVENT
END:VCALENDAR