BEGIN:VCALENDAR
VERSION:2.0
PRODID:-//SRIP Tovarne Prihodnosti - ECPv6.6.0.1//NONSGML v1.0//EN
CALSCALE:GREGORIAN
METHOD:PUBLISH
X-ORIGINAL-URL:https://ctop.ijs.si
X-WR-CALDESC:Events for SRIP Tovarne Prihodnosti
REFRESH-INTERVAL;VALUE=DURATION:PT1H
X-Robots-Tag:noindex
X-PUBLISHED-TTL:PT1H
BEGIN:VTIMEZONE
TZID:Europe/Ljubljana
BEGIN:DAYLIGHT
TZOFFSETFROM:+0100
TZOFFSETTO:+0200
TZNAME:CEST
DTSTART:20210328T010000
END:DAYLIGHT
BEGIN:STANDARD
TZOFFSETFROM:+0200
TZOFFSETTO:+0100
TZNAME:CET
DTSTART:20211031T010000
END:STANDARD
END:VTIMEZONE
BEGIN:VEVENT
DTSTART;TZID=Europe/Ljubljana:20211116T080000
DTEND;TZID=Europe/Ljubljana:20211116T170000
DTSTAMP:20260422T093342
CREATED:20211116T223641Z
LAST-MODIFIED:20211116T223641Z
UID:7467-1637049600-1637082000@ctop.ijs.si
SUMMARY:Horizon Europe Cluster 4 - Digital\, Industry & Space - Info days
DESCRIPTION:Na info-dnevih od 29. novembra do 1. decembra od 9.00 do 18.00 bo Evropska komisija predstavila teme delovnega programa Obzorje Evropa 4 (Digitalno\, industrija in vesolje) 2022 in bo omogočiti potencialnim prijaviteljem\, da izvedo več o financiranju v okviru novega programa. Program: \n\n29th of November: Destinations 1 & 2\n30th of November: Destinations 2 & 5\n1st of December: Destinations 3\, 4 & 6\n\nRazpisi Made in Europe bodo predstavljeni v ponedeljek\, 29. novembra\, od 14.00 do 15.30. \nTukaj si oglejte celoten dnevni red in upoštevajte\, da registracija ni potrebna – vse seje bodo na voljo za ogled – tukaj. \nDodatne informacije
URL:https://ctop.ijs.si/dogodek/horizon-europe-cluster-4-digital-industry-space-info-days/
CATEGORIES:Predstavitveni dogodek
ATTACH;FMTTYPE=image/png:https://ctop.ijs.si/wp-content/uploads/2021/11/info_days_01.png
END:VEVENT
BEGIN:VEVENT
DTSTART;TZID=Europe/Ljubljana:20211129T140000
DTEND;TZID=Europe/Ljubljana:20211129T153000
DTSTAMP:20260422T093342
CREATED:20211123T212030Z
LAST-MODIFIED:20211123T212030Z
UID:7568-1638194400-1638199800@ctop.ijs.si
SUMMARY:Cluster 4 - Digital\, Industry & Space - Info days
DESCRIPTION:Na info-dnevih od 29. novembra do 1. decembra od 9.00 do 18.00 bo Evropska Komisija predstavila teme delovnega programa Obzorje Evropa Grozd 4 (Digitalno\, industrija in vesolje) 2022 in bo omogočila potencialnim prijaviteljem\, da izvedo več o financiranju v okviru novega programa. Dnevi bodo organizirani po spodnjem programu:\n \n\n29. November: Destinations 1 & 2\n30. November: Destinations 2 & 5\n1. December: Destinations 3\, 4 & 6\n\nRazpisi Made in Europe bodo predstavljeni v ponedeljek\, 29. novembra\, od 14.00 do 15.30. \nTukaj si oglejte celoten dnevni red in upoštevajte\, da registracija ni potrebna – vse seje bodo na voljo za ogled – tukaj \nDodatne informacije
URL:https://ctop.ijs.si/dogodek/cluster-4-digital-industry-space-info-days/
CATEGORIES:Predstavitveni dogodek,Webinar
ATTACH;FMTTYPE=image/png:https://ctop.ijs.si/wp-content/uploads/2021/11/info_days_01-1-e1637702408188.png
END:VEVENT
END:VCALENDAR