BEGIN:VCALENDAR
VERSION:2.0
PRODID:-//SRIP Tovarne Prihodnosti - ECPv6.6.0.1//NONSGML v1.0//EN
CALSCALE:GREGORIAN
METHOD:PUBLISH
X-WR-CALNAME:SRIP Tovarne Prihodnosti
X-ORIGINAL-URL:https://ctop.ijs.si
X-WR-CALDESC:Events for SRIP Tovarne Prihodnosti
REFRESH-INTERVAL;VALUE=DURATION:PT1H
X-Robots-Tag:noindex
X-PUBLISHED-TTL:PT1H
BEGIN:VTIMEZONE
TZID:Europe/Ljubljana
BEGIN:DAYLIGHT
TZOFFSETFROM:+0100
TZOFFSETTO:+0200
TZNAME:CEST
DTSTART:20210328T010000
END:DAYLIGHT
BEGIN:STANDARD
TZOFFSETFROM:+0200
TZOFFSETTO:+0100
TZNAME:CET
DTSTART:20211031T010000
END:STANDARD
END:VTIMEZONE
BEGIN:VEVENT
DTSTART;TZID=Europe/Ljubljana:20211202T090000
DTEND;TZID=Europe/Ljubljana:20211202T153000
DTSTAMP:20260422T075657
CREATED:20211117T173127Z
LAST-MODIFIED:20211117T173127Z
UID:7501-1638435600-1638459000@ctop.ijs.si
SUMMARY:Dogodek: “Človeški viri in robotika - roboti so namenjeni ljudem”
DESCRIPTION:V Digitalnem središču Slovenije – Tehnologija za ljudi bo v četrtek\, 2. decembra 2021 potekal dogodek na temo razvoja človeških virov na področju Industrije 4.0 in robotike\, kot del Meseca Industrije 4.0 in robotike. \nNa dogodku bomo predstavili različne vidike uvajanja sprememb v podjetja\, predstavili bomo profile in kompetence prihodnosti\, dobre prakse v HR\, izobraževalne programe za prehod v Industrijo 4.0 ter nekatere zanimive poklice na področju robotike. \nDogodek bo spremljal pester vzporedni program z zanimivim prikazom mednarodnega sodelovanja na področju robotike in umetnosti\, predstavili bomo videe za perspektivne poklice prihodnosti ter predstavili elektrotehnične in meroslovne poklice. \n \nDogodek organizira grozd Pametne tovarne (SRIP Tovarne prihodnosti)\, ki deluje v okviru Zbornice elektronske in elektroindustrije na Gospodarski zbornici Slovenije. \nDogodek bo potekal predvidoma v fizični obliki na lokaciji Digitalno središče Slovenije\, Hala 1 BTC\, Ulica Gledališča BTC 6\, Ljubljana. \nZa udeležbo na dogodku je potreben veljaven PCT pogoj. Dogodek pa bo možno spremljati tudi preko spleta. Udeležba na dogodku je brezplačna. \nVljudno vabljeni!\nPrijave na dogodek sprejemamo najkasneje do 29. novembra 2021\, na teh povezavah.\nLink do prijave: fizična prisotnost v Digitalnem središču Slovenije\nLink do prijave (spletna prisotnost): Zoom dogodek \nDodatne informacije najdete v priloženem vabilu.
URL:https://ctop.ijs.si/dogodek/dogodek-cloveski-viri-in-robotika-roboti-so-namenjeni-ljudem/
CATEGORIES:Predstavitveni dogodek,Seminar
ATTACH;FMTTYPE=image/jpeg:https://ctop.ijs.si/wp-content/uploads/2021/11/futureofmanufacturing_2-1675x5251-1.jpg
ORGANIZER;CN="Gospodarska zbornica Slovenije":MAILTO:info@gzs.si
END:VEVENT
BEGIN:VEVENT
DTSTART;TZID=Europe/Ljubljana:20211216T090000
DTEND;TZID=Europe/Ljubljana:20211216T124500
DTSTAMP:20260422T075657
CREATED:20211214T121329Z
LAST-MODIFIED:20211215T082551Z
UID:7822-1639645200-1639658700@ctop.ijs.si
SUMMARY:EIT Manufacturing – Naj se inovacije zgodijo v Sloveniji
DESCRIPTION:Dogodek je namenjen predstavitvi EIT Manufacturing v celotnem trikotniku znanja: raziskave\, izobraževanje in podjetništvo. Predstavljena bo tudi vloga Slovenije v tej elitni evropski družbi na področju proizvodnje. \nDogodek organizira EIT Manufacturing. \nPRIJAVA >> \nPOVEZAVA DO ČLANKA >>
URL:https://ctop.ijs.si/dogodek/eit-manufacturing-naj-se-inovacije-zgodijo-v-sloveniji-2/
CATEGORIES:Predstavitveni dogodek
ATTACH;FMTTYPE=image/jpeg:https://ctop.ijs.si/wp-content/uploads/2021/12/119_SpletnaStran_EITManufacturing_b-2-2048x11141-2.jpg
END:VEVENT
BEGIN:VEVENT
DTSTART;TZID=Europe/Ljubljana:20211217T080000
DTEND;TZID=Europe/Ljubljana:20211217T123500
DTSTAMP:20260422T075657
CREATED:20211214T121548Z
LAST-MODIFIED:20211216T085730Z
UID:7827-1639728000-1639744500@ctop.ijs.si
SUMMARY:Pametna tovarna v praksi
DESCRIPTION:Dogodek je namenjen uvodni kratki predstavitvi Razvojnega centra Novo mesto. V nadaljevanju bodo prikazane kompetence in izkušnje RC NM\, pridobljene s postavitvijo novo odprtega Laboratorija za tovarne prihodnosti (LABTOP) ter s sodelovanjem z industrijo na področju robotike in pametne specializacije. Zadnji del dogodka bo namenjen predstavitvam dobrih praks postavljanja (segmentov) pametnih tovarn v industriji JV Slovenije. Dogodek organizira Razvojni center Novo mesto. \nPRIJAVA >>
URL:https://ctop.ijs.si/dogodek/pametna-tovarna-v-praksi/
CATEGORIES:Predstavitveni dogodek
ATTACH;FMTTYPE=image/jpeg:https://ctop.ijs.si/wp-content/uploads/2021/12/118_SpletnaStran_PametnaTovarnaVPraksi_b-1-2048x11141-1.jpg
END:VEVENT
END:VCALENDAR