BEGIN:VCALENDAR
VERSION:2.0
PRODID:-//SRIP Tovarne Prihodnosti - ECPv6.6.0.1//NONSGML v1.0//EN
CALSCALE:GREGORIAN
METHOD:PUBLISH
X-WR-CALNAME:SRIP Tovarne Prihodnosti
X-ORIGINAL-URL:https://ctop.ijs.si
X-WR-CALDESC:Events for SRIP Tovarne Prihodnosti
REFRESH-INTERVAL;VALUE=DURATION:PT1H
X-Robots-Tag:noindex
X-PUBLISHED-TTL:PT1H
BEGIN:VTIMEZONE
TZID:Europe/Ljubljana
BEGIN:DAYLIGHT
TZOFFSETFROM:+0100
TZOFFSETTO:+0200
TZNAME:CEST
DTSTART:20220327T010000
END:DAYLIGHT
BEGIN:STANDARD
TZOFFSETFROM:+0200
TZOFFSETTO:+0100
TZNAME:CET
DTSTART:20221030T010000
END:STANDARD
END:VTIMEZONE
BEGIN:VEVENT
DTSTART;TZID=Europe/Ljubljana:20220511T120000
DTEND;TZID=Europe/Ljubljana:20220511T145000
DTSTAMP:20260421T235014
CREATED:20220421T082241Z
LAST-MODIFIED:20220421T082241Z
UID:8633-1652270400-1652280600@ctop.ijs.si
SUMMARY:Senzorski sistemi za merjenje pretokov in vibracij
DESCRIPTION:SRIP ToP vabi\, da se pridružite dogodku z naslovom Senzorski sistemi za merjenje pretokov in vibracij\, ki bo potekal v sredo\, 11. 5. 2022 ob 12. uri preko spleta (Zoom). \nMerjenje pretokov in vibracij sta kompleksni in obsežni temi\, ki ju bomo na srečanju naslovili z namenom približevanja teoretičnih spoznanj in praktičnih izkušenj. Vabljeni\, da se nam pridružite. \nPROGRAM\n12:00 Začetek\n12:05 Uvodni pozdrav\, prof. ddr. Denis Đonlagić\n12:10 SRIP Top\, doc. dr. Igor Kovač\n12:15 Merjenje pretokov fluidov\, Matija Žnidaršič\n13:30 Merjenje vibracij\, Dino Florjančič\n14:15 Pregled javnih razpisov\, Andrej Kokol\n14:22 Zaključne besede\, prof. ddr. Denis Đonlagić\n14:27 Vprašanja in Odgovori\n14:50 Zaključek  \nDogodek je brezplačen\, obvezna pa je predhodna registracija TUKAJ. \nVABILO >> \n 
URL:https://ctop.ijs.si/dogodek/senzorski-sistemi-za-merjenje-pretokov-in-vibracij/
LOCATION:Zoom
CATEGORIES:Predstavitveni dogodek
ATTACH;FMTTYPE=image/png:https://ctop.ijs.si/wp-content/uploads/2022/04/Slika.png
ORGANIZER;CN="SRIP ToP":MAILTO:ctop@ijs.si
END:VEVENT
END:VCALENDAR