BEGIN:VCALENDAR
VERSION:2.0
PRODID:-//SRIP Tovarne Prihodnosti - ECPv6.6.0.1//NONSGML v1.0//EN
CALSCALE:GREGORIAN
METHOD:PUBLISH
X-WR-CALNAME:SRIP Tovarne Prihodnosti
X-ORIGINAL-URL:https://ctop.ijs.si
X-WR-CALDESC:Events for SRIP Tovarne Prihodnosti
REFRESH-INTERVAL;VALUE=DURATION:PT1H
X-Robots-Tag:noindex
X-PUBLISHED-TTL:PT1H
BEGIN:VTIMEZONE
TZID:Europe/Ljubljana
BEGIN:DAYLIGHT
TZOFFSETFROM:+0100
TZOFFSETTO:+0200
TZNAME:CEST
DTSTART:20220327T010000
END:DAYLIGHT
BEGIN:STANDARD
TZOFFSETFROM:+0200
TZOFFSETTO:+0100
TZNAME:CET
DTSTART:20221030T010000
END:STANDARD
END:VTIMEZONE
BEGIN:VEVENT
DTSTART;VALUE=DATE:20220606
DTEND;VALUE=DATE:20220611
DTSTAMP:20260421T222406
CREATED:20220603T063334Z
LAST-MODIFIED:20220603T063607Z
UID:8839-1654473600-1654905599@ctop.ijs.si
SUMMARY:7. Teden Kemijskega inštituta
DESCRIPTION:Med 6. in 10. junijem 2022\, bo potekal 7. Teden Kemijskega inštituta\, kateri bo takrat na široko odprl vrata tako strokovni kot širši javnosti. Pripravljajo vrsto zanimivih predavanj in omizij\, najbolj vedoželjni boste lahko pokukali v njihove laboratorije ter se seznanili z življenjem raziskovalk in raziskovalcev\, najmlajše pa bodo pritegnile zabavne delavnice. \n  \nPredavanja in omizja\nNa strokovnih predavanjih boste lahko prisluhnili lanskima Preglovima nagrajencema\, prof. dr. Kristini Gruden\, ter izr. prof. dr. Blažu Likozarju. V okviru Preglovega kolokvija bo predaval prof. dr. Michael S. Silverstein\, v sklopu predavanj Forum40 pa se bo predstavila dr. Anja Kopač Lautar. \nŠirši javnosti namenjena bo denimo razprava z naslovom Antikythera\, antični pogled v vesolje. Prof. dr. Jure Zupan bo z doc. dr. Andrejem Gasparijem\, predstojnikom Oddelka za arheologijo na Filozofski fakulteti Univerze v Ljubljani\, ter našim sodelavcem dr. Drejcem Kopačem razpravljal ne le o preteklem in današnjem vedenju o vesolju\, ampak tudi o neizbežnem povezovanju med različnimi znanstvenimi panogami. Sogovorniki se bodo dotaknili tudi vrhunske raziskovalne infrastrukture\, ki jo pri svojem delu potrebujejo raziskovalke in raziskovalci. \nNavdihujoče bo tudi predavanje našega mednarodno priznanega fotografa Arneta Hodaliča z naslovom Znanost in fotografija. \nNa treh omizjih boste lahko prisluhnili razpravi o pomenu novega Zakona o znanstvenoraziskovalni in inovacijski dejavnosti\, o načrtih Slovenije na področju razvoja modernih baterijskih sistemov\, ter tudi o smernicah trajnostnega razvoja. \n  \nPredstavitve\, delavnice\, razstava\nNa mednarodni dan zelenih streh\, 6. junija\, bodo širši javnosti\, v sodelovanju z Botaničnim vrtom Univerze v Ljubljani\, predstavili rastlinske zaklade inštitutskega strešnega vrta. Ozelenjena streha Preglovega raziskovalnega centra namreč predstavlja modelni primer nadomestnega rastišča več kot 40-im avtohtonim slovenskim rastlinskim vrstam in je kot taka edinstvena varuhinja slovenske biodiverzitete. \nZa najmlajše letos pripravljajo tudi dve zabavni delavnici: Molekularni cukrčki in Super eksperimenti. \nOb zaključku Tedna Kemijskega inštituta pa bodo odprli še zanimivoumetniško razstavo prof. dr. Franca Soline. \n  \nNova epizoda podkasta\nV okviru Tedna Kemijskega inštituta bodo objavili tudi posebno epizodo inštitutskega podkasta Vzeto na znanje\, v katerem bomo gostili Iva Boscarola\, ustanovitelja podjetja Pipistrel. Z njim bomo razpravljali o brezogljičenju in trajnostni mobilnosti naslednjih generacij\, prihodnosti shranjevanja električne energije\, razvoju modernih baterijskih sistemov ter obetavnih vodikovih tehnologijah\, ki so za mobilnost prihodnosti neizbežne. Dotaknili se bodo tudi neštetih izzivov vodenja visokotehnološkega podjetja in priložnosti za tovrstna podjetja v Sloveniji. \n  \nTeden odprtih vrat z ogledi inštituta\nV tem tednu bo na znanstvenoraziskovalni ustanovi potekal tudi Teden odprtih vrat. Vsak dan bodo\, po vnaprej pripravljenem urniku\, pripravili ogled katerega izmed njihovih laboratorijev. Za ogled bo potrebna prijava\, saj bo število udeležencev omejeno. Urnik in teme ogledov preverite > TUKAJ \nVljudno vabljeni! \n—– \nURNIK DOGODKOV\n  \nPonedeljek\, 6.6.2022\n10.00 > Okrogla miza: Kaj pri naša novi zakon na področju znanosti \n13.00 > Predavanje: izr. prof. dr. Blaž Likozar: Večravensko razumevanje katalize z modeliranjem – od atomov do tovarn \n14.00 > Ogled inštituta \n15.00 > Predstavitev: Zakladi zelene strehe – ogled zelene strehe Kemijskega inštituta in predstavitve monografije \n  \nTorek\, 7.6.2022\n09.00 > Jutranja kava: Antikythera – od antične visoke tehnologije do zvezd \n14.00 > Ogled inštituta \n15.00 > Okrogla miza: Kakšne oblike je trajnost? (dogodek poteka v Muzeju za arhitekturo in oblikovanje) \n  \nSreda\, 8.6.2022\n09.00 > Ogled inštituta \n10.00 > Delavnica za vrtce: Super eksperimenti \n13.00 > Forum40: dr. Anja Kopač Lautar: Kaj se dogaja z baterijami na kvantnem nivoju? \n17.00 > Delavnica za otroke: Super eksperimenti \n  \nČetrtek\, 9.6.2022\n9.00 > Ogled inštituta \n10.00 > Predavanje: Arne Hodalič: Znanost in fotografija \n13.00 > Preglov kolokvij: prof. dr. Michael Silverstein: Accessing Innovative Polymers through Emulsion Templating \n17.00 > Delavnica za otroke: Molekularni cukrčki \n  \nPetek\, 10.6.2022\n9.00 > Ogled inštituta \n10.00 > Okrogla miza: Izzivi razvoja in proizvodnje baterij – kje je Slovenija? \n13.00 > Predavanje: prof. dr. Kristina Gruden: Razkrivanje mehanizmov imunske signalizacije pri rastlinah \n18.00 > Otvoritev umetniške razstave: Franc Solina: Grobi in obdelani kamen
URL:https://ctop.ijs.si/dogodek/8839/
CATEGORIES:Dan odprtih vrat,Predstavitveni dogodek
ATTACH;FMTTYPE=image/png:https://ctop.ijs.si/wp-content/uploads/2022/06/Logo_SI_kratek_prosojen1.png
END:VEVENT
END:VCALENDAR