BEGIN:VCALENDAR
VERSION:2.0
PRODID:-//SRIP Tovarne Prihodnosti - ECPv6.6.0.1//NONSGML v1.0//EN
CALSCALE:GREGORIAN
METHOD:PUBLISH
X-WR-CALNAME:SRIP Tovarne Prihodnosti
X-ORIGINAL-URL:https://ctop.ijs.si
X-WR-CALDESC:Events for SRIP Tovarne Prihodnosti
REFRESH-INTERVAL;VALUE=DURATION:PT1H
X-Robots-Tag:noindex
X-PUBLISHED-TTL:PT1H
BEGIN:VTIMEZONE
TZID:Europe/Ljubljana
BEGIN:DAYLIGHT
TZOFFSETFROM:+0100
TZOFFSETTO:+0200
TZNAME:CEST
DTSTART:20220327T010000
END:DAYLIGHT
BEGIN:STANDARD
TZOFFSETFROM:+0200
TZOFFSETTO:+0100
TZNAME:CET
DTSTART:20221030T010000
END:STANDARD
END:VTIMEZONE
BEGIN:VEVENT
DTSTART;TZID=Europe/Ljubljana:20220915T093000
DTEND;TZID=Europe/Ljubljana:20220915T123000
DTSTAMP:20260421T180202
CREATED:20220906T040454Z
LAST-MODIFIED:20220906T040509Z
UID:9554-1663234200-1663245000@ctop.ijs.si
SUMMARY:Predstavitev aktualnih razpisov Evropskega obrambnega sklada (EDF)
DESCRIPTION:Slovensko gospodarsko in raziskovalno združenje (SBRA) v Bruslju in Ministrstvo za obrambo RS vabita na informativni dan za predstavitev aktualnih razpisov Evropskega obrambnega sklada (EDF). Informativni dan bo potekal v prostorih Fakultete za strojništvo Univerze v Ljubljani\, 15.9.2022 od 09.30 do 12.30. \nEvropski obrambni sklad (European Defence Fund = EDF) prispeva k zmanjševanju razdrobljenosti pri razvoju evropskih obrambnih zmogljivosti. Krepi tudi industrijsko konkurenčnost in spodbuja interoperabilnost po vsej Evropi. V delovnem programu Evropskega obrambnega sklada za leto 2022 je skupaj obravnavanih kar 33 tem ter zbranih 924 milijonov evrov sredstev\, v okviru osmih razpisov za zbiranje predlogov za začetek številnih velikih prepoznavnih projektov. Poleg tega delovni program Evropskega obrambnega sklada za leto 2022 zagotavlja nepretrgano financiranje nekaj pomembnih projektov\, začetih v okviru dveh programov\, ki sta bila predhodnika Evropskega obrambnega sklada. \nOb tem delovni program za leto 2022 uvaja vrsto novih orodij za spodbujanje inovacij na področju obrambe\, vsa v enem samem novem okviru\, imenovanem Inovacijski program EU na obrambnem področju (EUDIS). Letos sta s proračunoma v višini po več kot 120 milijonov evrov v središču pozornosti dve ključni področji za podporo razvoju zmogljivosti: vesolje in pomorsko bojevanje. Poleg tega bo več kot 70 milijonov evrov dodeljenih raziskovalnim in razvojnim dejavnostim v naslednjih dveh kategorijah: kibernetska varnost in informacijska prevlada. \nNamen dogodka je\, da nam Evropska komisija predstavi aktualne razpise ter delovni program Evropskega obrambnega sklada 2022\, predstavitev slovenskih prioritet​ raziskav in razvoja na obrambnem področju\, vloge nacionalne kontaktne točke za EDF ter pomoč\, ki vam jo lahko nudi Slovenian Business and Research Association (SBRA) v Bruslju oziroma najpogostejša vprašanja v zvezi s pripravo in izvajanjem projektov. Poleg predstavitve razpisov bomo na informativnem dnevu pokazali tudi prejšnje izkušnje in priložnosti slovenskih entitet v EDF 2021 in predhodnih programih ter delili izkušnje o oblikovanju partnerstev na ravni EU v obrambnem sektorju. \nKonferenca je brezplačna\, potekala bo v slovenskem in angleškem jeziku. \nPrijave na konferenco zbiramo na na tej spletni strani\, program konference pa je na voljo na tej povezavi.
URL:https://ctop.ijs.si/dogodek/predstavitev-aktualnih-razpisov-evropskega-obrambnega-sklada-edf/
CATEGORIES:Predstavitveni dogodek
ATTACH;FMTTYPE=image/png:https://ctop.ijs.si/wp-content/uploads/2022/09/EDF_2022.png
END:VEVENT
END:VCALENDAR