BEGIN:VCALENDAR
VERSION:2.0
PRODID:-//SRIP Tovarne Prihodnosti - ECPv6.6.0.1//NONSGML v1.0//EN
CALSCALE:GREGORIAN
METHOD:PUBLISH
X-ORIGINAL-URL:https://ctop.ijs.si
X-WR-CALDESC:Events for SRIP Tovarne Prihodnosti
REFRESH-INTERVAL;VALUE=DURATION:PT1H
X-Robots-Tag:noindex
X-PUBLISHED-TTL:PT1H
BEGIN:VTIMEZONE
TZID:Europe/Ljubljana
BEGIN:DAYLIGHT
TZOFFSETFROM:+0100
TZOFFSETTO:+0200
TZNAME:CEST
DTSTART:20220327T010000
END:DAYLIGHT
BEGIN:STANDARD
TZOFFSETFROM:+0200
TZOFFSETTO:+0100
TZNAME:CET
DTSTART:20221030T010000
END:STANDARD
END:VTIMEZONE
BEGIN:VEVENT
DTSTART;VALUE=DATE:20221123
DTEND;VALUE=DATE:20221125
DTSTAMP:20260421T151050
CREATED:20220921T082306Z
LAST-MODIFIED:20220921T082329Z
UID:10800-1669161600-1669334399@ctop.ijs.si
SUMMARY:ConnectedFactories & EFPF Final Event
DESCRIPTION:Zaključni dogodek projektov CF2 & EFPF bo potekal v Bruslju 23. in 24. novembra 2022. \nKer se oba projekta bližata koncu\, EFFRA organizira zaključni dogodek\, na katerem bodo predstavili dosežke\, rezultate projektov in več. \nPrvi dan dogodka bo predstavljen pregled poti do napredne in digitalne proizvodnje projektov ConnectedFactory 1 & 2\, s posebnim poudarkom na poti podatkovnega prostora in poti krožne proizvodnje. Predstavljeno bo trenutno stanje rezultatov\, ki jih je mogoče uporabiti\, in demonstratorjev iz šestih inovacijskih akcij DT‐ICT‐07-2018-2019\, kjer se bodo dokončani projekti osredotočali na dosežke in pridobljene izkušnje. Poleg tega bodo predstavljeni glavni izsledki in ključne ugotovitve v zvezi s horizontalnimi vidiki\, kot so interoperabilnost\, standardizacija\, poslovanje\, pravni vidiki in drugo. \nNa 24. dogodku bodo predstavljeni rezultati treh pilotnih projektov EFPF ter poslovni in trajnostni modeli\, implementirani v projektu EFPF. Poleg tega bo projekt predstavil najnovejši razvoj in prispevke k medsektorskim področjem\, opredeljenim in obravnavanim v projektu CF2. \nModel federacije\, implementiran v projektu EFPF\, omogoča medsebojno povezovanje platform\, sistemov in storitev v domeni digitalne proizvodnje. Uporabnikom omogoča tudi uporabo inovativnih funkcionalnosti\, eksperimentiranje s prelomnimi pristopi in razvoj rešitev po meri za povečanje povezljivosti\, interoperabilnosti in učinkovitosti za scenarije proizvodnje velikosti serije ena. \nSpodaj najdete osnutek dnevnega reda in povezavo za prijavo. \nPROGRAM>>
URL:https://ctop.ijs.si/dogodek/connectedfactories-efpf-final-event/
CATEGORIES:B2B dogodek,Predstavitveni dogodek
ATTACH;FMTTYPE=image/png:https://ctop.ijs.si/wp-content/uploads/2022/09/banner_v21.png
END:VEVENT
BEGIN:VEVENT
DTSTART;TZID=Europe/Ljubljana:20221130T090000
DTEND;TZID=Europe/Ljubljana:20221130T153000
DTSTAMP:20260421T151050
CREATED:20221116T182441Z
LAST-MODIFIED:20221116T183621Z
UID:11362-1669798800-1669822200@ctop.ijs.si
SUMMARY:Izmenjava dobrih praks VSE O INDUSTRIJI 5.0 na enem mestu
DESCRIPTION:GZS Posavska gospodarska zbornica\, Krško in Obrtno-podjetniška zbornica Krško si v sodelovanju s posavskimi podjetji in podjetniki ter Šolskim centrom Krško prizadevamo za dvig kompetenc na vseh ravneh. K dvigu kompetenc doprinesejo tudi obiski najsodobnejših\, proizvodnih podjetij\, kjer si lahko v realnem okolju ogledamo najsodobnejše tehnološke rešitve. V ta namen v okviru SPOT točke Posavje\, katere nosilec je CPT Krško\, organiziramo izmenjavo dobrih praks. \nV sredo\, 30. novembra 2022\, se bomo ob 9. uri z organiziranim prevozom odpravili iz Krškega\, povratek je predviden okoli 15.30 ure. \n  \nProgram: \n8:40 – 9.00         Zbor na parkirišču Nakupovalnega centra STOP SHOP Krško\, Ulica 11. novembra 53 (avtobus Mirttours) \n9:00                      Odhod \n9:30                      Sprejem in ogled podjetja Revoz podjetje za proizvodnjo in komercializacijo avtomobilov d.d. \n11:00                    Transfer \n11:15                    Sprejem in ogled ADRIA MOBIL Proizvodnja\, trgovina in storitve\, d.o.o. \n13:15                    Mreženje in kosilo \n15:30                    Prihod v Krško \n  \nPodjetje Revoz d.d. je eno izmed največjih slovenskih podjetij in edini proizvajalec avtomobilov. Svoje poslanstvo uresničujejo znotraj največje svetovne avtomobilske zveze – Renault Nissan Mitsubishi. V Novem mestu nastajajo Renaultovi modeli Clio\, Twingo in električno vozilo Twingo electric. Vsako minuto in pol s proizvodnega traku zapelje novo vozilo\, izdelali pa so že več kot 4 milijone vozil. Podjetje ima v  proizvodne procese vgrajenih več kot 700 robotov\, delovna mesta pa oskrbujejo z  avtomatiziranimi vozili za talni transport (AGV). Podjetje pooseblja vse o digitalizaciji delovnih mest in  industriji 5.0 na enem mestu. \nVeč o podjetju:  https://revoz.si/sl/ \n  \nAdria Mobil d.o.o. je en izmed najbolj prepoznavnih in priljubljenih proizvajalcev ti. karavaning programa (počitniških prikolic\, avtodomov\, mobilnih hišic in vanov) na evropskem trgu. ADRIA je vodilna slovenska blagovna znamka\, ki jo nadgrajujejo s kakovostjo\, inovativnostjo\, vrhunskim dizajnom in več kot 55-letnimi izkušnjami\, ki so vgrajene v vse izdelke Adrie Mobil. Ob ogledu podjetja boste videli kako nastajajo ena izmed najkakovostnejših vozil za prosti čas\, ki ponujajo neskončno možnosti za navdihujoče dogodivščine. Več o podjetju na povezavi: https://about.adria-mobil.com/sl \nIzmenjava dobrih praks je namenjena vodilnim in vodstvenim osebam\, vodjem in zaposlenim na področju proizvodnje\, načrtovalcem procesov\, tehnologom\, konstruktorjem\, odgovornim za kakovost\, logistiko\, nabavo in tudi mentorjem s poudarkom\, da si želijo na enem mestu ogledati vse o digitalizaciji in industriji 5.0. \nNamenjeno je prvenstveno vsem iz MSP s sedežem ali poslovno enoto v Posavju. \nUdeležba je brezplačna z obvezno predhodno prijavo. \nPodjetje se s prijavo svojega zaposlenega na izmenjavo dobrih praks obveže\, da bo prijavljenemu udeležencu omogočil obisk oz. zamenjavo osebe v primeru višje sile. \n \nDodatne informacije: \nGZS Posavska gospodarska zbornica\, Krško\, T: 07 4901060\, E: posavska.gz@gzs.si \nPrijave sprejemajo do ponedeljka\, 28. novembra 2022.  \nVljudno vabljeni!
URL:https://ctop.ijs.si/dogodek/izmenjava-dobrih-praks-vse-o-industriji-5-0-na-enem-mestu/
CATEGORIES:B2B dogodek,Predstavitveni dogodek
ATTACH;FMTTYPE=image/png:https://ctop.ijs.si/wp-content/uploads/2022/11/ooz-nova-gorica-izmenjava-dobrih-praks-inovacije-digitalizacija-v-kmetijstvu-kot-podjetniska1.png
END:VEVENT
END:VCALENDAR