BEGIN:VCALENDAR
VERSION:2.0
PRODID:-//SRIP Tovarne Prihodnosti - ECPv6.6.0.1//NONSGML v1.0//EN
CALSCALE:GREGORIAN
METHOD:PUBLISH
X-WR-CALNAME:SRIP Tovarne Prihodnosti
X-ORIGINAL-URL:https://ctop.ijs.si
X-WR-CALDESC:Events for SRIP Tovarne Prihodnosti
REFRESH-INTERVAL;VALUE=DURATION:PT1H
X-Robots-Tag:noindex
X-PUBLISHED-TTL:PT1H
BEGIN:VTIMEZONE
TZID:Europe/Ljubljana
BEGIN:DAYLIGHT
TZOFFSETFROM:+0100
TZOFFSETTO:+0200
TZNAME:CEST
DTSTART:20230326T010000
END:DAYLIGHT
BEGIN:STANDARD
TZOFFSETFROM:+0200
TZOFFSETTO:+0100
TZNAME:CET
DTSTART:20231029T010000
END:STANDARD
END:VTIMEZONE
BEGIN:VEVENT
DTSTART;TZID=Europe/Ljubljana:20230127T090000
DTEND;TZID=Europe/Ljubljana:20230127T131500
DTSTAMP:20260421T091904
CREATED:20230111T161159Z
LAST-MODIFIED:20230111T161159Z
UID:11635-1674810000-1674825300@ctop.ijs.si
SUMMARY:Informativni dan o nepovratnih sredstvih na področju nizkoogljičnih tehnologij
DESCRIPTION:Ministrstvo za okolje in prostor ter Slovensko gospodarsko in raziskovalno združenje (SBRA) v Bruslju vas vabita na »informativni dan o nepovratnih sredstvih na področju nizkoogljičnih tehnologij«\, ki bo potekal 27. januarja od 09.00 do 13.15 v prostorih Ministrstva za izobraževanje\, znanost in šport (dvorana v pritličju\, Masarykova cesta 16 v Ljubljani). \nSlovenija je močno zavezana doseganju ciljev Evropskega zelenega dogovora\, ki predvideva tudi bistveno zmanjšanje škodljivih emisij toplogrednih plinov. Na voljo je relativno veliko različnih EU programov in razpisov\, ki spodbujajo razogljičenje EU industrije in s tem omogočajo lažji prehod v “zeleno” družbo. Tokrat vam bomo podrobneje predstavili EU Sklad za inovacije (Innovation Fund)\, ki se polni s prihodki iz prodaje pravic do emisije ter dvakrat letno razpiše nepovratna sredstva za inovativne nizkoogljične tehnološke projekte/rešitve. Vlada Republike Slovenije in njena ustrezna ministrstva bodo v sodelovanju s Slovenskim gospodarskim in raziskovalnim združenjem iz Bruslja spodbujali potencialne prijavitelje na EU razpise za razogljičenje slovenske industrije. \nSlovenija je prek tega sklada šele konec leta 2022 prvič pridobila enega od zmagovalcev razpisa (Steklarno Hrastnik)\, ki se bo tudi predstavil na naši delovni konferenci. Predstavili bomo tudi nekatere tuje zmagovalce in nekatere potencialno zanimive slovenske projekte za nadaljnje razpise\, medtem ko bodo kolegi iz Evropske komisije temeljito predstavili sam razpis\, potrebno vsebino in tudi finančni del le-tega. \nUdeležba na konferenci je brezplačna\, potekala bo v slovenskem in angleškem jeziku. \nPrijave zbirajo na na tej spletni strani\, program pa je na voljo na tej povezavi.
URL:https://ctop.ijs.si/dogodek/informativni-dan-o-nepovratnih-sredstvih-na-podrocju-nizkoogljicnih-tehnologij/
CATEGORIES:Predstavitveni dogodek
ATTACH;FMTTYPE=image/png:https://ctop.ijs.si/wp-content/uploads/2023/01/27_jan_background1.png
END:VEVENT
END:VCALENDAR