BEGIN:VCALENDAR
VERSION:2.0
PRODID:-//SRIP Tovarne Prihodnosti - ECPv6.6.0.1//NONSGML v1.0//EN
CALSCALE:GREGORIAN
METHOD:PUBLISH
X-ORIGINAL-URL:https://ctop.ijs.si
X-WR-CALDESC:Events for SRIP Tovarne Prihodnosti
REFRESH-INTERVAL;VALUE=DURATION:PT1H
X-Robots-Tag:noindex
X-PUBLISHED-TTL:PT1H
BEGIN:VTIMEZONE
TZID:Europe/Ljubljana
BEGIN:DAYLIGHT
TZOFFSETFROM:+0100
TZOFFSETTO:+0200
TZNAME:CEST
DTSTART:20230326T010000
END:DAYLIGHT
BEGIN:STANDARD
TZOFFSETFROM:+0200
TZOFFSETTO:+0100
TZNAME:CET
DTSTART:20231029T010000
END:STANDARD
END:VTIMEZONE
BEGIN:VEVENT
DTSTART;TZID=Europe/Ljubljana:20230208T083000
DTEND;TZID=Europe/Ljubljana:20230208T160000
DTSTAMP:20260421T074526
CREATED:20230124T224340Z
LAST-MODIFIED:20230124T224340Z
UID:11744-1675845000-1675872000@ctop.ijs.si
SUMMARY:Zaključni dogodek projekta Trinity
DESCRIPTION:Zaključni dogodek projekta TRINITY\, namenjen omogočanju priložnosti za mreženje med udeleženci\, je posvečen tehničnim rešitvam Trinity\, agilni proizvodnji in standardizaciji in bo potekal v sredo\, 8. februarja od 8.30 do 16.00 v Bruslju v BluePoint Brussels. \nKot že veste\, je projekt TRINITY\, financiran v okviru programa za raziskave in inovacije Horizon Europe\, ustvaril mrežo multidisciplinarnih in sinergijskih lokalnih središč digitalnih inovacij (DIH)\, sestavljenih iz raziskovalnih centrov\, podjetij in univerzitetnih skupin\, ki lahko prispevajo k razvoju agilno proizvodnjo v Evropi. \nV zvezi s tem bo ta dogodek zagotovil celovit pregled dosežkov projekta\, priložnosti standardizacije za tehnološke inovacije ter trenutno ozadje politike EU\, ki je pomembno za projekt TRINITY in na splošnem področju agilne proizvodnje in drugih nastajajočih tehnologij. \nKonferenca (ki bo vključevala različne panelne razprave in kosilo za mreženje) bo združila oblikovalce politik na visoki ravni\, industrijske akterje\, raziskovalne ustanove in druge ustrezne zainteresirane strani\, da bi izmenjali mnenja o trenutno najbolj perečih vprašanjih\, povezanih z napredno proizvodnjo. \nPreverite agendo dogodka tukaj in se prijavite preko te povezave.
URL:https://ctop.ijs.si/dogodek/zakljucni-dogodek-projekta-trinity/
CATEGORIES:B2B dogodek,Predstavitveni dogodek
ATTACH;FMTTYPE=image/png:https://ctop.ijs.si/wp-content/uploads/2023/01/microsoftteams-image-41.png
END:VEVENT
BEGIN:VEVENT
DTSTART;TZID=Europe/Ljubljana:20230216T083000
DTEND;TZID=Europe/Ljubljana:20230216T123000
DTSTAMP:20260421T074526
CREATED:20230207T080035Z
LAST-MODIFIED:20230207T080035Z
UID:11898-1676536200-1676550600@ctop.ijs.si
SUMMARY:Dan industrijske kibernetske varnosti
DESCRIPTION:Zaščitite znanje\, izkušnje in produktivnost\n\n\n\n\n\n\nVse večja povezanost poslovnih (IT) in proizvodnih (OT) sistemov in uporaba interneta stvari (IIoT) prinašata industrijskim podjetjem številne koristi\, hkrati pa se morajo zavedati vse večjih kibernetskih groženj in s tem povezanih tveganj. Samo s celostnim pristopom k industrijski kibernetski varnosti lahko podjetja zagotovijo učinkovito zaščito proizvodnih sistemov in tovarn. \nPridružite se na Siemensovem Dnevu industrijske kibernetske varnosti in izvedite več! \nDodatne informacije in program dogodka >>
URL:https://ctop.ijs.si/dogodek/dan-industrijske-kibernetske-varnosti/
LOCATION:Radisson Blu\, BTC\, Bratislavska cesta 8\, Ljubljana\, 1000\, Slovenija
CATEGORIES:Predstavitveni dogodek
ATTACH;FMTTYPE=image/jpeg:https://ctop.ijs.si/wp-content/uploads/2023/02/cybersecurity-for-industry-overall-visual1.jpg
END:VEVENT
BEGIN:VEVENT
DTSTART;TZID=Europe/Ljubljana:20230220T100000
DTEND;TZID=Europe/Ljubljana:20230220T120000
DTSTAMP:20260421T074526
CREATED:20230209T140223Z
LAST-MODIFIED:20230209T140448Z
UID:11986-1676887200-1676894400@ctop.ijs.si
SUMMARY:AMULET Info Day and Matchmaking Platform
DESCRIPTION:Vabimo vas na informativni dogodek in priložnost za mreženje v okviru drugega javnega razpisa\, ki ga začenja projekt Advanced Materials & Manufacturing United for Lightweight (AMULET) in bo potekal 20. feburarja 2023 s pričetkom ob 10. uri. \nPRIJAVA NA DOGODEK >> \nKdo se lahko prijavi?  \nIščemo majhen konzorcij največ 3 MSP\, ki jih zanima znižanje emisij CO2 in so pripravljeni inovirati nove lahke industrijske vrednostne verige v avtomobilskem\, vesoljskem in aeronavtičnem\, energetskem in gradbenem sektorju. AMULET bo identificiral trenutne sektorske izzive glede na vrsto naprednega materiala (v skladu s strategijo pametne specializacije raziskav in inovacij RIS3). \nKakšne so prednosti?  \nIzbrani konzorcij bo prejel do 120.000 € (60.000 € za MSP) + financiranje in podporo za poslovno usposabljanje. \nInformacije lahko delite z institucijami ter malimi in srednje velikimi podjetji v vaši mreži\, za katere menite\, da bi jih razpis lahko zanimal. \nVeč o razpisu na povezavi 👉 TUKAJ>>
URL:https://ctop.ijs.si/dogodek/amulet-info-day-and-matchmaking-platform/
CATEGORIES:B2B dogodek,Predstavitveni dogodek
ATTACH;FMTTYPE=image/png:https://ctop.ijs.si/wp-content/uploads/2023/02/amulet_info_day.png
END:VEVENT
BEGIN:VEVENT
DTSTART;TZID=Europe/Ljubljana:20230223T100000
DTEND;TZID=Europe/Ljubljana:20230223T120000
DTSTAMP:20260421T074526
CREATED:20230221T093751Z
LAST-MODIFIED:20230221T093751Z
UID:12049-1677146400-1677153600@ctop.ijs.si
SUMMARY:Mehanizmi pomoči gospodarstvu za  omilitev posledic energetske krize za 2023
DESCRIPTION:Slovenska podjetja se že dlje časa srečujejo z visokimi cenami energentov\, nestabilnim poslovnim okoljem\, veliko razliko v konkurenčnosti podjetij znotraj EU zaradi različnih pristopov k reševanju energetske krize ter s poslabšanjem gospodarske situacije. \nVlada je zato v drugi polovici decembra 2022 sprejela zakon za pomoč gospodarstvu\, ki vključuje subvencioniranje visokih cen električne energije\, zemeljskega plina in tehnološke pare\, subvencioniranje dveh ukrepov za ohranjanje delovnih mest ter ukrepe za zagotavljanje likvidnosti podjetij. Sprejela je tudi Uredbo o določitvi cene električne energije za mikro\, mala in srednja podjetja\, s katero od 1. januarja do 30. junija 2023 določa cene za dobavo električne energije za ta podjetja. \n  \n9. februarja so na Gospodarski zbornici Slovenije že pripravili spletni dogodek na temo mehanizmov pomoči gospodarstvu za omilitev posledic energetske krize za 2023. Kot so napovedali\, bodo dogodek ponovili še enkrat\, ko bo zaživela tudi spletna aplikacija JRP za oddajo vlog po ZPGOPEK\, ki jo bodo tudi predstavili. \nNa spletnem dogodku v četrtek\, 23. februarja\, z začetkom ob 10. uri\, vas bodo tako seznanili z vsebino in pogoji posameznih pomoči ter aplikacijo za oddajo vlog\, z vami pa bodo predstavniki Ministrstva za gospodarstvo\, turizem in šport ter SPIRIT-a\, ki sta glavna akterja pri pridobivanju pomoči po zakonu. V drugem delu dogodka boste imeli priložnost tudi vprašati in izpostaviti tisto\, kar vam je v zvezi s subvencijami in prijavami vlog najbolj nejasno. \nUdeležba na spletnem dogodku je brezplačna. Vljudno vabljeni\, da se pridružite.
URL:https://ctop.ijs.si/dogodek/mehanizmi-pomoci-gospodarstvu-za-omilitev-posledic-energetske-krize-za-2023-2/
CATEGORIES:Predstavitveni dogodek,Seminar
ATTACH;FMTTYPE=image/jpeg:https://ctop.ijs.si/wp-content/uploads/2023/02/600px250pxviri_financiranjamail_glava1.jpg
END:VEVENT
END:VCALENDAR