BEGIN:VCALENDAR
VERSION:2.0
PRODID:-//SRIP Tovarne Prihodnosti - ECPv6.6.0.1//NONSGML v1.0//EN
CALSCALE:GREGORIAN
METHOD:PUBLISH
X-ORIGINAL-URL:https://ctop.ijs.si
X-WR-CALDESC:Events for SRIP Tovarne Prihodnosti
REFRESH-INTERVAL;VALUE=DURATION:PT1H
X-Robots-Tag:noindex
X-PUBLISHED-TTL:PT1H
BEGIN:VTIMEZONE
TZID:Europe/Ljubljana
BEGIN:DAYLIGHT
TZOFFSETFROM:+0100
TZOFFSETTO:+0200
TZNAME:CEST
DTSTART:20230326T010000
END:DAYLIGHT
BEGIN:STANDARD
TZOFFSETFROM:+0200
TZOFFSETTO:+0100
TZNAME:CET
DTSTART:20231029T010000
END:STANDARD
END:VTIMEZONE
BEGIN:VEVENT
DTSTART;TZID=Europe/Ljubljana:20230310T090000
DTEND;TZID=Europe/Ljubljana:20230310T123000
DTSTAMP:20260421T060455
CREATED:20230221T100819Z
LAST-MODIFIED:20230221T100819Z
UID:12055-1678438800-1678451400@ctop.ijs.si
SUMMARY:Kako uspešna so slovenska podjetja v BigScience in kje so še priložnosti?
DESCRIPTION:Dogodek bo potekal v organizaciji Gospodarske zbornice Slovenije\, Ministrstva za visoko šolstvo\, znanost in inovacije in Ministrstva za gospodarstvo\, turizem in šport.  \nVabijo podjetja\, ki že poslujete z znanstveno raziskovalnimi centri (npr. CERN\, ESA\, FAIR\, itd)\, da izmenjate vaše izkušnje in navežete nove poslovne stike.  \nVljudno vabljena pa tudi tista\, ki imate interes za širitev poslovanja na nova področja in trge priložnosti\, kot je v tem primeru BigScience. Organizatorji vam bomo podali izhodiščne informacije\, odgovarjali na vaša vprašanja\, v zadnjem delu pa bo priložnost za mreženje. \n  \nOKVIRNI PROGRAM DOGODKA: \n9.00 – 9.15       Pozdravni nagovori treh organizatorjev dogodka \nPredstavniki treh organizatorjev \n9.15 – 9.25       Vstopne točke BigScience ali kdo je kdo \nCenter za mednarodno poslovanje na GZS \n9.25 – 09.40     Kako vstopiti v CERN; \nSamo Tuma\, ILO CERN \n09.40 – 10.00   Kako kupuje ESA; \nMinistrstvo za gospodarstvo turizem in šport \n10.00 – 10.20  Big Science je priložnost\, ki jo z državo (p)odpira ScienceTech  \nJanko Burgar\, predsednik sekcije ScienceTech na GZS \n10.20 – 10.50   Kako dobro Slovenija posluje z BigScience? \n\nPodjetje Particularis\, d.o.o.\nPodjetje 2\n\nQ&A \n10.50 – 12.30  Mreženje ob prigrizkih \n  \nPRIJAVE: sprejemamo izključno preko spodnjega elektronskega obrazca najkasneje do 9. marca 2023 do 9.00. \n \nKOTIZACIJA: dogodek je brezplačen \n  \nODJAVA: brezplačne odjave sprejemajo do 9. marca 2023 do 10.00. Ob morebitni neudeležbi brez pravočasne odjave vam GZS zaračuna 50\,00 EUR (brez DDV) režijskih stroškov na udeleženca. \n  \nKONTAKT: vanja.bele@gzs.si
URL:https://ctop.ijs.si/dogodek/kako-uspesna-so-slovenska-podjetja-v-bigscience-in-kje-so-se-priloznosti/
CATEGORIES:Predstavitveni dogodek
ATTACH;FMTTYPE=image/jpeg:https://ctop.ijs.si/wp-content/uploads/2023/02/methode_times_prod_web_bin_bca820a6-b23a-11ea-86d3-bc5eef90654f1.jpg
END:VEVENT
BEGIN:VEVENT
DTSTART;TZID=Europe/Ljubljana:20230314T093000
DTEND;TZID=Europe/Ljubljana:20230314T133000
DTSTAMP:20260421T060455
CREATED:20230308T114853Z
LAST-MODIFIED:20230308T114853Z
UID:12164-1678786200-1678800600@ctop.ijs.si
SUMMARY:INTEGRADDE Final Event: The future of European Manufacturing
DESCRIPTION:V torek\, 14. marca 2023 Projekt H2020 INTEGRADDE ima svoj zaključni dogodek v Bruslju (hibridni\, format). Dogodek bo potekal od 9.30 do 14.30 v La Tricoterie. Dogodek podpirata European Factories of the Future Research Association (EFFRA) in European Association of the Machine Tool Industries and related Manufacturing Technologies (CECIMO). \nKonferenca (ki bo vključevala različne razprave in kosilo za mreženje) bo združila oblikovalce politik na visoki ravni\, industrijske akterje\, raziskovalne ustanove in druge pomembne zainteresirane strani\, da bi izmenjali mnenja o trenutno najbolj perečih vprašanjih\, povezanih s 3D-tiskanjem v proizvodnem sektorju. \nDogodek bo ponudil prostor za mreženje podobno mislečih ljudi v predelovalni industriji\, hkrati pa bo predstavil najnovejši napredek v aditivni proizvodnji\, dosežke projekta in prihajajoče priložnosti preizkusa pred naložbo iz sorodnih projektov EU za tehnološke inovacije. Dogodek bo ponudil tudi pregled trenutne in prihodnje postavitve 3D-tiskanja z vidika nekaterih najbolj priznanih glasov v industriji. \nPodroben dnevni red dogodka najdete tukaj>>.
URL:https://ctop.ijs.si/dogodek/integradde-final-event-the-future-of-european-manufacturing/
CATEGORIES:Predstavitveni dogodek
ATTACH;FMTTYPE=image/jpeg:https://ctop.ijs.si/wp-content/uploads/2023/03/integradde_final_event.jpg
END:VEVENT
BEGIN:VEVENT
DTSTART;TZID=Europe/Ljubljana:20230331T090000
DTEND;TZID=Europe/Ljubljana:20230331T123000
DTSTAMP:20260421T060455
CREATED:20230322T133110Z
LAST-MODIFIED:20230322T133110Z
UID:12277-1680253200-1680265800@ctop.ijs.si
SUMMARY:So-ustvarjanje programa Obzorje Evropa: Od strateškega planiranja do razpisov
DESCRIPTION:Slovensko gospodarsko in raziskovalno združenje (SBRA) v Bruslju & Agencija za raziskave republike Slovenije (ARRS) vabita na dogodek So-ustvarjanje programa Obzorje Evropa: Od strateškega planiranja do razpisov\, ki bo 31. marca 2023\, od 09.00 do 12.30 v Mestnem muzeju Ljubljana. \nNamen dogodka je predstaviti celoten proces strateškega programiranja največjega programa za raziskave in inovacije\, Obzorje Evropa ter ukrepe ERA (»ERA actions«)\, ki so v tem času zelo aktualni in predmet številnih razprav v Bruslju in širše. \nEvropska komisija je v zaključni fazi posvetovanja z deležniki glede priprave strateškega programskega dokumenta za obdobje 2025-2027\, ki bo predstavljal glavne usmeritve za nadaljnje oblikovanje delovnih programov in posledično razpisov za nepovratna EU sredstva. Na dogodku bomo tudi na kratko predstavili kako deluje Slovensko gospodarsko in raziskovalno združenje v Bruslju (SBRA) v navezi z različnimi pomembnimi evropskimi združenji in različnimi evropskimi institucijam vključno z evropsko komisijo. Dogodek bomo zaključili z okroglo mizo najvišjih predstavnikov različnih slovenskih znanstvenoraziskovalnih institucij o tematikah tega dogodka. \nNa dogodek se prijavite najkasneje do srede\, 29. marca 2023 do 18.00. \nPrijave na konferenco zbirajo na tej spletni strani\, program konference pa je na voljo na tej povezavi. \nKonferenca je brezplačna\, potekala bo v slovenskem in angleškem jeziku. \nLepo vabljeni!
URL:https://ctop.ijs.si/dogodek/so-ustvarjanje-programa-obzorje-evropa-od-strateskega-planiranja-do-razpisov/
CATEGORIES:Predstavitveni dogodek
ATTACH;FMTTYPE=image/png:https://ctop.ijs.si/wp-content/uploads/2023/03/website_graphic_si_21.png
END:VEVENT
END:VCALENDAR