BEGIN:VCALENDAR
VERSION:2.0
PRODID:-//SRIP Tovarne Prihodnosti - ECPv6.6.0.1//NONSGML v1.0//EN
CALSCALE:GREGORIAN
METHOD:PUBLISH
X-WR-CALNAME:SRIP Tovarne Prihodnosti
X-ORIGINAL-URL:https://ctop.ijs.si
X-WR-CALDESC:Events for SRIP Tovarne Prihodnosti
REFRESH-INTERVAL;VALUE=DURATION:PT1H
X-Robots-Tag:noindex
X-PUBLISHED-TTL:PT1H
BEGIN:VTIMEZONE
TZID:Europe/Ljubljana
BEGIN:DAYLIGHT
TZOFFSETFROM:+0100
TZOFFSETTO:+0200
TZNAME:CEST
DTSTART:20230326T010000
END:DAYLIGHT
BEGIN:STANDARD
TZOFFSETFROM:+0200
TZOFFSETTO:+0100
TZNAME:CET
DTSTART:20231029T010000
END:STANDARD
END:VTIMEZONE
BEGIN:VEVENT
DTSTART;TZID=Europe/Ljubljana:20230831T130000
DTEND;TZID=Europe/Ljubljana:20230831T163000
DTSTAMP:20260420T222556
CREATED:20230712T085601Z
LAST-MODIFIED:20230712T085601Z
UID:13173-1693486800-1693499400@ctop.ijs.si
SUMMARY:Dan slovenske elektroindustrije
DESCRIPTION:Vljudno vas vabimo na Dan slovenske elektroindustrije\, ki bo potekal 31. avgusta 2023 na GZS v Ljubljani na temo  “Inovativna elektroindustrija”. \nPredstaviti vam želimo aktualne vsebine pomembne za panogo\, zato smo pripravili pester program z zanimivimi gosti. Prikazali nam bodo poslovanje panoge v preteklem letu\, dotaknili pa se bodo tudi izzivov z inovativnostjo v panogi. V okviru dogodka bomo otvorili razstavo “Inovativna elektroindustrija”. \n  \n \nDogodek je brezplačen in je namenjen članom Zbornice elektronske in elektroindustrije ter drugim zainteresiranim predstavnikom industrijskih panog. Moderiral ga bo Matej Golob. \nNa dogodek se prijavite do 25. avgusta 2023 s pomočjo elektronske prijavnice >> \nSpremljevalni program:\nV Zbornici elektronske in elektroindustrije smo ponosni na dosežke naših članov\, zato bomo na dogodku otvorili razstavo “Inovativna elektroindustrija”. \n \n\n \nVljudno vabljeni k udeležbi!
URL:https://ctop.ijs.si/dogodek/dan-slovenske-elektroindustrije-3/
CATEGORIES:Predstavitveni dogodek
ATTACH;FMTTYPE=image/png:https://ctop.ijs.si/wp-content/uploads/2023/07/dan20zee202023-11.png
END:VEVENT
END:VCALENDAR