BEGIN:VCALENDAR
VERSION:2.0
PRODID:-//SRIP Tovarne Prihodnosti - ECPv6.6.0.1//NONSGML v1.0//EN
CALSCALE:GREGORIAN
METHOD:PUBLISH
X-WR-CALNAME:SRIP Tovarne Prihodnosti
X-ORIGINAL-URL:https://ctop.ijs.si
X-WR-CALDESC:Events for SRIP Tovarne Prihodnosti
REFRESH-INTERVAL;VALUE=DURATION:PT1H
X-Robots-Tag:noindex
X-PUBLISHED-TTL:PT1H
BEGIN:VTIMEZONE
TZID:Europe/Ljubljana
BEGIN:DAYLIGHT
TZOFFSETFROM:+0100
TZOFFSETTO:+0200
TZNAME:CEST
DTSTART:20240331T010000
END:DAYLIGHT
BEGIN:STANDARD
TZOFFSETFROM:+0200
TZOFFSETTO:+0100
TZNAME:CET
DTSTART:20241027T010000
END:STANDARD
END:VTIMEZONE
BEGIN:VEVENT
DTSTART;TZID=Europe/Ljubljana:20240112T120000
DTEND;TZID=Europe/Ljubljana:20240112T130000
DTSTAMP:20260420T124019
CREATED:20240109T123612Z
LAST-MODIFIED:20240110T180144Z
UID:13994-1705060800-1705064400@ctop.ijs.si
SUMMARY:"Hungry EcoCities": online predstavitev razpisa
DESCRIPTION:Vabimo vas na enourni online preddogodek “Hungry EcoCities”\, ki bo potekal preko spleta 12. januarja 2024 ob 12. uri. Na dogodku bomo predstavili razpis v okviru S+T+ARTS iniciative Evropske komisije. \nRaziščite\, kako lahko vaše podjetje prispeva k trajnostni prihodnosti verige hrane s pomočjo uporabe AI in digitalnih tehnologij za zmanjšanje porabe virov v proizvodnji\, pridelavi\, predelavi\, transportu\, pakiranju\, potrošnji in upravljanju z odpadki. \nRazpis vključuje sodelovanje med mikro\, majhnimi in srednje velikimi podjetji (MSP-ji)\, tehnološkimi in inovacijskimi strokovnjaki\, umetniki\, kreativnimi studii\, financiran pa je s strani programa Horizon Europe. \nPriložnosti za sodelujoče: \n– delajte na AI podprtih inovacijah za vaše podjetje s skupino znanstvenikov\, inovatorjev\, umetnikov in programerjev; \n– pridobite financiranje do 80.000 € na ekipo MSP-umetnik; \n– realizirajte industrijske inovacije skozi eksperimentiranje in prototipiranje; \n– dostopajte do številnih inovacij\, razvitih v okviru različnih projektov. \n\n  \nUdeležba na dogodku je brezplačna. Dogodek bo potekal v angleškem jeziku. Zoom povezavo boste prejeli po oddani prijavi. \nPREDAVATELJ \nRodolfo Groenewoud van Vliet\, soustanovitelj in poslovni direktor In4Art\, združuje svoje zanimanje za ekonomijo\, gospodarstvo in umetnost. V svoji vlogi pri In4Art se osredotoča na razvoj partnerstev\, upravljanje naložbenega portfelja\, zagotavljanje sredstev za eksperimentiranje in svetovanje. Njegovo delo vključuje svetovanje podjetjem\, javnim institucijam\, oblikovalcem politik in umetnikom glede izvajanja umetnostno vodenih inovacij. Rodolfo svoj čas posveča ustvarjanju sinergij med različnimi sektorji\, spodbujanju inovativnosti in kreativnosti. Več informacij: https://www.in4art.eu/.
URL:https://ctop.ijs.si/dogodek/hungry-ecocities-online-predstavitev-razpisa/
CATEGORIES:Predstavitveni dogodek
ATTACH;FMTTYPE=image/png:https://ctop.ijs.si/wp-content/uploads/2024/01/STARTS-Project-HungryEcoCities-1200x6001-1.png
END:VEVENT
BEGIN:VEVENT
DTSTART;TZID=Europe/Ljubljana:20240125T083000
DTEND;TZID=Europe/Ljubljana:20240125T133000
DTSTAMP:20260420T124019
CREATED:20240109T125143Z
LAST-MODIFIED:20240109T125143Z
UID:13998-1706171400-1706189400@ctop.ijs.si
SUMMARY:Slovenski info dan EU Sklada za inovacije
DESCRIPTION:Slovensko gospodarsko in raziskovalno združenje (SBRA) v sodelovanju z Ministrstvom za okolje\, podnebje in energijo\, Ministrstvom za gospodarstvo\, turizem in šport\, EU agencijo CINEA iz Bruslja ter Univerzo v Ljubljani\, Ekonomsko fakulteto\, kjer se bo informativni dan tudi odvijal (javna parkirišča na voljo na lokaciji)\, 25. januarja 2024 vabijo na Slovenski info dan EU Sklada za inovacije. \nNamen dogodka je informirati in predstaviti celoten proces sodelovanja v programu EU Sklada za inovacije ter najnovejše spremembe in novosti. Predstavili bomo tudi med drugim uspešna zmagovalca projekta EU Sklada za inovacije EAVORLOOP ter KOdeCO Net Zero. Dogodek bomo zaključili z okroglo mizo najvišjih predstavnikov različnih slovenskih znanstvenoraziskovalnih institucij ter gospodarstva o najnovejših tematikah tega programa. \nKonferenca je brezplačna\, potekala bo v slovenskem in angleškem jeziku. \nPrijave na konferenco zbirajo na na tej spletni strani\, program konference pa je na voljo na tej povezavi. \nVljudno vabljeni!
URL:https://ctop.ijs.si/dogodek/slovenski-info-dan-eu-sklada-za-inovacije-2/
CATEGORIES:Predstavitveni dogodek
ATTACH;FMTTYPE=image/png:https://ctop.ijs.si/wp-content/uploads/2024/01/ozadje_4.1.20241.png
END:VEVENT
END:VCALENDAR