BEGIN:VCALENDAR
VERSION:2.0
PRODID:-//SRIP Tovarne Prihodnosti - ECPv6.6.0.1//NONSGML v1.0//EN
CALSCALE:GREGORIAN
METHOD:PUBLISH
X-WR-CALNAME:SRIP Tovarne Prihodnosti
X-ORIGINAL-URL:https://ctop.ijs.si
X-WR-CALDESC:Events for SRIP Tovarne Prihodnosti
REFRESH-INTERVAL;VALUE=DURATION:PT1H
X-Robots-Tag:noindex
X-PUBLISHED-TTL:PT1H
BEGIN:VTIMEZONE
TZID:Europe/Ljubljana
BEGIN:DAYLIGHT
TZOFFSETFROM:+0100
TZOFFSETTO:+0200
TZNAME:CEST
DTSTART:20240331T010000
END:DAYLIGHT
BEGIN:STANDARD
TZOFFSETFROM:+0200
TZOFFSETTO:+0100
TZNAME:CET
DTSTART:20241027T010000
END:STANDARD
END:VTIMEZONE
BEGIN:VEVENT
DTSTART;TZID=Europe/Ljubljana:20241016T080000
DTEND;TZID=Europe/Ljubljana:20241016T153000
DTSTAMP:20260419T210042
CREATED:20240821T110307Z
LAST-MODIFIED:20241015T170140Z
UID:14874-1729065600-1729092600@ctop.ijs.si
SUMMARY:Izzivi in priložnosti slovenske robotike
DESCRIPTION:Vabimo vas na mednarodni dogodek o najnovejših trendih in aplikacijah robotike\, kjer bodo vodilni domači in tuji strokovnjaki predstavili ključne raziskovalne dosežke in inovacije za potrebe industrije. Dogodek z naslovom Izzivi in priložnosti slovenske robotike\, bo potekal v sredo\, 16.10.2024 od 8:00 do 15:30 v hotelu Four Points by Sheraton Mons. \nSpoznali boste\, kako robotske tehnologije vplivajo na področja\, kot so industrija\, medicina\, farmacija in gradbeništvo\, ter kako lahko z njimi povečate učinkovitost svojega podjetja. Dogodek je tudi odlična priložnost za mreženje in odkrivanje novih poslovnih priložnosti. Ne zamudite vpogleda v prihodnost robotike! \nProgram\n\n\n\n8:00\nRegistracija\n\n\n9:00\nOtvoritev \ndr. Matjaž Mihelj\, predsednik Združenja robotike Slovenije \ndr. Igor Papič\, minister za visoko šolstvo\, znanost in inovacije \nN.E. Akiko Yoshida\, veleposlanica Japonske v Sloveniji \ndr. Thibauld Jongen\, direktor evropskega združenja AI\, Data and Robotics Association ADRA \ndr. Igor Kovač\, direktor SRIP Tovarne prihodnosti\n\n\n  \n9:20\nRobotske tehnologije \n\n\nJan Praprotnik (RLS d.o.o.)\, Trendi na področju robotskih komponent naslednje generacije\n\n\n9:35\ndr. Jure Skvarč (SICK d.o.o.)\, Izboljšanje zaznavanja robotov z uporabo metod umetne inteligence \n\n\n9:50\nAndrej Pangerčič (I.H.S. d.o.o.)\, Sodobni izzivi na področju avtonomne mobilne robotike\n\n\n10:05\nDiskusija\n\n\n  \n10:15\nRobotika v nestrukturiranih okoljih\n\n\nEduard Artner (Baumit GmbH)\, Raziskovanje potenciala robotike v gradbeništvu\n\n\n10:30\ndr. Rene Mihalič (Ortopedska bolnišnica Valdoltra)\, Priložnosti in izzivi v medicinski robotiki\n\n\n10:45\nSergej Krajnc (Termodron d.o.o.)\, Premagovanje ovir pri sprejemanju kmetijske robotike\n\n\n11:00\nDiskusija\n\n\n11:10\nOdmor za kavo\n\n\n  \n11:35\nSodobne robotske rešitve v industrijskih okoljih\n\n\nTanja Mohorič (GIZ-ACS\, Slovenski avtomobilski grozd)\, Inovativni primeri uporabe industrijskih robotov\n\n\n11:50\ndr. Miha Kastelic (Novartis d.o.o.)\, Nove aplikacije za farmacevtsko robotiko\n\n\n12:05\ndr. Hubert Kosler (YASKAWA Europe Robotics d.o.o.)\, Inovacije in prihodnje usmeritve v industrijski robotiki\n\n\n12:20\nDiskusija\n\n\n  \n12:30\nNapredne robotske rešitve\n\n\ndr. Mihael Simonič (IJS)\, Adaptivna robotika za recikliranje elektronskih izdelkov in EIT Manufacturing projekta SmartFlexCell\n\n\n12:40\ndr. Aleš Zore (UL FE)\, Senzorji časa preleta za varnost sodelujočih robotov\n\n\n12:50\ndr. Miha Pipan (UL FS)\, Integracija industrijskih robotov v 5G omrežje: Izzivi in priložnosti\n\n\n13:00\ndr. Aleš Hace (UM FERI)\, Fleksibilna sodelovalna robotska celica za površinsko obdelavo orodij\n\n\n13:10\ndr. Robert Ojsteršek (UM FS)\, Človek in stroj: zviševanje produktivnosti s pametnim sodelovanjem\n\n\n13:20\ndr. Janez Povh ({Rudolfovo)\, Nadgradnja Laboratorija za tovarne prihodnosti na Rudolfovem\n\n\n  \n13:30\nPriložnosti za slovensko robotiko\n\n\n\ndr. Thibauld Jongen\, direktor evropskega združenja AI\, Data and Robotics Association ADRA\, \nRobotizacija dela na dotik v proizvodnji: izzivi in ​​priložnosti za evropsko industrijsko prihodnost \n\n\n\n13:45\nMatevž Frangež (MGTŠ)\, Platforma za strateške tehnologije za Evropo  (STEP)\n\n\n14:00\nKosilo in mreženje\n\n\n15:30\nSestanek Združenja robotike Slovenije\n\n\n\n\nVABILO  >>\n  \nPRIJAVA NA DOGODEK >>\n  \nSponzor dogodka:
URL:https://ctop.ijs.si/dogodek/izzivi-in-priloznosti-slovenske-robotike/
LOCATION:Four Points by Sheraton Ljubljana Mons
CATEGORIES:B2B dogodek,Predstavitveni dogodek
ATTACH;FMTTYPE=image/png:https://ctop.ijs.si/wp-content/uploads/2024/08/izzivi_in_priloznosti_slovenske_robotike.png
ORGANIZER;CN="SRIP Tovarne prihodnosti":MAILTO:ctop@ijs.si
END:VEVENT
BEGIN:VEVENT
DTSTART;TZID=Europe/Ljubljana:20241024T133000
DTEND;TZID=Europe/Ljubljana:20241024T153000
DTSTAMP:20260419T210042
CREATED:20241013T110139Z
LAST-MODIFIED:20241013T110139Z
UID:15127-1729776600-1729783800@ctop.ijs.si
SUMMARY:Poslovni dosežki slovenskih podjetij na saudskem trgu
DESCRIPTION:Vabimo vas na predstavitev poslovnih dosežkov slovenskih podjetij na saudskem trgu\, ki bo potekala v četrtek\, 24. oktobra 2024\, 13.30 do 15.30 ure\, v Ljubljani\, na Gospodarski zbornici Slovenije v dvorani E. \nGlavni namen dogodka je spodbuditi slovenska podjetja k premisleku o širitvi poslov v Saudovo Arabijo ter deliti navdihujoče poslovne zgodbe tistih podjetij\, ki so na tem trgu že uspela\, med njimi bodo: \n\nLOTRIČ Meroslovje d. o. o.\, direktorica Maja Lotrič\nIn516ht d.o.o.\, lastnik in CEO\, Grega Jerkič\nAV Living Lab\, CEO in soustanovitelj\, AV Living LabDaniel Avdagič\nHub5 Consulting\, partner\, svetovalec za trg Saudske Arabije\, Radomir Putnik\n\nVodilni predstavniki zgoraj omenjenih podjetij bodo spregovorili o lastnih poslovnih izkušnjah na saudskem trgu ter poslovnih priložnostih\, ki jih ta trg ponuja. \nDogodek bo odlična priložnost za mreženje\, izmenjavo izkušenj in pridobivanje dragocenih informacij\, ki vam lahko pomagajo pri odločitvi za širitev vašega poslovanja v Saudovo Arabijo. \nOrganizatorji dogodka – Gospodarska zbornica Slovenije\, Ministrstvo za gospodarski razvoj in tehnologijo in SPIRIT Slovenija – pa bodo predstavili načrtovani obisk ministra MGTŠ z gospodarsko delegacijo s področij digitalnih tehnologij\, trajnostnega gradbeništva\, trajnostne mobilnosti\, pametnih mest in skupnosti\, energetske učinkovitosti\, zdravja in prehrane v Saudovi Arabiji. \nUdeležba na dogodku je brezplačna\, obvezne pa so prijave najkasneje do 21. oktobra preko spletne prijavnice.
URL:https://ctop.ijs.si/dogodek/poslovni-dosezki-slovenskih-podjetij-na-saudskem-trgu/
LOCATION:Gospodarska zbornica Slovenije\, Dimičeva ulica 13\, Ljubljana\, 1000\, Slovenia
CATEGORIES:Predstavitveni dogodek
ATTACH;FMTTYPE=image/png:https://ctop.ijs.si/wp-content/uploads/2024/10/saudi24101.png
END:VEVENT
END:VCALENDAR