BEGIN:VCALENDAR
VERSION:2.0
PRODID:-//SRIP Tovarne Prihodnosti - ECPv6.6.0.1//NONSGML v1.0//EN
CALSCALE:GREGORIAN
METHOD:PUBLISH
X-WR-CALNAME:SRIP Tovarne Prihodnosti
X-ORIGINAL-URL:https://ctop.ijs.si
X-WR-CALDESC:Events for SRIP Tovarne Prihodnosti
REFRESH-INTERVAL;VALUE=DURATION:PT1H
X-Robots-Tag:noindex
X-PUBLISHED-TTL:PT1H
BEGIN:VTIMEZONE
TZID:Europe/Ljubljana
BEGIN:DAYLIGHT
TZOFFSETFROM:+0100
TZOFFSETTO:+0200
TZNAME:CEST
DTSTART:20240331T010000
END:DAYLIGHT
BEGIN:STANDARD
TZOFFSETFROM:+0200
TZOFFSETTO:+0100
TZNAME:CET
DTSTART:20241027T010000
END:STANDARD
END:VTIMEZONE
BEGIN:VEVENT
DTSTART;VALUE=DATE:20241206
DTEND;VALUE=DATE:20241207
DTSTAMP:20260419T180915
CREATED:20241029T191003Z
LAST-MODIFIED:20241029T191003Z
UID:15213-1733443200-1733529599@ctop.ijs.si
SUMMARY:SiMER - Strokovna ekskurzija 2024
DESCRIPTION:Vabimo vas\, da se pridružite na SiMER strokovni ekskurziji\, ki bo potekala v petek\, 6. decembra 2024. Dogodek je v prvi vrsti namenjen proizvajalcem\, uporabnikom in distributerjem merilne opreme ter vsem\, ki ste povezani s področjem meroslovja. Ekskurzija bo odlična priložnost za strokovno izmenjavo izkušenj\, pridobivanje novih znanj ter mreženje z udeleženci. \nZ organiziranim prevozom se boste najprej podali na obisk k članu ICEM-TC\, kjer vam bodo predstavili razvojno – preizkusni center z laboratorijem za področje elektrotehnike. \nPo kosilu sledi ogled Muzeja HE Fala\, ki ponuja vpogled v razvoj elektroenergetike in zgodovino tehničnih rešitev\, vključno z ohranjeno tehnično opremo iz začetkov elektrarne. \nEkskurzija bo potekala v prazničnem času. Obiskali bomo Hišo Stare trte\, muzej\, posvečen najstarejši trti na svetu\, ki raste na Lentu. Spoznali bomo bogato vinogradniško dediščino Štajerske\, uživali v predstavitvah o vinski kulturi ter degustacijah. Nato sledi ogled praznično okrašenega Maribora. \nDodatne informacije in prijava>>
URL:https://ctop.ijs.si/dogodek/simer-strokovna-ekskurzija-2024/
CATEGORIES:Predstavitveni dogodek
ATTACH;FMTTYPE=image/png:https://ctop.ijs.si/wp-content/uploads/2021/11/SiMER.png
END:VEVENT
BEGIN:VEVENT
DTSTART;VALUE=DATE:20241218
DTEND;VALUE=DATE:20241220
DTSTAMP:20260419T180915
CREATED:20241210T195854Z
LAST-MODIFIED:20241210T195910Z
UID:15456-1734480000-1734652799@ctop.ijs.si
SUMMARY:Innovation Fund 2024 Call and Battery Info Day
DESCRIPTION:3. decembra 2024 je Evropska komisija objavila razpisa v okviru Inovacijskega sklada: \n\nRazpis IF24 z 2\,4 milijarde evrov za neto-ničelne tehnologije.\nRazpis IF24 Battery z 1 milijardo evrov za proizvodnjo baterijskih celic za električna vozila.\n\nRazpisa\, financirana iz prihodkov evropskega sistema trgovanja z emisijami (EU ETS)\, sta namenjena krepitvi proizvodnih zmogljivosti Evrope\, tehnološkega vodstva in odpornosti dobavnih verig. \n17. in 18. decembra bosta Evropska agencija za podnebje\, infrastrukturo in okolje (CINEA) ter Generalni direktorat Evropske komisije za podnebne ukrepe (DG CLIMA) gostila informativni dan. Dogodek bo predstavil ključne značilnosti in merila za dodelitev sredstev v okviru teh razpisov ter prikazal najboljše prakse iz preteklih razpisov. \nDodatne informacije>>\nPrijava>>\n 
URL:https://ctop.ijs.si/dogodek/innovation-fund-2024-call-and-battery-info-day/
CATEGORIES:Predstavitveni dogodek
ATTACH;FMTTYPE=image/png:https://ctop.ijs.si/wp-content/uploads/2024/12/Innovation20Fund20web20news20banner1.png
END:VEVENT
END:VCALENDAR