BEGIN:VCALENDAR
VERSION:2.0
PRODID:-//SRIP Tovarne Prihodnosti - ECPv6.6.0.1//NONSGML v1.0//EN
CALSCALE:GREGORIAN
METHOD:PUBLISH
X-WR-CALNAME:SRIP Tovarne Prihodnosti
X-ORIGINAL-URL:https://ctop.ijs.si
X-WR-CALDESC:Events for SRIP Tovarne Prihodnosti
REFRESH-INTERVAL;VALUE=DURATION:PT1H
X-Robots-Tag:noindex
X-PUBLISHED-TTL:PT1H
BEGIN:VTIMEZONE
TZID:Europe/Ljubljana
BEGIN:DAYLIGHT
TZOFFSETFROM:+0100
TZOFFSETTO:+0200
TZNAME:CEST
DTSTART:20210328T010000
END:DAYLIGHT
BEGIN:STANDARD
TZOFFSETFROM:+0200
TZOFFSETTO:+0100
TZNAME:CET
DTSTART:20211031T010000
END:STANDARD
END:VTIMEZONE
BEGIN:VEVENT
DTSTART;TZID=Europe/Ljubljana:20210608T100000
DTEND;TZID=Europe/Ljubljana:20210608T112000
DTSTAMP:20260423T011231
CREATED:20210604T143534Z
LAST-MODIFIED:20210604T143534Z
UID:5926-1623146400-1623151200@ctop.ijs.si
SUMMARY:Obzorje Evropa: Širitev udeležbe in krepitev evropskega raziskovalnega prostora (ERA)
DESCRIPTION:Institut “Jožef Stefan” organizira sklop predstavitev tematskih področij Obzorje Evropa\, kjer sodeluje tudi SRIP ToP. Vabljeni na predavanje z naslovom Širitev udeležbe in krepitev evropskega raziskovalnega prostora (ERA)\, ki bo potekalo v torek\, 8. junija 2021\, ob 10:00 preko spletnega sistema Zoom. \n  \nProgram: \n10:00 – 10:30  Širitev sodelovanja in spodbujanje odličnosti; mag. Tanja Vertelj\, MIZŠ \n10.30 – 10.40   Vprašanja \n10:40 – 11:10  Reforma in izboljšanje evropskega sistema raziskav in inovacij; Uršula Konečnik\, MIZŠ \n11:10 – 11:20   Vprašanja in diskusija \n  \nPredstavitev bo potekala preko sistema Zoom\, povezava na dogodek TUKAJ. \nMeeting ID: 944 4996 6609 \nPasscode: 581970 \nDogodek bo potekal v slovenščini.
URL:https://ctop.ijs.si/dogodek/obzorje-evropa-siritev-udelezbe-in-krepitev-evropskega-raziskovalnega-prostora-era/
LOCATION:ON LINE – Zoom
CATEGORIES:Predstavitveni dogodek
ATTACH;FMTTYPE=image/jpeg:https://ctop.ijs.si/wp-content/uploads/2021/05/Horizon_Europe_Logo_HEADER983x404px_EBG.jpg
ORGANIZER;CN="Institut Jo%C5%BEef Stefan":MAILTO:info@ijs.si
END:VEVENT
END:VCALENDAR