BEGIN:VCALENDAR
VERSION:2.0
PRODID:-//SRIP Tovarne Prihodnosti - ECPv6.6.0.1//NONSGML v1.0//EN
CALSCALE:GREGORIAN
METHOD:PUBLISH
X-WR-CALNAME:SRIP Tovarne Prihodnosti
X-ORIGINAL-URL:https://ctop.ijs.si
X-WR-CALDESC:Events for SRIP Tovarne Prihodnosti
REFRESH-INTERVAL;VALUE=DURATION:PT1H
X-Robots-Tag:noindex
X-PUBLISHED-TTL:PT1H
BEGIN:VTIMEZONE
TZID:Europe/Ljubljana
BEGIN:DAYLIGHT
TZOFFSETFROM:+0100
TZOFFSETTO:+0200
TZNAME:CEST
DTSTART:20210328T010000
END:DAYLIGHT
BEGIN:STANDARD
TZOFFSETFROM:+0200
TZOFFSETTO:+0100
TZNAME:CET
DTSTART:20211031T010000
END:STANDARD
END:VTIMEZONE
BEGIN:VEVENT
DTSTART;VALUE=DATE:20210617
DTEND;VALUE=DATE:20210618
DTSTAMP:20260423T011232
CREATED:20210525T200917Z
LAST-MODIFIED:20210525T200917Z
UID:5786-1623888000-1623974399@ctop.ijs.si
SUMMARY:Pospeševanje krožnega gospodarstva v Sloveniji ob začetku nove finančne perspektive EU
DESCRIPTION:E-zavod – zavod za projektno svetovanje\, raziskovanje in razvoj celovitih rešitev\, vabi na dogodek: Pospeševanje krožnega gospodarstva v Sloveniji ob začetku nove finančne perspektive EU \n  \nDogodek bo potekal 17. 6. 2021 (splet) pod okriljem slovenskega  EIT Climate-KIC HUBa\, v okviru serije dogodkov »DNEVI EIT CLIMATE-KIC V SLOVENIJI« \n  \nKrožno gospodarstvo je osrednja tema novih Evropskih razvojnih usmeritev. Vse več slišimo o tem\, da prehod v krožno gospodarstvo ponuja oblico priložnosti med drugimi za razvoj inovacij\, za povečanje snovne neodvisnosti\, za zmanjšanje ogljičnega in okoljskega odtisa\, za izboljšanje konkurenčnosti podjetij\, za bolj enakopravni razvoj\, za rast zelenega trga doma in v tujini. \nDogodek bo priložnost za skupno poglobitev razumevanje izzivov\, vizij in potencialnih rešitev na tem področju. \n  \nPredstavljeno bo dogajanje na temo v kontekstu nove Evropske razvojne perspektive in nekaj zanimivih pilotnih primerov inovativnih praks.  Na dogodku bodo sodelovali predstavniki EIT Climate-KIC – največje skupnosti za inovacije v Evropi\, predstavniki slovenskega HUB-a\, strokovnjaki in inovatorji s področja krožnega gospodarstva ter predstavniki mednarodnih mrež in projektov. \nProgram dogodka bo na voljo v kratkem. \nVeč o dogodku in registraciji najdete TUKAJ.
URL:https://ctop.ijs.si/dogodek/pospesevanje-kroznega-gospodarstva-v-sloveniji-ob-zacetku-nove-financne-perspektive-eu/
LOCATION:ON LINE
CATEGORIES:Predstavitveni dogodek
ATTACH;FMTTYPE=image/jpeg:https://ctop.ijs.si/wp-content/uploads/2021/05/eit-climate-kic-forestry1.jpg
END:VEVENT
END:VCALENDAR