BEGIN:VCALENDAR
VERSION:2.0
PRODID:-//SRIP Tovarne Prihodnosti - ECPv6.6.0.1//NONSGML v1.0//EN
CALSCALE:GREGORIAN
METHOD:PUBLISH
X-WR-CALNAME:SRIP Tovarne Prihodnosti
X-ORIGINAL-URL:https://ctop.ijs.si
X-WR-CALDESC:Events for SRIP Tovarne Prihodnosti
REFRESH-INTERVAL;VALUE=DURATION:PT1H
X-Robots-Tag:noindex
X-PUBLISHED-TTL:PT1H
BEGIN:VTIMEZONE
TZID:Europe/Ljubljana
BEGIN:DAYLIGHT
TZOFFSETFROM:+0100
TZOFFSETTO:+0200
TZNAME:CEST
DTSTART:20210328T010000
END:DAYLIGHT
BEGIN:STANDARD
TZOFFSETFROM:+0200
TZOFFSETTO:+0100
TZNAME:CET
DTSTART:20211031T010000
END:STANDARD
END:VTIMEZONE
BEGIN:VEVENT
DTSTART;TZID=Europe/Ljubljana:20210623T103000
DTEND;TZID=Europe/Ljubljana:20210623T170000
DTSTAMP:20260423T011231
CREATED:20210616T071425Z
LAST-MODIFIED:20210616T071425Z
UID:6085-1624444200-1624467600@ctop.ijs.si
SUMMARY:MANU-SQUARE Project Final event - 23 June 2021
DESCRIPTION:Konzorcij MANU-SQUARE 23. junija ob 10.30 organizira zaključni dogodek projekta MANU-SQUARE\, ki bo potekal preko spleta. Cilj dogodka je vpogled v tehnološke trende in gradnike\, ki so predstavljali osnovo platforme MANUS-SQUARE in njenih orodij\, ter kako dostopati do nje. \nDogodek bo brezplačen\, potrebna pa je prijava. Prijavni obrazec je na voljo tukaj: https://forms.gle/MRBfzUBHVGaptdHy6.  \nZa dodatne informacije si oglejte letak in uradno spletno stran projekta MANU-SQUARE (www.manusquare.eu).
URL:https://ctop.ijs.si/dogodek/manu-square-project-final-event-23-june-2021/
CATEGORIES:Predstavitveni dogodek
ATTACH;FMTTYPE=image/png:https://ctop.ijs.si/wp-content/uploads/2021/06/the_manufacturing_partnership_in_the_next_eu_framework_programme_horizon_europe_11.png
END:VEVENT
END:VCALENDAR