BEGIN:VCALENDAR
VERSION:2.0
PRODID:-//SRIP Tovarne Prihodnosti - ECPv6.6.0.1//NONSGML v1.0//EN
CALSCALE:GREGORIAN
METHOD:PUBLISH
X-ORIGINAL-URL:https://ctop.ijs.si
X-WR-CALDESC:Events for SRIP Tovarne Prihodnosti
REFRESH-INTERVAL;VALUE=DURATION:PT1H
X-Robots-Tag:noindex
X-PUBLISHED-TTL:PT1H
BEGIN:VTIMEZONE
TZID:Europe/Ljubljana
BEGIN:DAYLIGHT
TZOFFSETFROM:+0100
TZOFFSETTO:+0200
TZNAME:CEST
DTSTART:20210328T010000
END:DAYLIGHT
BEGIN:STANDARD
TZOFFSETFROM:+0200
TZOFFSETTO:+0100
TZNAME:CET
DTSTART:20211031T010000
END:STANDARD
END:VTIMEZONE
BEGIN:VEVENT
DTSTART;TZID=Europe/Ljubljana:20210706T130000
DTEND;TZID=Europe/Ljubljana:20210706T153000
DTSTAMP:20260422T234704
CREATED:20210622T201957Z
LAST-MODIFIED:20210622T201957Z
UID:6189-1625576400-1625585400@ctop.ijs.si
SUMMARY:Obzorje Evropa: Widening Participation and Spreading Excellence
DESCRIPTION:V torek 6. julija 2021 od 19:00 do 15:30 vabljeni na dogodek Obzorje Evropa: Widening Participation and Spreading Excellence\, ki bo potekal preko spleta (WebEx). \nV prvem delu bosta slovensko predsedstvo in predstavnik raziskovalne organizacije predstavila svoje poglede na pomen širitvenega programa. \n\n\n\n\n\n\nDrugi del dogodka bo namenjen predstavitvi izkušenj prejšnjih širitvenih projektov in razpravi o tem\, kako najbolje doseči naslednje ključne cilje programa sodelovanja v programu Horizon Europe Widening. \nV tretjem delu bosta predstavljeni prvi dve cilji delovnega programa Širitev sodelovanja in krepitev evropskega raziskovalnega prostora. \nPodrobnejši program je na vojo TUKAJ. Število udeležencev je omejeno zato pohitite s prijavo TUKAJ.
URL:https://ctop.ijs.si/dogodek/obzorje-evropa-widening-participation-and-spreading-excellence/
LOCATION:ON LINE
CATEGORIES:Predstavitveni dogodek,Seminar
ATTACH;FMTTYPE=image/png:https://ctop.ijs.si/wp-content/uploads/2021/06/graphics_4.png
END:VEVENT
END:VCALENDAR