BEGIN:VCALENDAR
VERSION:2.0
PRODID:-//SRIP Tovarne Prihodnosti - ECPv6.6.0.1//NONSGML v1.0//EN
CALSCALE:GREGORIAN
METHOD:PUBLISH
X-WR-CALNAME:SRIP Tovarne Prihodnosti
X-ORIGINAL-URL:https://ctop.ijs.si
X-WR-CALDESC:Events for SRIP Tovarne Prihodnosti
REFRESH-INTERVAL;VALUE=DURATION:PT1H
X-Robots-Tag:noindex
X-PUBLISHED-TTL:PT1H
BEGIN:VTIMEZONE
TZID:Europe/Ljubljana
BEGIN:DAYLIGHT
TZOFFSETFROM:+0100
TZOFFSETTO:+0200
TZNAME:CEST
DTSTART:20210328T010000
END:DAYLIGHT
BEGIN:STANDARD
TZOFFSETFROM:+0200
TZOFFSETTO:+0100
TZNAME:CET
DTSTART:20211031T010000
END:STANDARD
END:VTIMEZONE
BEGIN:VEVENT
DTSTART;TZID=Europe/Ljubljana:20210901T100000
DTEND;TZID=Europe/Ljubljana:20210901T123000
DTSTAMP:20260422T204541
CREATED:20210721T183253Z
LAST-MODIFIED:20210721T183329Z
UID:6413-1630490400-1630499400@ctop.ijs.si
SUMMARY:EUROPEAN DEFENCE FUND 2021 - Informativni dan za slovenske deležnike
DESCRIPTION:Po pripravljalnih ukrepih na področju obrambnih raziskav (PADR) in Evropskega programa za obrambni industrijski razvoj (EDIDP) je bil ustanovljen Evropski obrambni sklad (EDF) za spodbujanje konkurenčnosti\, učinkovitosti in inovacijske zmogljivosti obrambne tehnološke in industrijske baze po vsej EU. Moralo bi dopolnjevati\, spodbujati in utrjevati skupna prizadevanja in čezmejno sodelovanje med podjetji pri razvoju obrambnih zmogljivosti\, ki se odzivajo na varnostne izzive. ERS bi moral spodbujati tudi boljše izkoriščanje industrijskega potenciala inovacij\, raziskav in tehnološkega razvoja na vsaki stopnji industrijskega življenjskega cikla obrambnih izdelkov in tehnologij. \nNamen dogodka je predstaviti delovni program Evropskega obrambnega sklada 2021 in razpise 2021 v 15 tematskih kategorijah ukrepov\, med katerimi so po potrebi opredeljene raziskovalne teme: \n\nObrambna medicinska podpora\, kemijsko biološko radiološko jedrsko jedro (JRKB)\, biotehnologija in človeški dejavniki;\nInformacijska superiornost;\nNapredni pasivni in aktivni senzorji;\nKibernetika;\nVesolje;\nDigitalna preobrazba;\nMateriali in sestavni deli;\nEnergijska odpornost in okoljski prehod;\nZračni boj;\nZračna in raketna obramba;\nKopenski boj;\nZaščita in mobilnost sil;\nPomorski boj;\nPodvodno vojskovanje;\nSimulacija in trening.\n\nPoleg predstavitve razpisov za zbiranje predlogov bo dogodek predstavil tudi izkušnje uspešnih koordinatorjev projektov v prejšnjih razpisih EDIDP in PADR ter razpravljal o oblikovanju partnerstev na ravni EU v obrambnem sektorju. \nZa prijavo obiščite https://www.sbra.be/en/content/european-defence-fund-2021-information-day-slovenian-stakeholders.
URL:https://ctop.ijs.si/dogodek/european-defence-fund-2021-informativni-dan-za-slovenske-deleznike/
CATEGORIES:Predstavitveni dogodek,Seminar
ATTACH;FMTTYPE=image/png:https://ctop.ijs.si/wp-content/uploads/2021/07/website_background1-1.png
END:VEVENT
END:VCALENDAR