BEGIN:VCALENDAR
VERSION:2.0
PRODID:-//SRIP Tovarne Prihodnosti - ECPv6.6.0.1//NONSGML v1.0//EN
CALSCALE:GREGORIAN
METHOD:PUBLISH
X-ORIGINAL-URL:https://ctop.ijs.si
X-WR-CALDESC:Events for SRIP Tovarne Prihodnosti
REFRESH-INTERVAL;VALUE=DURATION:PT1H
X-Robots-Tag:noindex
X-PUBLISHED-TTL:PT1H
BEGIN:VTIMEZONE
TZID:Europe/Ljubljana
BEGIN:DAYLIGHT
TZOFFSETFROM:+0100
TZOFFSETTO:+0200
TZNAME:CEST
DTSTART:20210328T010000
END:DAYLIGHT
BEGIN:STANDARD
TZOFFSETFROM:+0200
TZOFFSETTO:+0100
TZNAME:CET
DTSTART:20211031T010000
END:STANDARD
END:VTIMEZONE
BEGIN:VEVENT
DTSTART;TZID=Europe/Ljubljana:20211012T080000
DTEND;TZID=Europe/Ljubljana:20211013T170000
DTSTAMP:20260422T191536
CREATED:20210921T114105Z
LAST-MODIFIED:20210921T114105Z
UID:6871-1634025600-1634144400@ctop.ijs.si
SUMMARY:EU – South MED Cluster Matchmaking Event
DESCRIPTION:Odprte so prijave za dogodek združevanja grozdov EU – South MED\, ki bo potekal od 12. do 13. oktobra 2021 v okviru  „TechDays-Match-Up!“ \, ki ga organizira The next society. Dogodek bodo soorganizirali Evropska komisija\, Naložbena mreža ANIMA\, Ceipiemonte in Evropska platforma za sodelovanje pri grozdih (ECCP). Cilj je olajšati sodelovanje med South-MED in EU inovatorji prek posrednika in podpore grozdov. \nDogodek je odprt za grozde\, organizacije poslovnih mrež in MSP\, ki se želijo vključiti v dejavnosti sodelovanja s South-MED. Udeležence spodbujajo na naslednjih področjih: kmetijstvo in živilska industrija; Ustvarjalne industrije in turizem; Digitalne rešitve; Trajnostna energija in Greentech; Promet in mobilnost. \nRok za prijavo je 22. 9. 2021 \nPRIJAVA >>
URL:https://ctop.ijs.si/dogodek/eu-south-med-cluster-matchmaking-event/
CATEGORIES:Predstavitveni dogodek
ATTACH;FMTTYPE=image/jpeg:https://ctop.ijs.si/wp-content/uploads/2021/09/EU-South-MED.jpg
END:VEVENT
END:VCALENDAR