BEGIN:VCALENDAR
VERSION:2.0
PRODID:-//SRIP Tovarne Prihodnosti - ECPv6.6.0.1//NONSGML v1.0//EN
CALSCALE:GREGORIAN
METHOD:PUBLISH
X-WR-CALNAME:SRIP Tovarne Prihodnosti
X-ORIGINAL-URL:https://ctop.ijs.si
X-WR-CALDESC:Events for SRIP Tovarne Prihodnosti
REFRESH-INTERVAL;VALUE=DURATION:PT1H
X-Robots-Tag:noindex
X-PUBLISHED-TTL:PT1H
BEGIN:VTIMEZONE
TZID:Europe/Ljubljana
BEGIN:DAYLIGHT
TZOFFSETFROM:+0100
TZOFFSETTO:+0200
TZNAME:CEST
DTSTART:20210328T010000
END:DAYLIGHT
BEGIN:STANDARD
TZOFFSETFROM:+0200
TZOFFSETTO:+0100
TZNAME:CET
DTSTART:20211031T010000
END:STANDARD
END:VTIMEZONE
BEGIN:VEVENT
DTSTART;TZID=Europe/Ljubljana:20211027T090000
DTEND;TZID=Europe/Ljubljana:20211027T090000
DTSTAMP:20260422T180624
CREATED:20211025T121416Z
LAST-MODIFIED:20211025T121732Z
UID:7219-1635325200-1635325200@ctop.ijs.si
SUMMARY:BLUEAIR spletni dogodek
DESCRIPTION:BLUEAIR lansira dogodek katerega cilj  je zagotoviti katalizator\, ki bo zbral ustrezne zainteresirane strani in zagotavljanje uspešnega zagona projekta z namenom okrepitve institucionalnih zmogljivosti ozemelj ADRION pri opredelitvi skupne politike S3 o Modrem rasti in uskladitev lokalnih pobud s strategijo EUSAIR\, skozi razvoj makroregionalnega S3 o Modri rasti in vzpostavitvi skupnosti inovacij. \nVABILO in PROGRAM >>
URL:https://ctop.ijs.si/dogodek/blueair-spletni-dogodek/
LOCATION:ON LINE
CATEGORIES:Predstavitveni dogodek
ATTACH;FMTTYPE=image/png:https://ctop.ijs.si/wp-content/uploads/2021/10/BLUEAIR-press-release1.png
END:VEVENT
END:VCALENDAR