BEGIN:VCALENDAR
VERSION:2.0
PRODID:-//SRIP Tovarne Prihodnosti - ECPv6.6.0.1//NONSGML v1.0//EN
CALSCALE:GREGORIAN
METHOD:PUBLISH
X-WR-CALNAME:SRIP Tovarne Prihodnosti
X-ORIGINAL-URL:https://ctop.ijs.si
X-WR-CALDESC:Events for SRIP Tovarne Prihodnosti
REFRESH-INTERVAL;VALUE=DURATION:PT1H
X-Robots-Tag:noindex
X-PUBLISHED-TTL:PT1H
BEGIN:VTIMEZONE
TZID:Europe/Ljubljana
BEGIN:DAYLIGHT
TZOFFSETFROM:+0100
TZOFFSETTO:+0200
TZNAME:CEST
DTSTART:20220327T010000
END:DAYLIGHT
BEGIN:STANDARD
TZOFFSETFROM:+0200
TZOFFSETTO:+0100
TZNAME:CET
DTSTART:20221030T010000
END:STANDARD
END:VTIMEZONE
BEGIN:VEVENT
DTSTART;TZID=Europe/Ljubljana:20220407T130000
DTEND;TZID=Europe/Ljubljana:20220407T140000
DTSTAMP:20260422T030412
CREATED:20220406T185506Z
LAST-MODIFIED:20220406T185506Z
UID:8544-1649336400-1649340000@ctop.ijs.si
SUMMARY:Obzorje Evropa: steber II\, grozd 5: Podnebje\, energija in mobilnost
DESCRIPTION:Vljudno vabljeni na predstavitev: Obzorje Evropa: steber II\, grozd 5: Podnebje\, energija in mobilnost v četrtek\, 7. aprila 2022\, ob 13:00 preko spletnega sistema Zoom. \nPrilagamo program s povezavo na dogodek in seznam razpisov za področje ‘Podnebje\, energija in mobilnost’\, ki so aktualni v letu 2022. Predstavitev je priložnost za vse\, ki boste v tem letu prijavljali projekte iz področja ‘Podnebje\, energija in mobilnost’\, da pridobite potrebne informacije in nacionalnim kontaktnim osebam postavite vprašanja vezana na konkretne razpise področja. \n Vsi\, ki morda že imate vprašanja vezana na razpise področja ‘Podnebje\, energija in mobilnost’\, ste vabljeni\, da jih do torka 5. aprila pošljete na mail: Alma.Mehle@ijs.si. Vprašanja bodo pred dogodkom posredovali vabljenim predavateljem in predavateljicam. \nDogodek bo potekal v slovenščini. \n Vabljeni tudi\, da si ogledate splošno predstavitev področja Podnebje\, energija in mobilnost\, katero je 3. februarja 2022 pripravila Evropska komisija\, povezava: https://ec.europa.eu/info/research-and-innovation/events/upcoming-events/horizon-europe-info-days/cluster-5_en
URL:https://ctop.ijs.si/dogodek/obzorje-evropa-steber-ii-grozd-5-podnebje-energija-in-mobilnost/
CATEGORIES:Predstavitveni dogodek
ATTACH;FMTTYPE=image/png:https://ctop.ijs.si/wp-content/uploads/2021/03/Horizon_Europe_poster71.png
END:VEVENT
END:VCALENDAR