BEGIN:VCALENDAR
VERSION:2.0
PRODID:-//SRIP Tovarne Prihodnosti - ECPv6.6.0.1//NONSGML v1.0//EN
CALSCALE:GREGORIAN
METHOD:PUBLISH
X-ORIGINAL-URL:https://ctop.ijs.si
X-WR-CALDESC:Events for SRIP Tovarne Prihodnosti
REFRESH-INTERVAL;VALUE=DURATION:PT1H
X-Robots-Tag:noindex
X-PUBLISHED-TTL:PT1H
BEGIN:VTIMEZONE
TZID:Europe/Ljubljana
BEGIN:DAYLIGHT
TZOFFSETFROM:+0100
TZOFFSETTO:+0200
TZNAME:CEST
DTSTART:20220327T010000
END:DAYLIGHT
BEGIN:STANDARD
TZOFFSETFROM:+0200
TZOFFSETTO:+0100
TZNAME:CET
DTSTART:20221030T010000
END:STANDARD
END:VTIMEZONE
BEGIN:VEVENT
DTSTART;TZID=Europe/Ljubljana:20221208T100000
DTEND;TZID=Europe/Ljubljana:20221208T140000
DTSTAMP:20260421T135017
CREATED:20221114T144900Z
LAST-MODIFIED:20221114T145302Z
UID:11314-1670493600-1670508000@ctop.ijs.si
SUMMARY:Psihološka varnost v podjetjih
DESCRIPTION:SRIP MATPRO in SRIP TOP VABITA \nna strokovno srečanje in delavnico\nPSIHOLOŠKA VARNOST V PODJETJIH\nUvajanje sprememb v podjetja \nčetrtek\, 8. 12. 2022\, od 10.00 do 14.00\nGZS\, Dvorana G \nSmo v zelo hitro- spreminjajočih in negotovih časih\, ker nihče med nami ne more s popolno gotovostjo napovedati kaj se bo zgodilo. Negotovost\, ki vlada v širši družbi\, trenutno predvsem zaradi energetske krize in vojne v Ukrajini\, se seli tudi v naša podjetja in slabo vpliva na počutje\, motivacijo in kreativnost naših sodelavk in sodelavcev. Hkrati pa v podjetjih uvajamo nove tehnologije in veliko pozornosti namenjamo zelenemu in digitalnemu prehodu. Vse to so velike spremembe\, ki povzročajo našim  sodelavcem\, našim zaposlenim  še dodatne skrbi in  stiske. \nZato se bomo na naslednji delavnici pogovarjali o psihološki varnosti\, ki je temelj in osnova\, na kateri gradimo vse ostalo pri zaposlenih. Če varnosti ni\, težko razmišljajo o razvoju podjetja\, kot tudi o lastnem kariernem razvoju. \nNa delavnici bomo spoznali elemente psihološke varnosti in razumeli principe in ozadje delovanja ljudi. Spoznali bomo različne načine\, tehnike in principe grajenja psihološke varnosti v podjetjih\, ki vam bodo pomagali\, da v vaših podjetjih ustvarite občutek varnosti za zaposlene in jih pripravite za naslednje korake\, ki jih zahtevajo trenutne razmere in razvoj. \nPROGRAM (10.00 – 13.00\, z vmesnim odmorom) \n1 del: Uvod in psihološka varnost v podjetjih \n\ndel: Načini\, tehnike in principi grajenja psihološke varnosti v podjetjih\ndel: Deljenje dobrih praks in največjih izzivov\ndel : Osebni načrt in zaključek\n\n13.00 – 14.00 Pogostitev\, mreženje in izmenjava izkušenj med udeleženci \nNačin dela: \nNa delavnici boste spoznali najnovejše teorije in trende\, predvsem pa bo poudarek na praktičnem in interaktivnem delu. Predavateljica bo spodbudila deljenje dobrih praks\, ki vam bodo dale potrditve in odprle nova razmišljanja in ideje\, kako lahko izboljšate lastna delovna okolja in podjetja. \nO izvajalki delavnice: \nTina Kastelic\, univ. dipl. psihologinja\, je direktorica podjetja Kompetenca d.o.o.\, strateška HR svetovalka in coachinga z več kot 15-letnimi izkušnjami s področja razvoja kadrov. Različnim podjetjem pomaga pri spremembi organizacijske kulture\, uvajanju kompleksnih kadrovskih rešitev (kompetenčni modeli\, mentorski sistemi\, sistemi nasledstev in nagrajevanja\, ipd.). Ima poglobljeno znanje z ocenjevanjem posameznikov in timov. Izvaja številne delavnice s poudarkom na kadrovskih\, vodstvenih in socialnih tematikah. \nJe kadrovski partner za področje SRIP MATPRO\, SRIP Top\, sodeluje tudi z IKT horizontalno mrežo. Prav tako je bila HR partner znotraj kompetenčnih centrov (KOC) na področju orodjarstva\, v zadnjem KOC-u pa za področje IKT. V okviru GRS v sodelovanju z ZIT\, je razvila tudi program in vodi šolo za kadrovike. \nSvoje znanje se pridobila s študijem psihologije\, poglobila z NLP-jem (neurolingvističnim programiranjem)\, zaključila Transakcijsko Analizo\, medicinsko hipnozi in psihodramo. Zaključila je tudi Ganaral manager program na IEDC Bled in usposabljanje na področju merjenja učinkov projektov v HR (ROI). \nPRIJAVE \nŠtevilo mest je omejeno. Prijave so obvezne prek spletnega obrazca. \nRok za prijavo: torek\, 6. 12. 2022 \nDogodek je namenjen HR strokovnjakom v podjetjih. \nVljudno vabljeni!
URL:https://ctop.ijs.si/dogodek/11314/
LOCATION:Gospodarska zbornica Slovenije\, Dvorana G\, Dimičeva 13\, Ljubljana\, 1000
CATEGORIES:Predstavitveni dogodek
ATTACH;FMTTYPE=image/jpeg:https://ctop.ijs.si/wp-content/uploads/2022/11/pomen_psiholoske_varnosti_notranja_prva1.jpg
END:VEVENT
END:VCALENDAR