BEGIN:VCALENDAR
VERSION:2.0
PRODID:-//SRIP Tovarne Prihodnosti - ECPv6.6.0.1//NONSGML v1.0//EN
CALSCALE:GREGORIAN
METHOD:PUBLISH
X-WR-CALNAME:SRIP Tovarne Prihodnosti
X-ORIGINAL-URL:https://ctop.ijs.si
X-WR-CALDESC:Events for SRIP Tovarne Prihodnosti
REFRESH-INTERVAL;VALUE=DURATION:PT1H
X-Robots-Tag:noindex
X-PUBLISHED-TTL:PT1H
BEGIN:VTIMEZONE
TZID:Europe/Ljubljana
BEGIN:DAYLIGHT
TZOFFSETFROM:+0100
TZOFFSETTO:+0200
TZNAME:CEST
DTSTART:20230326T010000
END:DAYLIGHT
BEGIN:STANDARD
TZOFFSETFROM:+0200
TZOFFSETTO:+0100
TZNAME:CET
DTSTART:20231029T010000
END:STANDARD
END:VTIMEZONE
BEGIN:VEVENT
DTSTART;TZID=Europe/Ljubljana:20230314T093000
DTEND;TZID=Europe/Ljubljana:20230314T133000
DTSTAMP:20260421T074643
CREATED:20230308T114853Z
LAST-MODIFIED:20230308T114853Z
UID:12164-1678786200-1678800600@ctop.ijs.si
SUMMARY:INTEGRADDE Final Event: The future of European Manufacturing
DESCRIPTION:V torek\, 14. marca 2023 Projekt H2020 INTEGRADDE ima svoj zaključni dogodek v Bruslju (hibridni\, format). Dogodek bo potekal od 9.30 do 14.30 v La Tricoterie. Dogodek podpirata European Factories of the Future Research Association (EFFRA) in European Association of the Machine Tool Industries and related Manufacturing Technologies (CECIMO). \nKonferenca (ki bo vključevala različne razprave in kosilo za mreženje) bo združila oblikovalce politik na visoki ravni\, industrijske akterje\, raziskovalne ustanove in druge pomembne zainteresirane strani\, da bi izmenjali mnenja o trenutno najbolj perečih vprašanjih\, povezanih s 3D-tiskanjem v proizvodnem sektorju. \nDogodek bo ponudil prostor za mreženje podobno mislečih ljudi v predelovalni industriji\, hkrati pa bo predstavil najnovejši napredek v aditivni proizvodnji\, dosežke projekta in prihajajoče priložnosti preizkusa pred naložbo iz sorodnih projektov EU za tehnološke inovacije. Dogodek bo ponudil tudi pregled trenutne in prihodnje postavitve 3D-tiskanja z vidika nekaterih najbolj priznanih glasov v industriji. \nPodroben dnevni red dogodka najdete tukaj>>.
URL:https://ctop.ijs.si/dogodek/integradde-final-event-the-future-of-european-manufacturing/
CATEGORIES:Predstavitveni dogodek
ATTACH;FMTTYPE=image/jpeg:https://ctop.ijs.si/wp-content/uploads/2023/03/integradde_final_event.jpg
END:VEVENT
END:VCALENDAR