BEGIN:VCALENDAR
VERSION:2.0
PRODID:-//SRIP Tovarne Prihodnosti - ECPv6.6.0.1//NONSGML v1.0//EN
CALSCALE:GREGORIAN
METHOD:PUBLISH
X-ORIGINAL-URL:https://ctop.ijs.si
X-WR-CALDESC:Events for SRIP Tovarne Prihodnosti
REFRESH-INTERVAL;VALUE=DURATION:PT1H
X-Robots-Tag:noindex
X-PUBLISHED-TTL:PT1H
BEGIN:VTIMEZONE
TZID:Europe/Ljubljana
BEGIN:DAYLIGHT
TZOFFSETFROM:+0100
TZOFFSETTO:+0200
TZNAME:CEST
DTSTART:20230326T010000
END:DAYLIGHT
BEGIN:STANDARD
TZOFFSETFROM:+0200
TZOFFSETTO:+0100
TZNAME:CET
DTSTART:20231029T010000
END:STANDARD
END:VTIMEZONE
BEGIN:VEVENT
DTSTART;TZID=Europe/Ljubljana:20230412T090000
DTEND;TZID=Europe/Ljubljana:20230412T110000
DTSTAMP:20260421T060624
CREATED:20230403T145601Z
LAST-MODIFIED:20230403T145601Z
UID:12388-1681290000-1681297200@ctop.ijs.si
SUMMARY:Predstavitev inovacijskih vavčerjev
DESCRIPTION:V okviru projekta CIRCI –  Uvajanje krožnega gospodarstva v industrijske procese\, vas prijazno vabimo na predstavitev javnega razpisa za inovacijske vavčerje\, ki bo potekala v sredo\, 12.4.2023 s pričetkom ob 9.00 na povezavi MS Teams. Cilj srečanja je predstavitev inovacijskih vavčerjev\, ki podpirajo projekte z novimi načini uporabe stranskih materialov nastalih v industrijskih procesih\, ki smo jih identificirali v procesu priprave podatkovne baze projekta CIRCI. \nSrečanje bomo pričeli s predstavitvijo projekta CIRCI ter njegovega glavnega produkta – CIRCI podatkovne baze stranskih materialov v proizvodnji\, s poudarkom na sledečih industrijah: elektroindustrija\, plastičarska industrija in kovinska industrija. Organizatorji bomo z udeleženci delili podrobnosti glede pravil in dokumentacije potrebne za prijavo na razpis\, ter odgovarjali na morebitna vprašanja. \nOkvirna agenda: \n\nPredstavitev projekta CIRCI\nOtvoritev razpisa za inovacijske vavčerje\nBaza podatkov sekundarnih materialov\nQ & A\n\nRazpis bo odprt od 12.4. do 15.5.2023.\n \n>> Prijava na dogodek << \nDogodek je brezplačen in je namenjen zainteresiranim organizacijam\, ki se želijo vključiti v proces krožnega gospodarstva. Vašo udeležbo potrdite preko prijavnice na zgornji povezavi do 11. aprila 2023.
URL:https://ctop.ijs.si/dogodek/predstavitev-inovacijskih-vavcerjev/
CATEGORIES:Predstavitveni dogodek
ATTACH;FMTTYPE=image/png:https://ctop.ijs.si/wp-content/uploads/2023/04/Predstavitev_inovacijskih_vavcerjev.png
END:VEVENT
END:VCALENDAR