BEGIN:VCALENDAR
VERSION:2.0
PRODID:-//SRIP Tovarne Prihodnosti - ECPv6.6.0.1//NONSGML v1.0//EN
CALSCALE:GREGORIAN
METHOD:PUBLISH
X-WR-CALNAME:SRIP Tovarne Prihodnosti
X-ORIGINAL-URL:https://ctop.ijs.si
X-WR-CALDESC:Events for SRIP Tovarne Prihodnosti
REFRESH-INTERVAL;VALUE=DURATION:PT1H
X-Robots-Tag:noindex
X-PUBLISHED-TTL:PT1H
BEGIN:VTIMEZONE
TZID:Europe/Ljubljana
BEGIN:DAYLIGHT
TZOFFSETFROM:+0100
TZOFFSETTO:+0200
TZNAME:CEST
DTSTART:20230326T010000
END:DAYLIGHT
BEGIN:STANDARD
TZOFFSETFROM:+0200
TZOFFSETTO:+0100
TZNAME:CET
DTSTART:20231029T010000
END:STANDARD
END:VTIMEZONE
BEGIN:VEVENT
DTSTART;TZID=Europe/Ljubljana:20230420T100000
DTEND;TZID=Europe/Ljubljana:20230420T113000
DTSTAMP:20260421T060455
CREATED:20230419T131735Z
LAST-MODIFIED:20230419T131735Z
UID:12667-1681984800-1681990200@ctop.ijs.si
SUMMARY:3. Informativni dan za Javni razpis - »Podpora zagonskim\, mikro\, malim in srednjim podjetjem pri strateški trajnostni in krožni transformaciji poslovanja v letih 2022-2025«
DESCRIPTION:Javna agencija SPIRIT Slovenija pripravlja 3. Informativni dan za Javni razpis – »Podpora zagonskim\, mikro\, malim in srednjim podjetjem pri strateški trajnostni in krožni transformaciji poslovanja v letih 2022-2025«. \n3. Informativni dan je prioritetno namenjen potencialnim prijaviteljem\, ki se želijo prijaviti na SKLOP II (zagonska in mikro podjetja). \nInformativni dan bo potekal preko spleta na ZOOM platformi. \nVeč informacij o javnem razpisu\nNa 3. informativnem dnevu\, ki je prioritetno namenjen potencialnim prijaviteljem na SKLOP II\, bo podrobno predstavljen javni razpis\, pogoji za kandidiranje\, merila za ocenjevanje ter vloga in način prijave\, predstavniki SPIRIT Slovenija pa bodo odgovarjali na vprašanja udeležencev. \nUdeležba je brezplačna. \nPrijava: Za udeležbo na dogodku je obvezna prijava. Prijavni obrazec je na voljo spodaj pod opisom dogodka. Prijave zbirajo do 20. 4. 2023\, do 8.30 ure. \nVsi prijavljeni udeleženci bodo na kontaktni mail prejeli ZOOM povezavo za udeležbo najkasneje 20. 4. 2023\, do 9.00 ure.
URL:https://ctop.ijs.si/dogodek/3-informativni-dan-za-javni-razpis-podpora-zagonskim-mikro-malim-in-srednjim-podjetjem-pri-strateski-trajnostni-in-krozni-transformaciji-poslovanja-v-letih-2022-2025/
CATEGORIES:Predstavitveni dogodek
ATTACH;FMTTYPE=image/jpeg:https://ctop.ijs.si/wp-content/uploads/2023/04/dogodki_za_podjetnike1.jpg
END:VEVENT
END:VCALENDAR