BEGIN:VCALENDAR
VERSION:2.0
PRODID:-//SRIP Tovarne Prihodnosti - ECPv6.6.0.1//NONSGML v1.0//EN
CALSCALE:GREGORIAN
METHOD:PUBLISH
X-ORIGINAL-URL:https://ctop.ijs.si
X-WR-CALDESC:Events for SRIP Tovarne Prihodnosti
REFRESH-INTERVAL;VALUE=DURATION:PT1H
X-Robots-Tag:noindex
X-PUBLISHED-TTL:PT1H
BEGIN:VTIMEZONE
TZID:Europe/Ljubljana
BEGIN:DAYLIGHT
TZOFFSETFROM:+0100
TZOFFSETTO:+0200
TZNAME:CEST
DTSTART:20230326T010000
END:DAYLIGHT
BEGIN:STANDARD
TZOFFSETFROM:+0200
TZOFFSETTO:+0100
TZNAME:CET
DTSTART:20231029T010000
END:STANDARD
END:VTIMEZONE
BEGIN:VEVENT
DTSTART;TZID=Europe/Ljubljana:20230517T100000
DTEND;TZID=Europe/Ljubljana:20230517T123000
DTSTAMP:20260421T042452
CREATED:20230419T134524Z
LAST-MODIFIED:20230419T134524Z
UID:12673-1684317600-1684326600@ctop.ijs.si
SUMMARY:Dan meroslovja 2023
DESCRIPTION:Ministrstvo za gospodarstvo\, turizem in šport ter Urad RS za meroslovje in Sekcija proizvajalcev\, uporabnikov in distributerjev merilne opreme – SiMER vas ob svetovnem dnevu meroslovja\, ko obeležujemo podpis Metrske konvencije leta 1875 v Parizu\, vabita\, da se pridružite na Dnevu meroslovja 2023\, v sredo 17. maja 2023. od 10. do 12.20 ure na GZS\, Dimičeva ulica 13\, Ljubljana – v dvorani A\, na temo:  \n»Meritve\, ki podpirajo globalni prehranski sistem«.        \nDogodek je namenjen vsem\, ki delujejo na področju meritev\, standardov\, gospodarstva\, prehrane\, transporta in kontrole ter tudi tistim\, ki tovrstna znanja prenašate na dijake in študente. \nUdeležba na dogodku je brezplačna. \nPRIJAVA
URL:https://ctop.ijs.si/dogodek/dan-meroslovja-2023/
CATEGORIES:Predstavitveni dogodek
ATTACH;FMTTYPE=image/png:https://ctop.ijs.si/wp-content/uploads/2023/04/dan_meroslovja1.png
END:VEVENT
END:VCALENDAR